{"text_format":"1","workbook":"xlsx","n_sheets":4,"sheets":["Project Information","SBUH Model","SCS,SBUH Equations","Lookups, Constants"],"not_rendered":{"charts":0,"images":1,"macros":1,"external_links":0,"defined_names":21,"comments":0,"pivot_tables":0},"unopened":[],"bounds":{"document_bytes":16777216,"sheet_cells":100000,"rows_first":2000,"rows_last":500,"rows_between":2000,"halvings":0,"cell_chars":16384,"cell_head_chars":4096},"cells_cut":0,"cells_raw":0,"read":"whole","date_system":"1900"}

{"sheet":"Project Information","index":0,"n_rows":44,"n_cols":14,"rows_kept":44,"cut":false,"hidden":false,"merged":[[29,0,29,1],[18,0,18,1],[42,0,42,1],[43,0,43,1],[38,0,38,1],[37,0,37,1],[36,0,36,1],[30,0,30,1],[28,0,28,1],[41,0,41,1],[6,2,6,3],[7,2,7,3],[20,0,20,1],[19,0,19,1],[17,0,17,1]]}
[null,"Central Coast Region"]
[null,"Stormwater Control Measure"]
[null,"Sizing Calculator",null,null,null,null,"Version: 2/26/2014"]
[]
[]
[null,"1. Project Information",null,null,null,null,null,null,null,null,null,null,"Ranges","Row"]
[null,"Project name: ",null,null,null,null,null,null,null,null,null,null,"DMA-UL",{"$f":"ROW(start_DMA)+1","v":19}]
[null,"Project location: ",null,null,null,null,null,null,null,null,null,null,"DMA-LR",{"$f":"ROW(end_DMA)-1","v":19}]
[null,"Tier 2/Tier 3: ",null,"Tier 3 - Retention",null,null,null,null,null,null,null,null,"SCM-UL",{"$f":"ROW(start_SCM)+1","v":30}]
[null,"Design rainfall depth (in): ",null,2,null,null,null,null,null,null,null,null,"SCM-LR",{"$f":"ROW(end_SCM)-1","v":30}]
[null,"Total project area (ft2): ",null,null,null,null,null,null,null,null,null,null,"OUT-UL",{"$f":"ROW(start_Output)+1","v":38}]
[null,"Total new impervious area (ft2): ",null,null,null,null,null,null,null,null,null,null,"OUT-LR",{"$f":"ROW(end_Output)-1","v":38}]
[null,"Total replaced impervious in a USA (ft2): "]
[null,"Total replaced impervious not in a USA (ft2): "]
[null,"Total pervious/landscape area (ft2): "]
[]
[null,"2. DMA Characterization"]
["Name",null,"DMA Type","Area (ft2)","Surface Type","New, Replaced?","Connection","CN","SCM CODE (DMA_CN_Weight)"]
[null,null,null,null,null,null,null,{"$f":"IF(E19=\"\",\"\",VLOOKUP(E19,'Lookups, Constants'!$A$14:$B$23,2,FALSE))","v":""},{"$f":"IF(H19=\"\",\"\",IF(H19=98,G19 & \"_\" & VLOOKUP(C19,'Lookups, Constants'!$A$4:$B$7,2,FALSE)&\"_\"&VLOOKUP(F19,'Lookups, Constants'!$A$43:$B$45,2,FALSE),G19 & \"_\" & H19))","v":""}]
["end_DMA"]
["DMA Summary Area Check"]
[null,"Total project impervious area (ft2): ",null,{"$f":"SUMIF($H$19:H20,'Lookups, Constants'!$B$14,$D$19:D20)","v":0}]
[null,"New impervious area (ft2): ",null,{"$f":"SUM(IF($H$19:H20=98,IF($F$19:F20=\"New\",$D$19:D20,\"\"),\"\"))","v":0}]
[null,"Replaced impervious within a USA (ft2): ",null,{"$f":"SUM(IF($H$19:H20=98,IF($F$19:F20=\"Replaced within a USA\",$D$19:D20,\"\"),\"\"))","v":0}]
[null,"Replaced impervious not in a USA (ft2): ",null,{"$f":"SUM(IF($H$19:H20=98,IF($F$19:F20=\"Replaced\",$D$19:D20,\"\"),\"\"))","v":0}]
[null,"Total pervious/landscape area (ft2): ",null,{"$f":"SUMIF($H$19:H20,\"<98\",$D$19:D20)","v":0}]
[null,null,null,null,null,null,null,null,"_2SCM_NEW","_2SCM_RUSA","_2SCM_RPL","_68","_89"]
[null,"3. SCM Characterization",null,null,null,null,null,null,"New Imp Area","Rpl Imp USA","Rpl Imp non-USA","Landscape","Solid unit pavers","SUM"]
["Name",null,"SCM Type","Safety Factor","SCM Soil Type","Infilt. Rate (in/hr)","Area (ft2)"]
[null,null,null,{"$f":"IF(C30=\"\",\"\",IF(C30=\"Bioretention\",1,2))","v":""},null,null,null,{"$f":"IF(A30=\"\",\"\",A30)","v":""},{"$f":"IF(H30=\"\",\"\",SUMIF($I$19:$I$20,$A30 & I$27,$D$19:$D$20))","v":""},{"$f":"IF(H30=\"\",\"\",SUMIF($I$19:$I$20,$A30 & J$27,$D$19:$D$20))","v":""},{"$f":"IF(H30=\"\",\"\",SUMIF($I$19:$I$20,$A30 & K$27,$D$19:$D$20))","v":""},{"$f":"IF(H30=\"\",\"\",SUMIF($I$19:$I$20,$A30 & L$27,$D$19:$D$20))","v":""},{"$f":"IF(H30=\"\",\"\",SUMIF($I$19:$I$20,$A30 & M$27,$D$19:$D$20))","v":""},{"$f":"SUM(I30:M30)","v":0}]
["end_SCM",null,null,null,null,null,null,null,{"$f":"IF(H31=\"\",\"\",SUMIF($I$19:$I$20,$A31 & I$27,$D$19:$D$20))","v":""},{"$f":"IF(H31=\"\",\"\",SUMIF($I$19:$I$20,$A31 & J$27,$D$19:$D$20))","v":""},{"$f":"IF(H31=\"\",\"\",SUMIF($I$19:$I$20,$A31 & K$27,$D$19:$D$20))","v":""},{"$f":"IF(H31=\"\",\"\",SUMIF($I$19:$I$20,$A31 & L$27,$D$19:$D$20))","v":""},{"$f":"IF(H31=\"\",\"\",SUMIF($I$19:$I$20,$A31 & M$27,$D$19:$D$20))","v":""}]
[null,"4. Run SBUH Model"]
[]
[]
[]
[null,"5. SCM Minimum Sizing Requirements"]
["SCM Name",null,"Min. Required Storage Vol. (ft3)","Depth Below Underdrain (ft)","Drain Time (hours)","Results are out of date."]
[null,null,null,null,null,"Click 'Launch Model' to update."]
["end_Output"]
[]
[null,"6. Self-Retaining Area Sizing Checks"]
["Self-Retaining DMA Name",null,"Self-Retaining DMA Area (ft2)","Tributary DMA Name","Tributary DMA Area (ft2)","Tributary / SRA Area Ratio "]
[]
["end_SRA"]

{"sheet":"SBUH Model","index":1,"n_rows":741,"n_cols":16,"rows_kept":741,"cut":false,"hidden":false,"merged":[[18,4,18,5],[18,6,18,7],[18,8,18,9]]}
["SCM Hardpan"]
[]
["SBUH Parameters: ",null,null,null,null,null,null,null,null,null,null,null,"SCM Parameters: "]
[null,null,"Design rainfall depth (in) = ",{"$f":"'Project Information'!$D$10","v":2},null,null,null,null,null,null,null,null,null,"Plan area (ft2) = ",900]
[null,null,"Model time step (min) = ",{"$f":"A22-A21","v":10},null,null,null,null,null,null,null,null,null,"Sizing factor = ",{"$f":"O4/SUM(D8:D12)","v":8.1818181818181818E-2}]
[]
[null,null,"DMA Summary","Area (ft2)","CN","S","Weighting ",null,null,null,null,null,null,"Design infiltration rate (in/hr) = ",0.75]
[null,null,"New impervious area: ",11000,98,{"$f":"(1000/E8)-10","v":0.20408163265306101},1,null,null,null,null,null,null,"Safety factor = ",1]
[null,null,"Replaced impervious in USA: ",0,98,{"$f":"(1000/E9)-10","v":0.20408163265306101},0,null,null,null,null,null,null,"SCM Exfiltration rate (cfs) = ",{"$f":"O4*(O7/12/3600)","v":1.5625E-2}]
[null,null,"Replaced impervious not USA: ",0,98,{"$f":"(1000/E10)-10","v":0.20408163265306101},0.5,null,null,null,null,null,null,"Drainage time (hours) = ",{"$f":"(P165/O9)/3600","v":11.671327135719395}]
[null,null,"Landscape area: ",0,68,{"$f":"(1000/E11)-10","v":4.7058823529411757},1,null,null,null,null,null,null,"Minimum storage volume (ft3) = ",{"$f":"MAX(P21:P741)*O8*IF(O10>48,1.2,1)","v":770.67411508503574}]
[null,null,"Solid unit pavers set in sand: ",0,89,{"$f":"(1000/E12)-10","v":1.2359550561797761},1,null,null,null,null,null,null,"Gravel volume (ft3) = ",{"$f":"O11/'Lookups, Constants'!$F$3","v":1926.6852877125893}]
[null,null,"Non-runoff generating area: ",{"$f":"SUMIF('Project Information'!$H$19:H20,\"<69\",'Project Information'!$D$19:D20)","v":0},"N/A","N/A","N/A",null,null,null,null,null,null,"Gravel depth (ft) = ",{"$f":"O12/O4","v":2.1407614307917657}]
[]
[null,null,"Travel path length (ft) = ",{"$f":"SQRT(2*SUM(D8,D11:D13))","v":148.32396974191326},null,null,null,null,null,null,null,null,null,null,"% inflow that "]
[null,null,"Time of concentration (min) = ",{"$f":"MAX(5,60*0.007*(0.011*D15)^0.8/D4^0.5/0.005^0.4)","v":5},"(rain/runoff)",null,"(rain/runoff)",null,"(rain/runoff)",null,null,null,"runoff %","direct rain vol","is exfiltrated","(max/total vol.)"]
[null,null,null,null,{"$f":"MAX(E21:E741)/$D$4","v":0.88717751251443977},null,{"$f":"MAX(G21:G741)/$D$4","v":9.7238895558223348E-2},null,{"$f":"MAX(I21:I741)/$D$4","v":0.5139815831714114},null,null,null,{"$f":"SUM(M21:M741)/(($D$4/12)*SUM(D$8:D$12))","v":0.88717751251444021},{"$f":"SUM(N21:N741)","v":149.99999999999983},{"$f":"-SUM(O21:O741)/SUM(M21:N741)","v":0.99999999999999889},{"$f":"MAX(P21:P741)/SUM($M$21:$N$741)","v":0.43381792261400354}]
["SBUH Runoff Calculations",null,null,null,null,null,null,null,null,null,null,null,"Bioretention Hydraulics"]
[null,null,null,null,"Impervious",null,"Landscape",null,"Solid unit pavers set in sand"]
["Time (minutes)","Distribution \n(Type I)","Rainfall Depth (in)","Cumulative Rainfall (in)","Cumulative Runoff Depth (in)","Instantaneous Runoff (in)","Cumulative Runoff Depth (in)","Instantaneous Runoff (in)","Cumulative Runoff Depth (in)","Instantaneous Runoff (in)","Instantaneous Runoff Rate (cfs)","Routed Flow Rate (cfs)","Stormwater Inflow (ft3)","Direct Rain (ft3)","Exfiltration Outflow (ft3)","Bioretention Water Volume (ft3)"]
[0,0,{"$f":"$D$4*'SBUH Model'!B21","v":0},{"$f":"C21","v":0},{"$f":"IF(D21<0.2*F$8,0,(D21-0.2*F$8)^2/(D21+0.8*F$8))","v":0},0,{"$f":"IF(D21<0.2*F$11,0,(D21-0.2*F$11)^2/(D21+0.8*F$11))","v":0},0,{"$f":"IF(D21<0.2*F$12,0,(D21-0.2*F$12)^2/(D21+0.8*F$12))","v":0},0,{"$f":"((F21/12)*SUMPRODUCT(D$8:D$10,G$8:G$10)+(H21/12)*D$11+(J21/12)*D$12)/($D$5*60)","v":0},0,{"$f":"L21*($D$5*60)","v":0},{"$f":"(C21/12)*O$4","v":0},0,0]
[10,2.7000000000000001E-3,{"$f":"$D$4*'SBUH Model'!B22","v":5.4000000000000003E-3},{"$f":"C22+D21","v":5.4000000000000003E-3},{"$f":"IF(D22<0.2*F$8,0,(D22-0.2*F$8)^2/(D22+0.8*F$8))","v":0},{"$f":"MAX(0,E22-E21)","v":0},{"$f":"IF(D22<0.2*F$11,0,(D22-0.2*F$11)^2/(D22+0.8*F$11))","v":0},{"$f":"MAX(0,G22-G21)","v":0},{"$f":"IF(D22<0.2*F$12,0,(D22-0.2*F$12)^2/(D22+0.8*F$12))","v":0},{"$f":"MAX(0,I22-I21)","v":0},{"$f":"((F22/12)*SUMPRODUCT(D$8:D$10,G$8:G$10)+(H22/12)*D$11+(J22/12)*D$12)/($D$5*60)","v":0},{"$f":"MAX(0,L21+(D$5/(2*$D$16+D$5))*(K21+K22-2*L21))","v":0},0,0.40500000000000003,{"$f":"-MIN(O$9*D$5*60,SUM(M22,N22,P21))","v":-0.40500000000000003},{"$f":"P21+SUM(M22:O22)","v":0}]
[20,2.5999999999999999E-3,{"$f":"$D$4*'SBUH Model'!B23","v":5.1999999999999998E-3},1.06E-2,0,{"$f":"MAX(0,E23-E22)","v":0},0,0,0,0,{"$f":"((F23/12)*SUMPRODUCT(D$8:D$10,G$8:G$10)+(H23/12)*D$11+(J23/12)*D$12)/($D$5*60)","v":0},0,0,0.38999999999999996,-0.38999999999999996,{"$f":"P22+SUM(M23:O23)","v":0}]
[30,2.7000000000000001E-3,{"$f":"$D$4*'SBUH Model'!B24","v":5.4000000000000003E-3},1.6E-2,0,0,0,0,0,0,0,0,0,0.40500000000000003,-0.40500000000000003,0]
[40,2.9999999999999992E-3,{"$f":"$D$4*'SBUH Model'!B25","v":5.9999999999999984E-3},2.1999999999999999E-2,0,0,0,0,0,0,0,0,0,0.4499999999999999,-0.4499999999999999,0]
[50,3.0000000000000009E-3,{"$f":"$D$4*'SBUH Model'!B26","v":6.0000000000000019E-3},2.8000000000000001E-2,0,0,0,0,0,0,0,0,0,0.45000000000000012,-0.45000000000000012,0]
[60,3.0000000000000009E-3,{"$f":"$D$4*'SBUH Model'!B27","v":6.0000000000000019E-3},3.4000000000000002E-2,0,0,0,0,0,0,0,0,0,0.45000000000000012,-0.45000000000000012,0]
[70,2.9999999999999992E-3,{"$f":"$D$4*'SBUH Model'!B28","v":5.9999999999999984E-3},0.04,0,0,0,0,0,0,0,0,0,0.4499999999999999,-0.4499999999999999,0]
[80,2.9999999999999992E-3,{"$f":"$D$4*'SBUH Model'!B29","v":5.9999999999999984E-3},4.5999999999999999E-2,1.2840384837375753E-4,1.2840384837375753E-4,0,0,0,0,1.96172546126574E-4,9.8086273063286998E-5,5.88517638379722E-2,0.4499999999999999,-0.50885176383797215,0]
[90,2.9999999999999992E-3,{"$f":"$D$4*'SBUH Model'!B30","v":5.9999999999999984E-3},5.1999999999999998E-2,5.8102512905048676E-4,4.526212806767292E-4,0,0,0,0,6.9150473436722514E-4,4.4383864024689955E-4,0.26630318414813975,0.4499999999999999,-0.71630318414813965,0]
[100,3.0000000000000027E-3,{"$f":"$D$4*'SBUH Model'!B31","v":6.0000000000000053E-3},5.8000000000000003E-2,1.3345003745826017E-3,7.5347524553211491E-4,0,0,0,0,1.1511427362296198E-3,9.2132373529842245E-4,0.55279424117905351,0.4500000000000004,-1.0027942411790538,0]
[110,2.9999999999999992E-3,{"$f":"$D$4*'SBUH Model'!B32","v":5.9999999999999984E-3},6.4000000000000001E-2,2.365001172882956E-3,1.0305007983003544E-3,0,0,0,0,1.5743762196255414E-3,1.3627594779275806E-3,0.81765568675654832,0.4499999999999999,-1.2676556867565483,0]
[120,3.0000000000000027E-3,{"$f":"$D$4*'SBUH Model'!B33","v":6.0000000000000053E-3},7.0000000000000007E-2,3.6511507490135297E-3,1.2861495761305737E-3,0,0,0,0,1.9649507413105984E-3,1.7696634804680699E-3,1.061798088280842,0.4500000000000004,-1.5117980882808424,0]
[130,3.2999999999999974E-3,{"$f":"$D$4*'SBUH Model'!B34","v":6.5999999999999948E-3},7.6600000000000001E-2,5.3382930097865015E-3,1.6871422607729718E-3,0,0,0,0,2.5775784539587071E-3,2.271264597634653E-3,1.3627587585807919,0.49499999999999966,-1.8577587585807915,0]
[140,3.4000000000000002E-3,{"$f":"$D$4*'SBUH Model'!B35","v":6.8000000000000005E-3},8.3400000000000002E-2,7.3515374928619058E-3,2.0132444830754043E-3,0,0,0,0,3.0757901824763124E-3,2.8266843182175099E-3,1.6960105909305059,0.51,-2.2060105909305059,0]
[150,3.2999999999999974E-3,{"$f":"$D$4*'SBUH Model'!B36","v":6.5999999999999948E-3},0.09,9.5513821967143225E-3,2.1998447038524167E-3,0,0,0,0,3.360873853107859E-3,3.2183320177920855E-3,1.9309992106752514,0.49499999999999966,-2.425999210675251,0]
[160,3.3000000000000043E-3,{"$f":"$D$4*'SBUH Model'!B37","v":6.6000000000000086E-3},9.6600000000000005E-2,1.1974735189440748E-2,2.4233529927264255E-3,0,0,0,0,3.7023448499987053E-3,3.5316093515532819E-3,2.1189656109319692,0.49500000000000061,-2.6139656109319698,0]
[170,3.4000000000000002E-3,{"$f":"$D$4*'SBUH Model'!B38","v":6.8000000000000005E-3},0.10340000000000001,1.4687760631015328E-2,2.7130254415745798E-3,0,0,0,0,4.1448999801833863E-3,3.9236224150910456E-3,2.3541734490546276,0.51,-2.8641734490546273,0]
[180,3.2999999999999974E-3,{"$f":"$D$4*'SBUH Model'!B39","v":6.5999999999999948E-3},0.11,1.7515508070293121E-2,2.8277474392777932E-3,0,0,0,0,4.3201696988966285E-3,4.2325348395400074E-3,2.5395209037240045,0.49499999999999966,-3.0345209037240042,0]
[190,3.2999999999999974E-3,{"$f":"$D$4*'SBUH Model'!B40","v":6.5999999999999948E-3},0.1166,2.0521175861655382E-2,3.0056677913622605E-3,0,0,0,0,4.5919924590256764E-3,4.4560810789611525E-3,2.6736486473766914,0.49499999999999966,-3.1686486473766911,0]
[200,3.4000000000000002E-3,{"$f":"$D$4*'SBUH Model'!B41","v":6.8000000000000005E-3},0.1234,2.379103078760874E-2,3.2698549259533582E-3,0,0,0,0,4.9956116924287424E-3,4.793802075727209E-3,2.8762812454363256,0.51,-3.3862812454363258,0]
[210,3.3000000000000043E-3,{"$f":"$D$4*'SBUH Model'!B42","v":6.6000000000000086E-3},0.13,2.7121270219987826E-2,3.3302394323790861E-3,0,0,0,0,5.0878657994680486E-3,5.0417387459483955E-3,3.0250432475690374,0.49500000000000061,-3.520043247569038,0]
[220,3.699999999999995E-3,{"$f":"$D$4*'SBUH Model'!B43","v":7.3999999999999899E-3},0.13739999999999999,3.1025880907730143E-2,3.9046106877423173E-3,0,0,0,0,5.9653774396063175E-3,5.5266216195371826E-3,3.3159729717223096,0.55499999999999927,-3.8709729717223089,0]
[230,3.600000000000006E-3,{"$f":"$D$4*'SBUH Model'!B44","v":7.2000000000000119E-3},0.14460000000000001,3.4986244518622325E-2,3.9603636108921821E-3,0,0,0,0,6.0505555166408334E-3,6.0079664781235755E-3,3.6047798868741454,0.54000000000000092,-4.1447798868741463,0]
[240,3.699999999999995E-3,{"$f":"$D$4*'SBUH Model'!B45","v":7.3999999999999899E-3},0.152,3.9210813895729224E-2,4.2245693771068987E-3,0,0,0,0,6.4542032150244283E-3,6.2523793658326304E-3,3.7514276194995784,0.55499999999999927,-4.3064276194995781,0]
[250,3.699999999999995E-3,{"$f":"$D$4*'SBUH Model'!B46","v":7.3999999999999899E-3},0.15939999999999999,4.3581033803981199E-2,4.3702199082519752E-3,0,0,0,0,6.6767248598294075E-3,6.5654640374269175E-3,3.9392784224561503,0.55499999999999927,-4.4942784224561496,0]
[260,3.600000000000006E-3,{"$f":"$D$4*'SBUH Model'!B47","v":7.2000000000000119E-3},0.1666,4.7963614899168824E-2,4.3825810951876251E-3,0,0,0,0,6.69561000653665E-3,6.6861674331830292E-3,4.0117004599098172,0.54000000000000092,-4.5517004599098181,0]
[270,3.699999999999995E-3,{"$f":"$D$4*'SBUH Model'!B48","v":7.3999999999999899E-3},0.17399999999999999,5.2593286521918511E-2,4.629671622749687E-3,0,0,0,0,7.0731094236453551E-3,6.8843597150910025E-3,4.1306158290546016,0.55499999999999927,-4.6856158290546013,0]
[280,4.0000000000000036E-3,{"$f":"$D$4*'SBUH Model'!B49","v":8.0000000000000071E-3},0.182,5.7731921802885999E-2,5.1386352809674879E-3,0,0,0,0,7.8506927903669952E-3,7.4619011070061747E-3,4.4771406642037048,0.60000000000000053,-5.0771406642037054,0]
[290,4.0000000000000036E-3,{"$f":"$D$4*'SBUH Model'!B50","v":8.0000000000000071E-3},0.19,6.3000153267546252E-2,5.2682314646602529E-3,0,0,0,0,8.0486869598976087E-3,7.9496898751323028E-3,4.7698139250793821,0.60000000000000053,-5.3698139250793826,0]
[300,4.0000000000000036E-3,{"$f":"$D$4*'SBUH Model'!B51","v":8.0000000000000071E-3},0.19800000000000001,6.8389371430416096E-2,5.3892181628698438E-3,0,0,0,0,8.2335277488289286E-3,8.1411073543632695E-3,4.8846644126179619,0.60000000000000053,-5.4846644126179624,0]
[310,4.2999999999999983E-3,{"$f":"$D$4*'SBUH Model'!B52","v":8.5999999999999965E-3},0.20660000000000001,7.4308744113203137E-2,5.9193726827870413E-3,0,0,0,0,9.0434860431468679E-3,8.6385068959878991E-3,5.1831041375927391,0.64499999999999968,-5.8281041375927387,0]
[320,4.4000000000000011E-3,{"$f":"$D$4*'SBUH Model'!B53","v":8.8000000000000023E-3},0.21540000000000001,8.0491818366401097E-2,6.1830742531979593E-3,0,0,0,0,9.4463634423857731E-3,9.2449247427663205E-3,5.5469548456597924,0.66000000000000025,-6.2069548456597925,0]
[330,4.2999999999999983E-3,{"$f":"$D$4*'SBUH Model'!B54","v":8.5999999999999965E-3},0.224,8.6649275561826847E-2,6.1574571954257501E-3,0,0,0,0,9.4072262707893418E-3,9.4267948565875566E-3,5.6560769139525338,0.64499999999999968,-6.3010769139525333,0]
[340,4.2999999999999983E-3,{"$f":"$D$4*'SBUH Model'!B55","v":8.5999999999999965E-3},0.2326,9.2912859097674216E-2,6.2635835358473696E-3,0,0,0,0,9.5693637353223716E-3,9.4882950030558567E-3,5.6929770018335137,0.64499999999999968,-6.3379770018335133,0]
[350,4.4000000000000011E-3,{"$f":"$D$4*'SBUH Model'!B56","v":8.8000000000000023E-3},0.2414,9.942490609832394E-2,6.5120470006497233E-3,0,0,0,0,9.9489606954370775E-3,9.7591622153797245E-3,5.8554973292278349,0.66000000000000025,-6.5154973292278351,0]
[360,4.2999999999999983E-3,{"$f":"$D$4*'SBUH Model'!B57","v":8.5999999999999965E-3},0.25,0.10588309397833215,6.4581878800082093E-3,0,0,6.3695890341147914E-6,6.3695890341147914E-6,9.8666759277903204E-3,9.9078183116136989E-3,5.9446909869682196,0.64499999999999968,-6.5896909869682192,0]
[370,5.0000000000000044E-3,{"$f":"$D$4*'SBUH Model'!B58","v":1.0000000000000009E-2},0.26,0.11350205656032913,7.6189625819969853E-3,0,0,1.3138606434236894E-4,1.2501647530825414E-4,1.1640081722495393E-2,1.0753378825142858E-2,6.4520272950857143,0.75000000000000067,-7.2020272950857152,0]
[380,5.0000000000000044E-3,{"$f":"$D$4*'SBUH Model'!B59","v":1.0000000000000009E-2},0.27,0.12123093043152268,7.7288738711935451E-3,0,0,4.1330221539775627E-4,2.8191615105538733E-4,1.1808001747656803E-2,1.1724041735076098E-2,7.034425041045659,0.75000000000000067,-7.7844250410456599,0]
[390,5.0000000000000044E-3,{"$f":"$D$4*'SBUH Model'!B60","v":1.0000000000000009E-2},0.28000000000000003,0.12906227684443955,7.8313464129168703E-3,0,0,8.4840814019669154E-4,4.3510592479893527E-4,1.1964557019734107E-2,1.1886279383695455E-2,7.131767630217273,0.75000000000000067,-7.8817676302172739,0]
[400,5.2999999999999992E-3,{"$f":"$D$4*'SBUH Model'!B61","v":1.0599999999999998E-2},0.29060000000000002,0.13746784054701239,8.405563702572838E-3,0,0,1.4728726455648621E-3,6.2446450536817052E-4,1.2841833434486279E-2,1.2403195227110194E-2,7.4419171362661167,0.79499999999999993,-8.2369171362661167,0]
[410,5.3999999999999881E-3,{"$f":"$D$4*'SBUH Model'!B62","v":1.0799999999999976E-2},0.3014,0.14613497066403852,8.6671301170261339E-3,0,0,2.2777060594246314E-3,8.048334138597694E-4,1.3241448789901038E-2,1.3041641112193659E-2,7.8249846673161949,0.80999999999999828,-8.6349846673161927,0]
[420,5.2999999999999992E-3,{"$f":"$D$4*'SBUH Model'!B63","v":1.0599999999999998E-2},0.312,0.15473585765463871,8.6008869906001872E-3,0,0,3.2290291547837848E-3,9.5132309535915331E-4,1.3140244013416952E-2,1.3190846401658995E-2,7.9145078409953973,0.79499999999999993,-8.7095078409953963,0]
[430,6.0000000000000053E-3,{"$f":"$D$4*'SBUH Model'!B64","v":1.2000000000000011E-2},0.32400000000000001,0.16457767855005973,9.8418208954210162E-3,0,0,4.4940450476822977E-3,1.2650158928985129E-3,1.5036115256893219E-2,1.4088179635155086E-2,8.4529077810930513,0.9000000000000008,-9.3529077810930517,0]
[440,6.0000000000000053E-3,{"$f":"$D$4*'SBUH Model'!B65","v":1.2000000000000011E-2},0.33600000000000002,0.17452324448419007,9.945565934130346E-3,0,0,5.9535405685219225E-3,1.4594955208396248E-3,1.5194614621588028E-2,1.5115364939240624E-2,9.0692189635443743,0.9000000000000008,-9.375,0.59421896354437465]
[450,5.9999999999999776E-3,{"$f":"$D$4*'SBUH Model'!B66","v":1.1999999999999955E-2},0.34799999999999998,0.18456525040161376,1.0042005917423685E-2,0,0,7.6022782435447639E-3,1.6487376750228414E-3,1.5341953484952852E-2,1.526828405327044E-2,9.160970431962264,0.89999999999999669,-9.375,1.2801893955066355]
[460,6.7000000000000115E-3,{"$f":"$D$4*'SBUH Model'!B67","v":1.3400000000000023E-2},0.3614,0.19588467256331443,1.1319422161700676E-2,0,0,9.6608209671651003E-3,2.0585427236203364E-3,1.7293561635931591E-2,1.6317757560442223E-2,9.7906545362653343,1.0050000000000017,-9.375,2.7008439317719706]
[470,6.5999999999999948E-3,{"$f":"$D$4*'SBUH Model'!B68","v":1.319999999999999E-2},0.37459999999999999,0.20713650686619162,1.1251834302877184E-2,0,0,1.1906614728530111E-2,2.2457937613650104E-3,1.7190302407173473E-2,1.7241932021552532E-2,10.345159212931518,0.98999999999999932,-9.375,4.6610031447034892]
[480,6.7000000000000115E-3,{"$f":"$D$4*'SBUH Model'!B69","v":1.3400000000000023E-2},0.38800000000000001,0.21865425192733706,1.1517745061145446E-2,0,0,1.4401284947532128E-2,2.4946702190020171E-3,1.7596554954527763E-2,1.7393428680850618E-2,10.436057208510372,1.0050000000000017,-9.375,6.7270603532138615]
[490,8.3000000000000018E-3,{"$f":"$D$4*'SBUH Model'!B70","v":1.6600000000000004E-2},0.40460000000000002,0.23304568822231583,1.4391436294978771E-2,0,0,1.7782567185963372E-2,3.3812822384312446E-3,2.198691656177312E-2,1.9791735758150443E-2,11.875041454890265,1.2450000000000003,-9.375,10.472101808104128]
[500,8.3999999999999908E-3,{"$f":"$D$4*'SBUH Model'!B71","v":1.6799999999999982E-2},0.4214,0.24773820336984106,1.4692515147525231E-2,0,0,2.152144771738251E-2,3.7388805314191378E-3,2.2446898142052436E-2,2.2216907351912778E-2,13.330144411147666,1.2599999999999987,-9.375,15.687246219251792]
[510,8.3000000000000018E-3,{"$f":"$D$4*'SBUH Model'!B72","v":1.6600000000000004E-2},0.438,0.26237148370990515,1.4633280340064087E-2,0,0,2.5517933622017326E-2,3.996485904634816E-3,2.2356400519542352E-2,2.2401649330797392E-2,13.440989598478435,1.2450000000000003,-9.375,20.998235817730226]
[520,1.1699999999999988E-2,{"$f":"$D$4*'SBUH Model'!B73","v":2.3399999999999976E-2},0.46139999999999998,0.28317664620600835,2.0805162496103202E-2,0,0,3.1641586362108606E-2,6.1236527400912802E-3,3.1785664924602115E-2,2.7071032722072234E-2,16.24261963324334,1.7549999999999981,-9.375,29.620855450973565]
[530,1.1599999999999999E-2,{"$f":"$D$4*'SBUH Model'!B74","v":2.3199999999999998E-2},0.48459999999999998,0.30398903441321345,2.0812388207205101E-2,0,0,3.8254651414488292E-2,6.6130650523796852E-3,3.1796704205452241E-2,3.1791184565027178E-2,19.074710739016307,1.7399999999999998,-9.375,41.060566189989871]
[540,1.1700000000000016E-2,{"$f":"$D$4*'SBUH Model'!B75","v":2.3400000000000032E-2},0.50800000000000001,0.32514801936827287,2.1158984955059412E-2,0,0,4.5445592342964608E-2,7.1909409284763165E-3,3.2326227014674101E-2,3.2061465610063171E-2,19.236879366037904,1.7550000000000026,-9.375,52.677445556027777]
[550,1.6299999999999981E-2,{"$f":"$D$4*'SBUH Model'!B76","v":3.2599999999999962E-2},0.54059999999999997,0.35487431770518563,2.972629833691276E-2,0,0,5.6290609794414054E-2,1.0845017451449446E-2,4.5415178014727831E-2,3.8870702514700969E-2,23.322421508820582,2.4449999999999972,-9.375,69.069867064848353]
[560,1.6400000000000026E-2,{"$f":"$D$4*'SBUH Model'!B77","v":3.2800000000000051E-2},0.57340000000000002,0.38503967390450156,3.0165356199315929E-2,0,0,6.8118521031693288E-2,1.1827911237279234E-2,4.6085960860066E-2,4.5750569437396915E-2,27.450341662438149,2.460000000000004,-9.375,89.605208727286509]
[570,1.6299999999999981E-2,{"$f":"$D$4*'SBUH Model'!B78","v":3.2599999999999962E-2},0.60599999999999998,0.4152437165878185,3.0204042683316945E-2,0,0,8.0729115273232607E-2,1.2610594241539319E-2,4.6145065210623108E-2,4.6115513035344557E-2,27.669307821206736,2.4449999999999972,-9.375,110.34451654849325]
[580,7.0699999999999985E-2,{"$f":"$D$4*'SBUH Model'!B79","v":0.14139999999999997},0.74739999999999995,0.54823707926165732,0.13299336267383882,0,0,0.14411600860473101,6.3386893331498398E-2,0.20318430408503155,0.12466468464782733,74.7988107886964,10.604999999999999,-9.375,186.37332733718966]
[590,7.0599999999999996E-2,{"$f":"$D$4*'SBUH Model'!B80","v":0.14119999999999999},0.88859999999999995,0.68329771199581757,0.13506063273416025,0,0,0.21913996487539295,7.502395627066194E-2,0.20634263334385594,0.20476346871444373,122.85808122866624,10.59,-9.375,310.4464085658559]
[600,7.0700000000000041E-2,{"$f":"$D$4*'SBUH Model'!B81","v":0.14140000000000008},1.03,0.82000568929470219,0.13670797729888462,1.645485577374128E-3,1.645485577374128E-3,0.30354707100345618,8.4407106128063236E-2,0.20885940976218487,0.2076010215530204,124.56061293181224,10.605000000000006,-9.375,436.23702149766814]
[610,2.2699999999999942E-2,{"$f":"$D$4*'SBUH Model'!B82","v":4.5399999999999885E-2},1.0753999999999999,0.86412638839470435,4.4120699100002159E-2,3.7222234979274261E-3,2.076737920553298E-3,0.33230407764816483,2.8757006644708649E-2,6.7406623625003298E-2,0.13813301669359407,82.879810016156441,3.4049999999999914,-9.375,513.14683151382451]
[620,2.2600000000000064E-2,{"$f":"$D$4*'SBUH Model'!B83","v":4.5200000000000129E-2},1.1206,0.90814260337980068,4.4016214985096336E-2,6.5897210291096927E-3,2.8674975311822667E-3,0.36164609114409568,2.9342013495930852E-2,6.724699511611941E-2,6.7326809370561347E-2,40.396085622336805,3.3900000000000095,-9.375,547.55791713616134]
[630,2.2699999999999942E-2,{"$f":"$D$4*'SBUH Model'!B84","v":4.5399999999999885E-2},1.1659999999999999,0.95243462174994975,4.4292018370149067E-2,1.0251193355106837E-2,3.661472325997144E-3,0.39178765759274431,3.0141566448648627E-2,6.7668361398838861E-2,6.7457678257479142E-2,40.474606954487484,3.4049999999999914,-9.375,582.06252409064882]
[640,1.3700000000000045E-2,{"$f":"$D$4*'SBUH Model'!B85","v":2.7400000000000091E-2},1.1934,0.97920181075839063,2.6767189008440884E-2,1.2830849178787036E-2,2.5796558236801988E-3,0.41028604265218099,1.8498385059436684E-2,4.0894316540673575E-2,5.4281338969756218E-2,{"$f":"L85*($D$5*60)","v":32.568803381853733},{"$f":"(C85/12)*O$4","v":2.0550000000000068},-9.375,607.31132747250251]
[650,1.3599999999999945E-2,{"$f":"$D$4*'SBUH Model'!B86","v":2.7199999999999891E-2},{"$f":"C86+D85","v":1.2205999999999999},{"$f":"IF(D86<0.2*F$8,0,(D86-0.2*F$8)^2/(D86+0.8*F$8))","v":1.0057984039537469},2.6596593195356233E-2,{"$f":"IF(D86<0.2*F$11,0,(D86-0.2*F$11)^2/(D86+0.8*F$11))","v":1.5661528225440948E-2},2.8306790466539125E-3,{"$f":"IF(D86<0.2*F$12,0,(D86-0.2*F$12)^2/(D86+0.8*F$12))","v":0.42886778282423504},1.8581740172054051E-2,{"$f":"((F86/12)*SUMPRODUCT(D$8:D$10,G$8:G$10)+(H86/12)*D$11+(J86/12)*D$12)/($D$5*60)","v":4.0633684048460912E-2},{"$f":"MAX(0,L85+(D$5/(2*$D$16+D$5))*(K85+K86-2*L85))","v":4.076400029456724E-2},24.458400176740344,2.039999999999992,{"$f":"-MIN(O$9*D$5*60,SUM(M86,N86,P85))","v":-9.375},624.43472764924286]
[660,1.3700000000000045E-2,{"$f":"$D$4*'SBUH Model'!B87","v":2.7400000000000091E-2},1.248,1.0326140770051657,{"$f":"MAX(0,E87-E86)","v":2.6815673051418853E-2},1.8780411300832783E-2,3.1188830753918345E-3,0.44779807430071006,1.8930291476475014E-2,4.0968389384112139E-2,4.0801036716286529E-2,24.480622029771919,2.0550000000000068,-9.375,{"$f":"P86+SUM(M87:O87)","v":641.59534967901482}]
[670,1.0000000000000009E-2,{"$f":"$D$4*'SBUH Model'!B88","v":2.0000000000000018E-2},1.268,1.0522016861498491,1.9587609144683382E-2,2.122389463523033E-2,2.4434833343975476E-3,0.46174565474673374,1.3947580446023677E-2,2.9925513971044058E-2,3.5446951677578095E-2,21.268171006546858,1.5000000000000013,-9.375,654.98852068556164]
[680,1.0000000000000009E-2,{"$f":"$D$4*'SBUH Model'!B89","v":2.0000000000000018E-2},1.288,1.0718006616754026,1.9598975525553453E-2,2.3806365015970093E-2,2.5824703807397625E-3,0.4757995689091109,1.4053914162377168E-2,2.9942879275151105E-2,2.9934196623097584E-2,17.960517973858551,1.5000000000000013,-9.375,665.07403865942024]
[690,1.0000000000000009E-2,{"$f":"$D$4*'SBUH Model'!B90","v":2.0000000000000018E-2},1.3080000000000001,1.0914105400469014,1.9609878371498857E-2,2.652617850331378E-2,2.7198134873436877E-3,0.48995703895657289,1.4157470047461984E-2,2.995953640090103E-2,2.9951207838026066E-2,17.970724702815641,1.5000000000000013,-9.375,675.16976336223593]
[700,9.299999999999975E-3,{"$f":"$D$4*'SBUH Model'!B91","v":1.859999999999995E-2},1.3266,1.1096571268332878,1.8246586786386354E-2,2.9177444933944675E-2,2.6512664306308949E-3,0.50321407018864195,1.3257031232069061E-2,2.7876729812534709E-2,2.8918133106717869E-2,17.350879864030723,1.3949999999999962,-9.375,684.54064322626664]
[710,9.3999999999999639E-3,{"$f":"$D$4*'SBUH Model'!B92","v":1.8799999999999928E-2},1.3453999999999999,1.1281087688409706,1.8451642007682789E-2,3.1975200806380957E-2,2.7977558724362819E-3,0.51670018035565002,1.348611016700807E-2,2.8190008622848706E-2,2.8033369217691707E-2,16.820021530615023,1.4099999999999946,-9.375,693.39566475688162]
[720,9.300000000000086E-3,{"$f":"$D$4*'SBUH Model'!B93","v":1.8600000000000172E-2},1.3640000000000001,1.1463725566981298,1.8263787857159208E-2,3.485864487557655E-2,2.8834440691955926E-3,0.5301263932796757,1.3426212924025682E-2,2.7903009226215456E-2,2.8046508924532081E-2,16.827905354719249,1.3950000000000129,-9.375,702.24357011160089]
[730,7.9999999999998961E-3,{"$f":"$D$4*'SBUH Model'!B94","v":1.5999999999999792E-2},1.38,1.162089826144687,1.5717269446557269E-2,3.7429951170955468E-2,2.5713062953789181E-3,0.54174083221321945,1.1614438933543747E-2,2.4012494987795827E-2,2.5957752107005641E-2,15.574651264203384,1.1999999999999844,-9.375,709.64322137580427]
[740,8.0000000000000071E-3,{"$f":"$D$4*'SBUH Model'!B95","v":1.6000000000000014E-2},1.3959999999999999,1.1778128979249938,1.5723071780306741E-2,4.0084524796103652E-2,2.6545736251481836E-3,0.55341411887822944,1.1673286665009996E-2,2.4021359664357519E-2,2.4016927326076673E-2,14.410156395646004,1.2000000000000011,-9.375,715.87837777145023]
[750,8.0000000000000071E-3,{"$f":"$D$4*'SBUH Model'!B96","v":1.6000000000000014E-2},1.4119999999999999,1.1935415952358039,1.5728697310810169E-2,4.2821593670875929E-2,2.7370688747722777E-3,0.56514507669464276,1.1730957816413312E-2,2.4029954224848868E-2,2.4025656944603194E-2,14.415394166761915,1.2000000000000011,-9.375,722.11877193821215]
[760,7.3000000000000842E-3,{"$f":"$D$4*'SBUH Model'!B97","v":1.4600000000000168E-2},1.4266000000000001,1.207898796369109,1.4357201133305075E-2,4.5390506405639387E-2,2.568912734763458E-3,0.57589892740569482,1.075385071105206E-2,2.1934612842549422E-2,2.2982283533699147E-2,13.789370120219488,1.0950000000000126,-9.375,727.62814205843165]
[770,7.3999999999999622E-3,{"$f":"$D$4*'SBUH Model'!B98","v":1.4799999999999924E-2},1.4414,1.222457180886614,1.4558384517505019E-2,4.8063482578282149E-2,2.6729761726427617E-3,0.58684725906139845,1.0948331655703636E-2,2.2241976346188224E-2,2.2088294594368823E-2,13.252976756621294,1.1099999999999943,-9.375,732.61611881505291]
[780,7.2999999999999732E-3,{"$f":"$D$4*'SBUH Model'!B99","v":1.4599999999999946E-2},1.456,1.2368231580593521,1.436597717273802E-2,5.0767706974623295E-2,2.7042243963411455E-3,0.59769333336638231,1.0846074304983855E-2,2.1948020680571976E-2,2.20949985133801E-2,13.25699910802806,1.094999999999996,-9.375,737.59311792308097]
[790,6.7000000000000393E-3,{"$f":"$D$4*'SBUH Model'!B100","v":1.3400000000000079E-2},1.4694,1.2500120535728636,1.3188895513511545E-2,5.3308072724503414E-2,2.5403657498801191E-3,0.60768719455001552,9.9938611836332125E-3,2.0149701478975972E-2,2.1048861079773974E-2,12.629316647864384,1.0050000000000059,-9.375,741.85243457094532]
[800,6.5999999999999392E-3,{"$f":"$D$4*'SBUH Model'!B101","v":1.3199999999999878E-2},1.4825999999999999,1.2630074607868478,1.2995407213984178E-2,5.5864751316773945E-2,2.556678592270531E-3,0.61756800769256726,9.8808131425517365E-3,1.9854094354698051E-2,2.0001897916837014E-2,12.001138750102209,0.98999999999999089,-9.375,745.46857332104753]
[810,6.7000000000000393E-3,{"$f":"$D$4*'SBUH Model'!B102","v":1.3400000000000079E-2},1.496,1.2762030976712244,1.3195636884376638E-2,5.8514799282267729E-2,2.6500479654937847E-3,0.6276346011973688,1.0066593504801546E-2,2.0160000795575419E-2,2.0007047575136737E-2,12.004228545082043,1.0050000000000059,-9.375,749.10280186612954]
[820,6.0000000000000053E-3,{"$f":"$D$4*'SBUH Model'!B103","v":1.2000000000000011E-2},1.508,1.2880228673504279,1.1819769679203507E-2,6.0934351481678868E-2,2.4195521994111388E-3,0.63667982938451095,9.0452281871421514E-3,1.8057981454338692E-2,1.9108991124957057E-2,11.465394674974235,0.9000000000000008,-9.375,752.09319654110379]
[830,6.0000000000000053E-3,{"$f":"$D$4*'SBUH Model'!B104","v":1.2000000000000011E-2},1.52,1.2998452067538948,1.1822339403466886E-2,6.3397412393274358E-2,2.4630609115954896E-3,0.64575332428874477,9.0734949042338142E-3,1.80619074219633E-2,1.8059944438150996E-2,10.835966662890598,0.9000000000000008,-9.375,754.45416320399443]
[840,6.0000000000000053E-3,{"$f":"$D$4*'SBUH Model'!B105","v":1.2000000000000011E-2},1.532,1.3116700613119521,1.1824854558057263E-2,6.5903686302382927E-2,2.5062739091085695E-3,0.65485468222222143,9.1013579334766614E-3,1.8065750019254149E-2,1.8063828720608723E-2,10.838297232365234,0.9000000000000008,-9.375,756.81746043635962]
[850,5.7000000000000384E-3,{"$f":"$D$4*'SBUH Model'!B106","v":1.1400000000000077E-2},1.5434000000000001,1.322905954481723,1.1235893169770916E-2,6.8324405619505021E-2,2.4207193171220942E-3,0.66352641958865832,8.6717373664368935E-3,1.7165947898261123E-2,1.7615848958757636E-2,10.569509375254581,0.85500000000000576,-9.375,758.86696981161424]
[860,5.5999999999999384E-3,{"$f":"$D$4*'SBUH Model'!B107","v":1.1199999999999877E-2},1.5546,1.3339468478089942,1.1040893327271206E-2,7.074013691980785E-2,2.4157313003028286E-3,0.67206983888096072,8.543419292302401E-3,1.6868031472219897E-2,1.701698968524051E-2,10.210193811144306,0.83999999999999075,-9.375,760.54216362275849]
[870,5.7000000000000384E-3,{"$f":"$D$4*'SBUH Model'!B108","v":1.1400000000000077E-2},1.5660000000000001,1.3451870164640076,1.1240168655013427E-2,7.3236912994766923E-2,2.4967760749590728E-3,0.68078973957968347,8.719900698722749E-3,1.7172479889603846E-2,1.7020255680911874E-2,10.212153408547124,0.85500000000000576,-9.375,762.23431703130564]
[880,5.2999999999999714E-3,{"$f":"$D$4*'SBUH Model'!B109","v":1.0599999999999943E-2},1.5766,1.3556402805408492,1.0453264076841551E-2,7.559257429238242E-2,2.3556612976154967E-3,0.68891908845839578,8.1293488787123058E-3,1.5970264561841259E-2,1.6571372225722553E-2,9.9428233354335323,0.79499999999999571,-9.375,763.59714036673915]
[890,5.3999999999999604E-3,{"$f":"$D$4*'SBUH Model'!B110","v":1.0799999999999921E-2},1.5873999999999999,1.3662926035473535,1.0652323006504316E-2,7.802626837827184E-2,2.4336940858894207E-3,0.69722273202641205,8.3036435680162723E-3,1.6274382371048262E-2,1.6122323466444759E-2,9.6733940798668545,0.80999999999999406,-9.375,764.70553444660595]
[900,5.3000000000000824E-3,{"$f":"$D$4*'SBUH Model'!B111","v":1.0600000000000165E-2},1.5980000000000001,1.3767494224127046,1.0456818865351103E-2,8.0447661731476314E-2,2.4213933532044735E-3,0.70539287403980055,8.1701420133885039E-3,1.5975695488730852E-2,1.6125038929889556E-2,9.6750233579337337,0.79500000000001236,-9.375,765.80055780453972]
[910,5.2999999999999714E-3,{"$f":"$D$4*'SBUH Model'!B112","v":1.0599999999999943E-2},1.6086,1.3872079544105629,1.0458531997858289E-2,8.2901323201312896E-2,2.4536614698365822E-3,0.71358284884844769,8.189974808647138E-3,1.5978312774505721E-2,1.5977004131618289E-2,9.5862024789709732,0.79499999999999571,-9.375,766.8067602835107]
[920,5.3999999999999604E-3,{"$f":"$D$4*'SBUH Model'!B113","v":1.0799999999999921E-2},1.6194,1.3978655474955091,1.0657593084946182E-2,8.5434270034587284E-2,2.5329468332743882E-3,0.72194749885274212,8.3646500042944272E-3,1.6282433879778891E-2,1.6130373327142306E-2,9.678223996285384,0.80999999999999406,-9.375,767.91998427979604]
[930,5.2999999999999714E-3,{"$f":"$D$4*'SBUH Model'!B114","v":1.0599999999999943E-2},1.63,1.4083274456931971,1.0461898197688058E-2,8.7952497322121528E-2,2.5182272875342443E-3,0.73017678056888879,8.2292817161466747E-3,1.5983455579801197E-2,1.6132944729790044E-2,9.6797668378740269,0.79499999999999571,-9.375,769.01975111767001]
[940,5.0000000000000044E-3,{"$f":"$D$4*'SBUH Model'!B115","v":1.0000000000000009E-2},1.64,1.4181986493103349,9.8712036171377804E-3,9.0357243463340939E-2,2.4047461412194104E-3,0.73795778016409186,7.7809995952030642E-3,1.5081005526182719E-2,1.5532230552991959E-2,9.3193383317951746,0.75000000000000067,-9.375,769.71408944946518]
[950,5.0000000000000044E-3,{"$f":"$D$4*'SBUH Model'!B116","v":1.0000000000000009E-2},1.65,1.4280712735291077,9.8726242187727742E-3,9.279004377416368E-2,2.4328003108227414E-3,0.74575559824224369,7.7978180781518303E-3,1.5083175889791738E-2,1.5082090707987227E-2,9.0492544247923359,0.75000000000000067,-9.375,770.13834387425754]
[960,5.0000000000000044E-3,{"$f":"$D$4*'SBUH Model'!B117","v":1.0000000000000009E-2},1.66,1.4379452949749407,9.8740214458330477E-3,9.5250743107913316E-2,2.4606993337496358E-3,0.75357004431658137,7.8144460743376776E-3,1.5085310542244936E-2,1.5084243216018336E-2,9.0505459296110011,0.75000000000000067,-9.375,770.56388980386851]
[970,4.7000000000000375E-3,{"$f":"$D$4*'SBUH Model'!B118","v":9.400000000000075E-3},1.6694,1.447228128688018,9.2828337130772542E-3,9.7589101182420479E-2,2.338358074507163E-3,0.76093061734419609,7.3605730276147252E-3,1.4182107061645806E-2,1.463370880194537E-2,8.7802252811672226,0.70500000000000562,-9.375,770.67411508503574]
[980,4.6000000000000485E-3,{"$f":"$D$4*'SBUH Model'!B119","v":9.200000000000097E-3},1.6786000000000001,1.4563146133252363,9.0864846372182839E-3,9.990132347569676E-2,2.3122222932762809E-3,0.76814850113856847,7.2178837943723817E-3,1.3882129306861269E-2,1.4032118184253537E-2,8.4192709105521217,0.69000000000000727,-9.375,770.40838599558788]
[990,4.6999999999999265E-3,{"$f":"$D$4*'SBUH Model'!B120","v":9.3999999999998529E-3},1.6879999999999999,1.465599795540405,9.2851822151687191E-3,0.10228781748308198,2.3864940073852203E-3,0.77553736797403761,7.3888668354691323E-3,1.4185695050952211E-2,1.4033912178906739E-2,8.4203473073440431,0.70499999999998897,-9.375,770.15873330293186]
[1000,4.3000000000000815E-3,{"$f":"$D$4*'SBUH Model'!B121","v":8.6000000000001631E-3},1.6966000000000001,1.4740957661303238,8.4959705899187998E-3,0.10449235422482205,2.2045367417400652E-3,0.78230972842043867,6.7723604464010601E-3,1.2979955067931499E-2,1.3582825059441854E-2,8.149695035665113,0.64500000000001223,-9.375,769.57842833859695]
[1010,4.3999999999999595E-3,{"$f":"$D$4*'SBUH Model'!B122","v":8.799999999999919E-3},1.7054,1.4827903086243071,8.6945424939832705E-3,0.10676897586036369,2.2766216355416397E-3,0.78925166375924882,6.9419353388101568E-3,1.3283328810252218E-2,1.3131641939091859E-2,7.8789851634551153,0.65999999999999392,-9.375,768.74241350205205]
[1020,4.2999999999999705E-3,{"$f":"$D$4*'SBUH Model'!B123","v":8.599999999999941E-3},1.714,1.4912882031294026,8.4978945050955268E-3,0.10901410304507042,2.2451271847067356E-3,0.79604751792667894,6.7958541674301154E-3,1.2982894382784833E-2,1.3133111596518525E-2,7.8798669579111147,0.64499999999999558,-9.375,767.8922804599631]
[1030,4.2999999999999705E-3,{"$f":"$D$4*'SBUH Model'!B124","v":8.599999999999941E-3},1.7225999999999999,1.4997870288857953,8.4988257563927139E-3,0.11127914962460704,2.2650465795366198E-3,0.80285481700073391,6.8072990740549733E-3,1.2984317127822201E-2,1.2983605755303516E-2,7.7901634531821102,0.64499999999999558,-9.375,766.9524439131452]
[1040,4.4000000000000705E-3,{"$f":"$D$4*'SBUH Model'!B125","v":8.800000000000141E-3},1.7314000000000001,1.5084844525128689,8.6974236270735972E-3,0.11361739380622184,2.3382441816147959E-3,0.80983215935915531,6.9773423584214012E-3,1.328773054136244E-2,1.3136023834592321E-2,7.881614300755392,0.66000000000001058,-9.375,766.11905821390064]
[1050,4.2999999999999705E-3,{"$f":"$D$4*'SBUH Model'!B126","v":8.599999999999941E-3},1.74,1.5169851238801331,8.5006713672641787E-3,0.11592245703581716,2.3050632295953249E-3,0.8166622838145059,6.8301244553505835E-3,1.2987136811098051E-2,1.3137433676230246E-2,7.8824602057381474,0.64499999999999558,-9.375,765.27151841963882]
[1060,4.0000000000000036E-3,{"$f":"$D$4*'SBUH Model'!B127","v":8.0000000000000071E-3},1.748,1.5248935276669076,7.9084037867744872E-3,0.11808433489918232,2.1618778633651636E-3,0.82302587426794083,6.3635904534349308E-3,1.208228356312769E-2,1.2534710187112871E-2,7.5208261122677227,0.60000000000000053,-9.375,764.01734453190659]
[1070,4.0000000000000036E-3,{"$f":"$D$4*'SBUH Model'!B128","v":8.0000000000000071E-3},1.756,1.5328026950476503,7.9091673807427654E-3,0.12026313269202328,2.1787977928409558E-3,0.82939900381191944,6.3731295439786173E-3,1.2083450165023669E-2,1.208286686407568E-2,7.2497201184454081,0.60000000000000053,-9.375,762.49206465035195]
[1080,4.0000000000000036E-3,{"$f":"$D$4*'SBUH Model'!B129","v":8.0000000000000071E-3},1.764,1.5407126165134188,7.9099214657685213E-3,0.12245877696526972,2.195644273246436E-3,0.83578158927978796,6.3825854678685179E-3,1.2084602239368573E-2,1.2084026202196122E-2,7.2504157213176734,0.60000000000000053,-9.375,760.96748037166958]
[1090,3.7000000000000366E-3,{"$f":"$D$4*'SBUH Model'!B130","v":7.4000000000000732E-3},1.7714000000000001,1.5480299571202658,7.3173406068469671E-3,0.12450468315392399,2.0459061886542729E-3,0.84169382819288119,5.9122389130932262E-3,1.1179270371571756E-2,1.1631936305470165E-2,6.9791617832820991,0.55500000000000549,-9.375,759.1266421549517]
[1100,3.5999999999999366E-3,{"$f":"$D$4*'SBUH Model'!B131","v":7.1999999999998732E-3},1.7786,1.55515013644635,7.1201793260842194E-3,0.12650901510684606,2.0043319529220727E-3,0.84745391382539381,5.7600856325126237E-3,1.0878051748184224E-2,1.102866105987799E-2,6.6171966359267937,0.53999999999999049,-9.375,756.90883879087846]
[1110,3.7000000000000366E-3,{"$f":"$D$4*'SBUH Model'!B132","v":7.4000000000000732E-3},1.786,1.5624687129955948,7.3185765492447263E-3,0.12858306870786726,2.0740536010211974E-3,0.85338178870231274,5.927874876918926E-3,1.1181158616901665E-2,1.1029605182542944E-2,6.6177631095257663,0.55500000000000549,-9.375,754.70660190040428]
[1120,4.0000000000000036E-3,{"$f":"$D$4*'SBUH Model'!B133","v":8.0000000000000071E-3},1.794,1.5703813802375373,7.9126672419425059E-3,0.13084124033748618,2.2581716296189158E-3,0.85979910947482063,6.4173207725078951E-3,1.2088797175189941E-2,1.1634977896045803E-2,6.9809867376274815,0.60000000000000053,-9.375,752.91258863803171]
[1130,4.0000000000000036E-3,{"$f":"$D$4*'SBUH Model'!B134","v":8.0000000000000071E-3},1.802,1.5782947584899087,7.9133782523714835E-3,0.1331159153096326,2.2746749721464232E-3,0.86622550405909915,6.4263945842785164E-3,1.2089883441123099E-2,1.208934030815652E-2,7.2536041848939119,0.60000000000000053,-9.375,751.39119282292563]
[1140,4.0000000000000036E-3,{"$f":"$D$4*'SBUH Model'!B135","v":8.0000000000000071E-3},1.81,1.5862088391049876,7.9140806150788112E-3,0.13540702257477863,2.2911072651460307E-3,0.87266089464527252,6.4353905861733729E-3,1.2090956495259294E-2,1.2090419968191195E-2,7.2542519809147175,0.60000000000000053,-9.375,749.87044480384031]
[1150,3.6999999999999256E-3,{"$f":"$D$4*'SBUH Model'!B136","v":7.3999999999998511E-3},1.8173999999999999,1.5935299816085424,7.3211425035548672E-3,0.13754086534295268,2.1338427681740491E-3,0.87862157340297764,5.9606787577051179E-3,1.118507882487549E-2,1.1638017660067392E-2,6.9828105960404354,0.55499999999998884,-9.375,748.03325539988077]
[1160,3.6000000000000476E-3,{"$f":"$D$4*'SBUH Model'!B137","v":7.2000000000000952E-3},1.8246,1.6006538189162121,7.1238373076696337E-3,0.1396304207974027,2.0895554544500261E-3,0.88442842024139556,5.8068468384179228E-3,1.088364033116194E-2,1.1034359578018715E-2,6.6206157468112288,0.54000000000000714,-9.375,745.818871146692]
[1170,3.7000000000000366E-3,{"$f":"$D$4*'SBUH Model'!B138","v":7.4000000000000732E-3},1.8320000000000001,1.6079761133812824,7.3222944650703781E-3,0.1417917212794477,2.1613004820449921E-3,0.89040397950667183,5.9755592652762646E-3,1.1186838766079744E-2,1.1035239548620842E-2,6.6211437291725055,0.55500000000000549,-9.375,743.62001487586451]
[1180,3.2999999999999696E-3,{"$f":"$D$4*'SBUH Model'!B139","v":6.5999999999999392E-3},1.8386,1.6145072931272388,6.5311797459564058E-3,0.14373104164780634,1.9393203683586435E-3,0.89573982312182987,5.3358436151580424E-3,9.9781912785445095E-3,1.0582515022312127E-2,6.3495090133872765,0.49499999999999544,-9.375,741.08952388925184]
[1190,3.3999999999999586E-3,{"$f":"$D$4*'SBUH Model'!B140","v":6.7999999999999172E-3},1.8453999999999999,1.6212368604298235,6.7295673025846714E-3,0.14574059889203902,2.0095572442326848E-3,0.90124351705154104,5.5036939297111731E-3,1.0281283378948802E-2,1.0129737328746655E-2,6.0778423972479931,0.50999999999999379,-9.375,738.30236628649982]
[1200,3.3000000000000806E-3,{"$f":"$D$4*'SBUH Model'!B141","v":6.6000000000001613E-3},1.8520000000000001,1.6277689538325963,6.5320934027728317E-3,0.1477021441226988,1.961545230659778E-3,0.90659127251408433,5.347755462543291E-3,9.9795871431251609E-3,1.013043526103698E-2,6.0782611566221885,0.49500000000001215,-9.375,735.50062744312197]
[1210,3.2999999999999696E-3,{"$f":"$D$4*'SBUH Model'!B142","v":6.5999999999999392E-3},1.8586,1.6343014905720645,6.5325367394681866E-3,0.14967457753981611,1.9724334171173086E-3,0.91194483321530928,5.3535607012249464E-3,9.9802644630763975E-3,9.9799258031007792E-3,5.9879554818604674,0.49499999999999544,-9.375,732.60858292498244]
[1220,3.3999999999999586E-3,{"$f":"$D$4*'SBUH Model'!B143","v":6.7999999999999172E-3},1.8653999999999999,1.6410324420908209,6.7309515187563562E-3,0.15171812931542161,2.0435517756055011E-3,0.91746665226044999,5.5218190451407079E-3,1.0283398153655544E-2,1.0131831308365971E-2,6.0790987850195828,0.50999999999999379,-9.375,729.82268171000203]
[1230,3.3000000000000806E-3,{"$f":"$D$4*'SBUH Model'!B144","v":6.6000000000001613E-3},1.8720000000000001,1.6475658656852763,6.533423594455412E-3,0.15371255144235027,1.9944221269286577E-3,0.92283187585304061,5.3652235925906178E-3,9.9816193804179911E-3,1.0132508767036768E-2,6.0795052602220609,0.49500000000001215,-9.375,727.02218697022408]
[1240,3.2999999999999696E-3,{"$f":"$D$4*'SBUH Model'!B145","v":6.5999999999999392E-3},1.8786,1.6540997196746996,6.5338539894232994E-3,0.15571774626691251,2.0051948245622397E-3,0.92820278377741494,5.3709079243743352E-3,9.9822769282855977E-3,9.9819481543517944E-3,5.9891688926110769,0.49499999999999544,-9.375,724.13135586283511]
[1250,3.3999999999999586E-3,{"$f":"$D$4*'SBUH Model'!B146","v":6.7999999999999172E-3},1.8854,1.6608320150009186,6.7322953262189955E-3,0.15779493199931463,2.0771857324021203E-3,0.9337423504369845,5.5395666595695614E-3,1.0285451192834576E-2,1.0133864060560088E-2,6.0803184363360527,0.50999999999999379,-9.375,721.34667429917113]
[1260,3.2999999999999696E-3,{"$f":"$D$4*'SBUH Model'!B147","v":6.5999999999999392E-3},1.8919999999999999,1.6673667300816344,6.5347150807157917E-3,0.15982188271506767,2.0269507157530398E-3,0.9391246791861978,5.3823287492132943E-3,9.9835924844269026E-3,1.0134521838630738E-2,6.0807131031784429,0.49499999999999544,-9.375,718.54738740234961]
[1270,3.3000000000000806E-3,{"$f":"$D$4*'SBUH Model'!B148","v":6.6000000000001613E-3},1.8986000000000001,1.67390186311445,6.5351330328156099E-3,0.16185949226716231,2.0376095520946436E-3,0.9445125746946631,5.3878955084653013E-3,9.9842310223571817E-3,9.9839117533920413E-3,5.9903470520352249,0.49500000000001215,-9.375,715.65773445438481]
[1280,3.3999999999999586E-3,{"$f":"$D$4*'SBUH Model'!B149","v":6.7999999999999172E-3},1.9054,1.6806354633970955,6.7336002826454688E-3,0.16396995646322374,2.1104641960614234E-3,0.95006952187855331,5.5569471838902151E-3,1.028744487626391E-2,1.0135837949310545E-2,{"$f":"L149*($D$5*60)","v":6.0815027695863266},{"$f":"(C149/12)*O$4","v":0.50999999999999379},-9.375,712.87423722397114]
[1290,3.2999999999999696E-3,{"$f":"$D$4*'SBUH Model'!B150","v":6.5999999999999392E-3},{"$f":"C150+D149","v":1.9119999999999999},{"$f":"IF(D150<0.2*F$8,0,(D150-0.2*F$8)^2/(D150+0.8*F$8))","v":1.6871714327458622},6.5359693487667681E-3,{"$f":"IF(D150<0.2*F$11,0,(D150-0.2*F$11)^2/(D150+0.8*F$11))","v":0.16602909236313279},2.0591358999090537E-3,{"$f":"IF(D150<0.2*F$12,0,(D150-0.2*F$12)^2/(D150+0.8*F$12))","v":0.95546860279814261},5.3990809195892941E-3,{"$f":"((F150/12)*SUMPRODUCT(D$8:D$10,G$8:G$10)+(H150/12)*D$11+(J150/12)*D$12)/($D$5*60)","v":9.9855087272825629E-3},{"$f":"MAX(0,L149+(D$5/(2*$D$16+D$5))*(K149+K150-2*L149))","v":1.0136476801773237E-2},6.0818860810639421,0.49499999999999544,{"$f":"-MIN(O$9*D$5*60,SUM(M150,N150,P149))","v":-9.375},710.07612330503503]
[1300,3.0000000000000027E-3,{"$f":"$D$4*'SBUH Model'!B151","v":6.0000000000000053E-3},1.9179999999999999,1.6931135754648978,{"$f":"MAX(0,E151-E150)","v":5.9421427190355924E-3},0.16791018704233451,1.8810946792017225E-3,0.96038159058372519,4.9129877855825788E-3,9.0782735985265976E-3,9.5318911629045794E-3,5.7191346977427475,0.4500000000000004,-9.375,{"$f":"P150+SUM(M151:O151)","v":706.87025800277775}]
[1310,3.0000000000000027E-3,{"$f":"$D$4*'SBUH Model'!B152","v":6.0000000000000053E-3},1.9239999999999999,1.6990560508140837,5.942475349185905E-3,0.16979997031695174,1.8897832746172238E-3,0.9652990566402464,4.9174660565212136E-3,9.0787817834784654E-3,9.0785276910025324E-3,5.4471166146015193,0.4500000000000004,-9.375,703.39237461737923]
[1320,3.0000000000000027E-3,{"$f":"$D$4*'SBUH Model'!B153","v":6.0000000000000053E-3},1.93,1.7049988559331306,5.9428051190468789E-3,0.17169841472380712,1.8984444068553818E-3,0.97022097335023638,4.9219167099899819E-3,9.0792855985438441E-3,9.0790336910111548E-3,5.4474202146066926,0.4500000000000004,-9.375,699.91479483198589]
[1330,3.0000000000000027E-3,{"$f":"$D$4*'SBUH Model'!B154","v":6.0000000000000053E-3},1.9359999999999999,1.7109419879944512,5.9431320613205774E-3,0.17360549291534352,1.9070781915364043E-3,0.97514731332284899,4.9263399726126034E-3,9.0797850936842148E-3,9.0795353461140295E-3,5.4477212076684181,0.4500000000000004,-9.375,696.43751603965427]
[1340,3.0000000000000027E-3,{"$f":"$D$4*'SBUH Model'!B155","v":6.0000000000000053E-3},1.9419999999999999,1.7168854442026911,5.9434562082398834E-3,0.17552117765901587,1.9156847436723468E-3,0.98007804939154131,4.9307360686923207E-3,9.0802803181442657E-3,9.0800327059142403E-3,5.4480196235485439,0.4500000000000004,-9.375,692.96053566320279]
[1350,3.0000000000000027E-3,{"$f":"$D$4*'SBUH Model'!B156","v":6.0000000000000053E-3},1.948,1.722829221794274,5.9437775915829327E-3,0.17744544183668781,1.9242641776719416E-3,0.98501315461178285,4.9351052202415424E-3,9.0807713204739248E-3,9.0805258193090953E-3,5.4483154915854568,0.4500000000000004,-9.375,689.48385115478823]
[1360,3.0000000000000027E-3,{"$f":"$D$4*'SBUH Model'!B157","v":6.0000000000000053E-3},1.954,1.728773318036948,5.9440962426740018E-3,0.17937825844403057,1.9328166073427633E-3,0.989952602258791,4.939447647008155E-3,9.081258148529725E-3,9.0810147345018258E-3,5.4486088407010955,0.4500000000000004,-9.375,686.00745999548928]
[1370,3.0000000000000027E-3,{"$f":"$D$4*'SBUH Model'!B158","v":6.0000000000000053E-3},1.96,1.7347177302293466,5.9444121923986071E-3,0.18131960058992777,1.9413421458971958E-3,0.99489636582529684,4.9437635665058322E-3,9.0817408494978727E-3,9.0814994990137989E-3,5.4488996994082797,0.4500000000000004,-9.375,682.53135969489756]
[1380,3.0000000000000027E-3,{"$f":"$D$4*'SBUH Model'!B159","v":6.0000000000000053E-3},1.966,1.7406624557005503,5.9447254712037267E-3,0.18326944149588148,1.9498409059537092E-3,0.99984441901933596,4.9480531940391259E-3,9.0822194698945806E-3,9.0819801596962266E-3,5.4491880958177363,0.4500000000000004,-9.375,679.05554779071531]
[1390,3.0000000000000027E-3,{"$f":"$D$4*'SBUH Model'!B160","v":6.0000000000000053E-3},1.972,1.7466074918096612,5.9450361091109016E-3,0.18522775449542447,1.9583129995429938E-3,1.0047967357620675,4.9523167427315551E-3,9.0826940555861005E-3,9.0824567627403405E-3,5.4494740576442044,0.4500000000000004,-9.375,675.58002184835948]
[1400,3.0000000000000027E-3,{"$f":"$D$4*'SBUH Model'!B161","v":6.0000000000000053E-3},1.978,1.7525528359453806,5.9453441357193437E-3,0.18719451303353377,1.9667585381092922E-3,1.0097532901856179,4.9565544235503634E-3,9.0831646517934399E-3,9.0829293536897702E-3,5.4497576122138618,0.4500000000000004,-9.375,672.10477946057335]
[1410,3.0000000000000027E-3,{"$f":"$D$4*'SBUH Model'!B162","v":6.0000000000000053E-3},1.984,1.7584984855255972,5.9456495802165943E-3,0.18916969066605044,1.9751776325166726E-3,1.0147140566309525,4.9607664453346079E-3,9.0836313031086857E-3,9.0833979774510628E-3,5.4500387864706381,0.4500000000000004,-9.375,668.629818247044]
[1420,2.7000000000000357E-3,{"$f":"$D$4*'SBUH Model'!B163","v":5.4000000000000714E-3},1.9894000000000001,1.76384982919192,5.3513436663228386E-3,0.19095452709381708,1.7848364277666395E-3,1.0191823266698168,4.4682700388642971E-3,8.1756639346598926E-3,8.6296476188842883E-3,5.1777885713305727,0.40500000000000536,-9.375,664.83760681837452]
[1430,2.5999999999999357E-3,{"$f":"$D$4*'SBUH Model'!B164","v":5.1999999999998714E-3},1.9945999999999999,1.7690032051050188,5.1533759130988344E-3,0.19267966574211115,1.7251386482940723E-3,1.0234882930858946,4.3059664160778333E-3,7.8732132005676636E-3,8.0244385676137772E-3,4.8146631405682667,0.38999999999999035,-9.375,660.66726995894282]
[1440,2.7000000000000357E-3,{"$f":"$D$4*'SBUH Model'!B165","v":5.4000000000000714E-3},2,1.7743550250288795,5.3518199238606901E-3,0.1944777911164467,1.7981253743355463E-3,1.0279631663428228,4.4748732569281913E-3,8.1763915503427209E-3,8.0248023754551923E-3,4.8148814252731151,0.40500000000000536,-9.375,656.51215138421594]
[1450,0,{"$f":"$D$4*'SBUH Model'!B166","v":0},2,1.7743550250288795,0,0.1944777911164467,0,1.0279631663428228,0,0,4.0881957751713605E-3,2.4529174651028161,0,-9.375,649.59006884931875]
[1460,0,{"$f":"$D$4*'SBUH Model'!B167","v":0},2,1.7743550250288795,0,0.1944777911164467,0,1.0279631663428228,0,0,0,0,0,-9.375,640.21506884931875]
[{"$f":"A167+10","v":1470},0,{"$f":"$D$4*'SBUH Model'!B168","v":0},2,1.7743550250288795,0,0.1944777911164467,0,1.0279631663428228,0,0,0,0,0,-9.375,630.84006884931875]
[{"$f":"A168+10","v":1480},0,{"$f":"$D$4*'SBUH Model'!B169","v":0},2,1.7743550250288795,0,0.1944777911164467,0,1.0279631663428228,0,0,0,0,0,-9.375,621.46506884931875]
[{"$f":"A169+10","v":1490},0,{"$f":"$D$4*'SBUH Model'!B170","v":0},2,1.7743550250288795,0,0.1944777911164467,0,1.0279631663428228,0,0,0,0,0,-9.375,612.09006884931875]
[1500,0,{"$f":"$D$4*'SBUH Model'!B171","v":0},2,1.7743550250288795,0,0.1944777911164467,0,1.0279631663428228,0,0,0,0,0,-9.375,602.71506884931875]
[1510,0,{"$f":"$D$4*'SBUH Model'!B172","v":0},2,1.7743550250288795,0,0.1944777911164467,0,1.0279631663428228,0,0,0,0,0,-9.375,593.34006884931875]
[1520,0,{"$f":"$D$4*'SBUH Model'!B173","v":0},2,1.7743550250288795,0,0.1944777911164467,0,1.0279631663428228,0,0,0,0,0,-9.375,583.96506884931875]
[1530,0,{"$f":"$D$4*'SBUH Model'!B174","v":0},2,1.7743550250288795,0,0.1944777911164467,0,1.0279631663428228,0,0,0,0,0,-9.375,574.59006884931875]
[1540,0,{"$f":"$D$4*'SBUH Model'!B175","v":0},2,1.7743550250288795,0,0.1944777911164467,0,1.0279631663428228,0,0,0,0,0,-9.375,565.21506884931875]
[1550,0,{"$f":"$D$4*'SBUH Model'!B176","v":0},2,1.7743550250288795,0,0.1944777911164467,0,1.0279631663428228,0,0,0,0,0,-9.375,555.84006884931875]
[1560,0,{"$f":"$D$4*'SBUH Model'!B177","v":0},2,1.7743550250288795,0,0.1944777911164467,0,1.0279631663428228,0,0,0,0,0,-9.375,546.46506884931875]
[1570,0,{"$f":"$D$4*'SBUH Model'!B178","v":0},2,1.7743550250288795,0,0.1944777911164467,0,1.0279631663428228,0,0,0,0,0,-9.375,537.09006884931875]
[1580,0,{"$f":"$D$4*'SBUH Model'!B179","v":0},2,1.7743550250288795,0,0.1944777911164467,0,1.0279631663428228,0,0,0,0,0,-9.375,527.71506884931875]
[1590,0,{"$f":"$D$4*'SBUH Model'!B180","v":0},2,1.7743550250288795,0,0.1944777911164467,0,1.0279631663428228,0,0,0,0,0,-9.375,518.34006884931875]
[1600,0,{"$f":"$D$4*'SBUH Model'!B181","v":0},2,1.7743550250288795,0,0.1944777911164467,0,1.0279631663428228,0,0,0,0,0,-9.375,508.96506884931875]
[1610,0,{"$f":"$D$4*'SBUH Model'!B182","v":0},2,1.7743550250288795,0,0.1944777911164467,0,1.0279631663428228,0,0,0,0,0,-9.375,499.59006884931875]
[1620,0,{"$f":"$D$4*'SBUH Model'!B183","v":0},2,1.7743550250288795,0,0.1944777911164467,0,1.0279631663428228,0,0,0,0,0,-9.375,490.21506884931875]
[1630,0,{"$f":"$D$4*'SBUH Model'!B184","v":0},2,1.7743550250288795,0,0.1944777911164467,0,1.0279631663428228,0,0,0,0,0,-9.375,480.84006884931875]
[1640,0,{"$f":"$D$4*'SBUH Model'!B185","v":0},2,1.7743550250288795,0,0.1944777911164467,0,1.0279631663428228,0,0,0,0,0,-9.375,471.46506884931875]
[1650,0,{"$f":"$D$4*'SBUH Model'!B186","v":0},2,1.7743550250288795,0,0.1944777911164467,0,1.0279631663428228,0,0,0,0,0,-9.375,462.09006884931875]
[1660,0,{"$f":"$D$4*'SBUH Model'!B187","v":0},2,1.7743550250288795,0,0.1944777911164467,0,1.0279631663428228,0,0,0,0,0,-9.375,452.71506884931875]
[1670,0,{"$f":"$D$4*'SBUH Model'!B188","v":0},2,1.7743550250288795,0,0.1944777911164467,0,1.0279631663428228,0,0,0,0,0,-9.375,443.34006884931875]
[1680,0,{"$f":"$D$4*'SBUH Model'!B189","v":0},2,1.7743550250288795,0,0.1944777911164467,0,1.0279631663428228,0,0,0,0,0,-9.375,433.96506884931875]
[1690,0,{"$f":"$D$4*'SBUH Model'!B190","v":0},2,1.7743550250288795,0,0.1944777911164467,0,1.0279631663428228,0,0,0,0,0,-9.375,424.59006884931875]
[1700,0,{"$f":"$D$4*'SBUH Model'!B191","v":0},2,1.7743550250288795,0,0.1944777911164467,0,1.0279631663428228,0,0,0,0,0,-9.375,415.21506884931875]
[1710,0,{"$f":"$D$4*'SBUH Model'!B192","v":0},2,1.7743550250288795,0,0.1944777911164467,0,1.0279631663428228,0,0,0,0,0,-9.375,405.84006884931875]
[1720,0,{"$f":"$D$4*'SBUH Model'!B193","v":0},2,1.7743550250288795,0,0.1944777911164467,0,1.0279631663428228,0,0,0,0,0,-9.375,396.46506884931875]
[1730,0,{"$f":"$D$4*'SBUH Model'!B194","v":0},2,1.7743550250288795,0,0.1944777911164467,0,1.0279631663428228,0,0,0,0,0,-9.375,387.09006884931875]
[1740,0,{"$f":"$D$4*'SBUH Model'!B195","v":0},2,1.7743550250288795,0,0.1944777911164467,0,1.0279631663428228,0,0,0,0,0,-9.375,377.71506884931875]
[1750,0,{"$f":"$D$4*'SBUH Model'!B196","v":0},2,1.7743550250288795,0,0.1944777911164467,0,1.0279631663428228,0,0,0,0,0,-9.375,368.34006884931875]
[1760,0,{"$f":"$D$4*'SBUH Model'!B197","v":0},2,1.7743550250288795,0,0.1944777911164467,0,1.0279631663428228,0,0,0,0,0,-9.375,358.96506884931875]
[1770,0,{"$f":"$D$4*'SBUH Model'!B198","v":0},2,1.7743550250288795,0,0.1944777911164467,0,1.0279631663428228,0,0,0,0,0,-9.375,349.59006884931875]
[1780,0,{"$f":"$D$4*'SBUH Model'!B199","v":0},2,1.7743550250288795,0,0.1944777911164467,0,1.0279631663428228,0,0,0,0,0,-9.375,340.21506884931875]
[1790,0,{"$f":"$D$4*'SBUH Model'!B200","v":0},2,1.7743550250288795,0,0.1944777911164467,0,1.0279631663428228,0,0,0,0,0,-9.375,330.84006884931875]
[1800,0,{"$f":"$D$4*'SBUH Model'!B201","v":0},2,1.7743550250288795,0,0.1944777911164467,0,1.0279631663428228,0,0,0,0,0,-9.375,321.46506884931875]
[1810,0,{"$f":"$D$4*'SBUH Model'!B202","v":0},2,1.7743550250288795,0,0.1944777911164467,0,1.0279631663428228,0,0,0,0,0,-9.375,312.09006884931875]
[1820,0,{"$f":"$D$4*'SBUH Model'!B203","v":0},2,1.7743550250288795,0,0.1944777911164467,0,1.0279631663428228,0,0,0,0,0,-9.375,302.71506884931875]
[1830,0,{"$f":"$D$4*'SBUH Model'!B204","v":0},2,1.7743550250288795,0,0.1944777911164467,0,1.0279631663428228,0,0,0,0,0,-9.375,293.34006884931875]
[1840,0,{"$f":"$D$4*'SBUH Model'!B205","v":0},2,1.7743550250288795,0,0.1944777911164467,0,1.0279631663428228,0,0,0,0,0,-9.375,283.96506884931875]
[1850,0,{"$f":"$D$4*'SBUH Model'!B206","v":0},2,1.7743550250288795,0,0.1944777911164467,0,1.0279631663428228,0,0,0,0,0,-9.375,274.59006884931875]
[1860,0,{"$f":"$D$4*'SBUH Model'!B207","v":0},2,1.7743550250288795,0,0.1944777911164467,0,1.0279631663428228,0,0,0,0,0,-9.375,265.21506884931875]
[1870,0,{"$f":"$D$4*'SBUH Model'!B208","v":0},2,1.7743550250288795,0,0.1944777911164467,0,1.0279631663428228,0,0,0,0,0,-9.375,255.84006884931875]
[1880,0,{"$f":"$D$4*'SBUH Model'!B209","v":0},2,1.7743550250288795,0,0.1944777911164467,0,1.0279631663428228,0,0,0,0,0,-9.375,246.46506884931875]
[1890,0,{"$f":"$D$4*'SBUH Model'!B210","v":0},2,1.7743550250288795,0,0.1944777911164467,0,1.0279631663428228,0,0,0,0,0,-9.375,237.09006884931875]
[1900,0,{"$f":"$D$4*'SBUH Model'!B211","v":0},2,1.7743550250288795,0,0.1944777911164467,0,1.0279631663428228,0,0,0,0,0,-9.375,227.71506884931875]
[1910,0,{"$f":"$D$4*'SBUH Model'!B212","v":0},2,1.7743550250288795,0,0.1944777911164467,0,1.0279631663428228,0,0,0,0,0,-9.375,218.34006884931875]
[1920,0,{"$f":"$D$4*'SBUH Model'!B213","v":0},2,1.7743550250288795,0,0.1944777911164467,0,1.0279631663428228,0,0,0,{"$f":"L213*($D$5*60)","v":0},{"$f":"(C213/12)*O$4","v":0},-9.375,208.96506884931875]
[1930,0,{"$f":"$D$4*'SBUH Model'!B214","v":0},{"$f":"C214+D213","v":2},{"$f":"IF(D214<0.2*F$8,0,(D214-0.2*F$8)^2/(D214+0.8*F$8))","v":1.7743550250288795},0,{"$f":"IF(D214<0.2*F$11,0,(D214-0.2*F$11)^2/(D214+0.8*F$11))","v":0.1944777911164467},0,{"$f":"IF(D214<0.2*F$12,0,(D214-0.2*F$12)^2/(D214+0.8*F$12))","v":1.0279631663428228},0,{"$f":"((F214/12)*SUMPRODUCT(D$8:D$10,G$8:G$10)+(H214/12)*D$11+(J214/12)*D$12)/($D$5*60)","v":0},{"$f":"MAX(0,L213+(D$5/(2*$D$16+D$5))*(K213+K214-2*L213))","v":0},0,0,{"$f":"-MIN(O$9*D$5*60,SUM(M214,N214,P213))","v":-9.375},199.59006884931875]
[1940,0,{"$f":"$D$4*'SBUH Model'!B215","v":0},2,1.7743550250288795,{"$f":"MAX(0,E215-E214)","v":0},0.1944777911164467,0,1.0279631663428228,0,0,0,0,0,-9.375,{"$f":"P214+SUM(M215:O215)","v":190.21506884931875}]
[1950,0,{"$f":"$D$4*'SBUH Model'!B216","v":0},2,1.7743550250288795,0,0.1944777911164467,0,1.0279631663428228,0,0,0,0,0,-9.375,180.84006884931875]
[1960,0,{"$f":"$D$4*'SBUH Model'!B217","v":0},2,1.7743550250288795,0,0.1944777911164467,0,1.0279631663428228,0,0,0,0,0,-9.375,171.46506884931875]
[1970,0,{"$f":"$D$4*'SBUH Model'!B218","v":0},2,1.7743550250288795,0,0.1944777911164467,0,1.0279631663428228,0,0,0,0,0,-9.375,162.09006884931875]
[1980,0,{"$f":"$D$4*'SBUH Model'!B219","v":0},2,1.7743550250288795,0,0.1944777911164467,0,1.0279631663428228,0,0,0,0,0,-9.375,152.71506884931875]
[1990,0,{"$f":"$D$4*'SBUH Model'!B220","v":0},2,1.7743550250288795,0,0.1944777911164467,0,1.0279631663428228,0,0,0,0,0,-9.375,143.34006884931875]
[2000,0,{"$f":"$D$4*'SBUH Model'!B221","v":0},2,1.7743550250288795,0,0.1944777911164467,0,1.0279631663428228,0,0,0,0,0,-9.375,133.96506884931875]
[2010,0,{"$f":"$D$4*'SBUH Model'!B222","v":0},2,1.7743550250288795,0,0.1944777911164467,0,1.0279631663428228,0,0,0,0,0,-9.375,124.59006884931875]
[2020,0,{"$f":"$D$4*'SBUH Model'!B223","v":0},2,1.7743550250288795,0,0.1944777911164467,0,1.0279631663428228,0,0,0,0,0,-9.375,115.21506884931875]
[2030,0,{"$f":"$D$4*'SBUH Model'!B224","v":0},2,1.7743550250288795,0,0.1944777911164467,0,1.0279631663428228,0,0,0,0,0,-9.375,105.84006884931875]
[2040,0,{"$f":"$D$4*'SBUH Model'!B225","v":0},2,1.7743550250288795,0,0.1944777911164467,0,1.0279631663428228,0,0,0,0,0,-9.375,96.465068849318754]
[2050,0,{"$f":"$D$4*'SBUH Model'!B226","v":0},2,1.7743550250288795,0,0.1944777911164467,0,1.0279631663428228,0,0,0,0,0,-9.375,87.090068849318754]
[2060,0,{"$f":"$D$4*'SBUH Model'!B227","v":0},2,1.7743550250288795,0,0.1944777911164467,0,1.0279631663428228,0,0,0,0,0,-9.375,77.715068849318754]
[2070,0,{"$f":"$D$4*'SBUH Model'!B228","v":0},2,1.7743550250288795,0,0.1944777911164467,0,1.0279631663428228,0,0,0,0,0,-9.375,68.340068849318754]
[2080,0,{"$f":"$D$4*'SBUH Model'!B229","v":0},2,1.7743550250288795,0,0.1944777911164467,0,1.0279631663428228,0,0,0,0,0,-9.375,58.965068849318754]
[2090,0,{"$f":"$D$4*'SBUH Model'!B230","v":0},2,1.7743550250288795,0,0.1944777911164467,0,1.0279631663428228,0,0,0,0,0,-9.375,49.590068849318754]
[2100,0,{"$f":"$D$4*'SBUH Model'!B231","v":0},2,1.7743550250288795,0,0.1944777911164467,0,1.0279631663428228,0,0,0,0,0,-9.375,40.215068849318754]
[2110,0,{"$f":"$D$4*'SBUH Model'!B232","v":0},2,1.7743550250288795,0,0.1944777911164467,0,1.0279631663428228,0,0,0,0,0,-9.375,30.840068849318754]
[2120,0,{"$f":"$D$4*'SBUH Model'!B233","v":0},2,1.7743550250288795,0,0.1944777911164467,0,1.0279631663428228,0,0,0,0,0,-9.375,21.465068849318754]
[{"$f":"A233+10","v":2130},0,{"$f":"$D$4*'SBUH Model'!B234","v":0},2,1.7743550250288795,0,0.1944777911164467,0,1.0279631663428228,0,0,0,0,0,-9.375,12.090068849318754]
[2140,0,{"$f":"$D$4*'SBUH Model'!B235","v":0},2,1.7743550250288795,0,0.1944777911164467,0,1.0279631663428228,0,0,0,0,0,-9.375,2.7150688493187545]
[2150,0,{"$f":"$D$4*'SBUH Model'!B236","v":0},2,1.7743550250288795,0,0.1944777911164467,0,1.0279631663428228,0,0,0,0,0,-2.7150688493187545,0]
[2160,0,{"$f":"$D$4*'SBUH Model'!B237","v":0},2,1.7743550250288795,0,0.1944777911164467,0,1.0279631663428228,0,0,0,0,0,0,0]
[2170,0,{"$f":"$D$4*'SBUH Model'!B238","v":0},2,1.7743550250288795,0,0.1944777911164467,0,1.0279631663428228,0,0,0,0,0,0,0]
[2180,0,{"$f":"$D$4*'SBUH Model'!B239","v":0},2,1.7743550250288795,0,0.1944777911164467,0,1.0279631663428228,0,0,0,0,0,0,0]
[2190,0,{"$f":"$D$4*'SBUH Model'!B240","v":0},2,1.7743550250288795,0,0.1944777911164467,0,1.0279631663428228,0,0,0,0,0,0,0]
[2200,0,{"$f":"$D$4*'SBUH Model'!B241","v":0},2,1.7743550250288795,0,0.1944777911164467,0,1.0279631663428228,0,0,0,0,0,0,0]
[2210,0,{"$f":"$D$4*'SBUH Model'!B242","v":0},2,1.7743550250288795,0,0.1944777911164467,0,1.0279631663428228,0,0,0,0,0,0,0]
[2220,0,{"$f":"$D$4*'SBUH Model'!B243","v":0},2,1.7743550250288795,0,0.1944777911164467,0,1.0279631663428228,0,0,0,0,0,0,0]
[2230,0,{"$f":"$D$4*'SBUH Model'!B244","v":0},2,1.7743550250288795,0,0.1944777911164467,0,1.0279631663428228,0,0,0,0,0,0,0]
[2240,0,{"$f":"$D$4*'SBUH Model'!B245","v":0},2,1.7743550250288795,0,0.1944777911164467,0,1.0279631663428228,0,0,0,0,0,0,0]
[2250,0,{"$f":"$D$4*'SBUH Model'!B246","v":0},2,1.7743550250288795,0,0.1944777911164467,0,1.0279631663428228,0,0,0,0,0,0,0]
[2260,0,{"$f":"$D$4*'SBUH Model'!B247","v":0},2,1.7743550250288795,0,0.1944777911164467,0,1.0279631663428228,0,0,0,0,0,0,0]
[2270,0,{"$f":"$D$4*'SBUH Model'!B248","v":0},2,1.7743550250288795,0,0.1944777911164467,0,1.0279631663428228,0,0,0,0,0,0,0]
[2280,0,{"$f":"$D$4*'SBUH Model'!B249","v":0},2,1.7743550250288795,0,0.1944777911164467,0,1.0279631663428228,0,0,0,0,0,0,0]
[2290,0,{"$f":"$D$4*'SBUH Model'!B250","v":0},2,1.7743550250288795,0,0.1944777911164467,0,1.0279631663428228,0,0,0,0,0,0,0]
[2300,0,{"$f":"$D$4*'SBUH Model'!B251","v":0},2,1.7743550250288795,0,0.1944777911164467,0,1.0279631663428228,0,0,0,0,0,0,0]
[2310,0,{"$f":"$D$4*'SBUH Model'!B252","v":0},2,1.7743550250288795,0,0.1944777911164467,0,1.0279631663428228,0,0,0,0,0,0,0]
[2320,0,{"$f":"$D$4*'SBUH Model'!B253","v":0},2,1.7743550250288795,0,0.1944777911164467,0,1.0279631663428228,0,0,0,0,0,0,0]
[2330,0,{"$f":"$D$4*'SBUH Model'!B254","v":0},2,1.7743550250288795,0,0.1944777911164467,0,1.0279631663428228,0,0,0,0,0,0,0]
[2340,0,{"$f":"$D$4*'SBUH Model'!B255","v":0},2,1.7743550250288795,0,0.1944777911164467,0,1.0279631663428228,0,0,0,0,0,0,0]
[2350,0,{"$f":"$D$4*'SBUH Model'!B256","v":0},2,1.7743550250288795,0,0.1944777911164467,0,1.0279631663428228,0,0,0,0,0,0,0]
[2360,0,{"$f":"$D$4*'SBUH Model'!B257","v":0},2,1.7743550250288795,0,0.1944777911164467,0,1.0279631663428228,0,0,0,0,0,0,0]
[2370,0,{"$f":"$D$4*'SBUH Model'!B258","v":0},2,1.7743550250288795,0,0.1944777911164467,0,1.0279631663428228,0,0,0,0,0,0,0]
[2380,0,{"$f":"$D$4*'SBUH Model'!B259","v":0},2,1.7743550250288795,0,0.1944777911164467,0,1.0279631663428228,0,0,0,0,0,0,0]
[2390,0,{"$f":"$D$4*'SBUH Model'!B260","v":0},2,1.7743550250288795,0,0.1944777911164467,0,1.0279631663428228,0,0,0,0,0,0,0]
[2400,0,{"$f":"$D$4*'SBUH Model'!B261","v":0},2,1.7743550250288795,0,0.1944777911164467,0,1.0279631663428228,0,0,0,0,0,0,0]
[2410,0,{"$f":"$D$4*'SBUH Model'!B262","v":0},2,1.7743550250288795,0,0.1944777911164467,0,1.0279631663428228,0,0,0,0,0,0,0]
[2420,0,{"$f":"$D$4*'SBUH Model'!B263","v":0},2,1.7743550250288795,0,0.1944777911164467,0,1.0279631663428228,0,0,0,0,0,0,0]
[2430,0,{"$f":"$D$4*'SBUH Model'!B264","v":0},2,1.7743550250288795,0,0.1944777911164467,0,1.0279631663428228,0,0,0,0,0,0,0]
[2440,0,{"$f":"$D$4*'SBUH Model'!B265","v":0},2,1.7743550250288795,0,0.1944777911164467,0,1.0279631663428228,0,0,0,0,0,0,0]
[2450,0,{"$f":"$D$4*'SBUH Model'!B266","v":0},2,1.7743550250288795,0,0.1944777911164467,0,1.0279631663428228,0,0,0,0,0,0,0]
[2460,0,{"$f":"$D$4*'SBUH Model'!B267","v":0},2,1.7743550250288795,0,0.1944777911164467,0,1.0279631663428228,0,0,0,0,0,0,0]
[2470,0,{"$f":"$D$4*'SBUH Model'!B268","v":0},2,1.7743550250288795,0,0.1944777911164467,0,1.0279631663428228,0,0,0,0,0,0,0]
[2480,0,{"$f":"$D$4*'SBUH Model'!B269","v":0},2,1.7743550250288795,0,0.1944777911164467,0,1.0279631663428228,0,0,0,0,0,0,0]
[2490,0,{"$f":"$D$4*'SBUH Model'!B270","v":0},2,1.7743550250288795,0,0.1944777911164467,0,1.0279631663428228,0,0,0,0,0,0,0]
[2500,0,{"$f":"$D$4*'SBUH Model'!B271","v":0},2,1.7743550250288795,0,0.1944777911164467,0,1.0279631663428228,0,0,0,0,0,0,0]
[2510,0,{"$f":"$D$4*'SBUH Model'!B272","v":0},2,1.7743550250288795,0,0.1944777911164467,0,1.0279631663428228,0,0,0,0,0,0,0]
[2520,0,{"$f":"$D$4*'SBUH Model'!B273","v":0},2,1.7743550250288795,0,0.1944777911164467,0,1.0279631663428228,0,0,0,0,0,0,0]
[2530,0,{"$f":"$D$4*'SBUH Model'!B274","v":0},2,1.7743550250288795,0,0.1944777911164467,0,1.0279631663428228,0,0,0,0,0,0,0]
[2540,0,{"$f":"$D$4*'SBUH Model'!B275","v":0},2,1.7743550250288795,0,0.1944777911164467,0,1.0279631663428228,0,0,0,0,0,0,0]
[2550,0,{"$f":"$D$4*'SBUH Model'!B276","v":0},2,1.7743550250288795,0,0.1944777911164467,0,1.0279631663428228,0,0,0,0,0,0,0]
[2560,0,{"$f":"$D$4*'SBUH Model'!B277","v":0},2,1.7743550250288795,0,0.1944777911164467,0,1.0279631663428228,0,0,0,{"$f":"L277*($D$5*60)","v":0},{"$f":"(C277/12)*O$4","v":0},0,0]
[2570,0,{"$f":"$D$4*'SBUH Model'!B278","v":0},{"$f":"C278+D277","v":2},{"$f":"IF(D278<0.2*F$8,0,(D278-0.2*F$8)^2/(D278+0.8*F$8))","v":1.7743550250288795},0,{"$f":"IF(D278<0.2*F$11,0,(D278-0.2*F$11)^2/(D278+0.8*F$11))","v":0.1944777911164467},0,{"$f":"IF(D278<0.2*F$12,0,(D278-0.2*F$12)^2/(D278+0.8*F$12))","v":1.0279631663428228},0,{"$f":"((F278/12)*SUMPRODUCT(D$8:D$10,G$8:G$10)+(H278/12)*D$11+(J278/12)*D$12)/($D$5*60)","v":0},{"$f":"MAX(0,L277+(D$5/(2*$D$16+D$5))*(K277+K278-2*L277))","v":0},0,0,{"$f":"-MIN(O$9*D$5*60,SUM(M278,N278,P277))","v":0},0]
[2580,0,{"$f":"$D$4*'SBUH Model'!B279","v":0},2,1.7743550250288795,{"$f":"MAX(0,E279-E278)","v":0},0.1944777911164467,0,1.0279631663428228,0,0,0,0,0,0,{"$f":"P278+SUM(M279:O279)","v":0}]
[2590,0,{"$f":"$D$4*'SBUH Model'!B280","v":0},2,1.7743550250288795,0,0.1944777911164467,0,1.0279631663428228,0,0,0,0,0,0,0]
[2600,0,{"$f":"$D$4*'SBUH Model'!B281","v":0},2,1.7743550250288795,0,0.1944777911164467,0,1.0279631663428228,0,0,0,0,0,0,0]
[2610,0,{"$f":"$D$4*'SBUH Model'!B282","v":0},2,1.7743550250288795,0,0.1944777911164467,0,1.0279631663428228,0,0,0,0,0,0,0]
[2620,0,{"$f":"$D$4*'SBUH Model'!B283","v":0},2,1.7743550250288795,0,0.1944777911164467,0,1.0279631663428228,0,0,0,0,0,0,0]
[2630,0,{"$f":"$D$4*'SBUH Model'!B284","v":0},2,1.7743550250288795,0,0.1944777911164467,0,1.0279631663428228,0,0,0,0,0,0,0]
[2640,0,{"$f":"$D$4*'SBUH Model'!B285","v":0},2,1.7743550250288795,0,0.1944777911164467,0,1.0279631663428228,0,0,0,0,0,0,0]
[2650,0,{"$f":"$D$4*'SBUH Model'!B286","v":0},2,1.7743550250288795,0,0.1944777911164467,0,1.0279631663428228,0,0,0,0,0,0,0]
[2660,0,{"$f":"$D$4*'SBUH Model'!B287","v":0},2,1.7743550250288795,0,0.1944777911164467,0,1.0279631663428228,0,0,0,0,0,0,0]
[2670,0,{"$f":"$D$4*'SBUH Model'!B288","v":0},2,1.7743550250288795,0,0.1944777911164467,0,1.0279631663428228,0,0,0,0,0,0,0]
[2680,0,{"$f":"$D$4*'SBUH Model'!B289","v":0},2,1.7743550250288795,0,0.1944777911164467,0,1.0279631663428228,0,0,0,0,0,0,0]
[2690,0,{"$f":"$D$4*'SBUH Model'!B290","v":0},2,1.7743550250288795,0,0.1944777911164467,0,1.0279631663428228,0,0,0,0,0,0,0]
[2700,0,{"$f":"$D$4*'SBUH Model'!B291","v":0},2,1.7743550250288795,0,0.1944777911164467,0,1.0279631663428228,0,0,0,0,0,0,0]
[2710,0,{"$f":"$D$4*'SBUH Model'!B292","v":0},2,1.7743550250288795,0,0.1944777911164467,0,1.0279631663428228,0,0,0,0,0,0,0]
[2720,0,{"$f":"$D$4*'SBUH Model'!B293","v":0},2,1.7743550250288795,0,0.1944777911164467,0,1.0279631663428228,0,0,0,0,0,0,0]
[2730,0,{"$f":"$D$4*'SBUH Model'!B294","v":0},2,1.7743550250288795,0,0.1944777911164467,0,1.0279631663428228,0,0,0,0,0,0,0]
[2740,0,{"$f":"$D$4*'SBUH Model'!B295","v":0},2,1.7743550250288795,0,0.1944777911164467,0,1.0279631663428228,0,0,0,0,0,0,0]
[2750,0,{"$f":"$D$4*'SBUH Model'!B296","v":0},2,1.7743550250288795,0,0.1944777911164467,0,1.0279631663428228,0,0,0,0,0,0,0]
[2760,0,{"$f":"$D$4*'SBUH Model'!B297","v":0},2,1.7743550250288795,0,0.1944777911164467,0,1.0279631663428228,0,0,0,0,0,0,0]
[{"$f":"A297+10","v":2770},0,{"$f":"$D$4*'SBUH Model'!B298","v":0},2,1.7743550250288795,0,0.1944777911164467,0,1.0279631663428228,0,0,0,0,0,0,0]
[2780,0,{"$f":"$D$4*'SBUH Model'!B299","v":0},2,1.7743550250288795,0,0.1944777911164467,0,1.0279631663428228,0,0,0,0,0,0,0]
[2790,0,{"$f":"$D$4*'SBUH Model'!B300","v":0},2,1.7743550250288795,0,0.1944777911164467,0,1.0279631663428228,0,0,0,0,0,0,0]
[2800,0,{"$f":"$D$4*'SBUH Model'!B301","v":0},2,1.7743550250288795,0,0.1944777911164467,0,1.0279631663428228,0,0,0,0,0,0,0]
[2810,0,{"$f":"$D$4*'SBUH Model'!B302","v":0},2,1.7743550250288795,0,0.1944777911164467,0,1.0279631663428228,0,0,0,0,0,0,0]
[2820,0,{"$f":"$D$4*'SBUH Model'!B303","v":0},2,1.7743550250288795,0,0.1944777911164467,0,1.0279631663428228,0,0,0,0,0,0,0]
[2830,0,{"$f":"$D$4*'SBUH Model'!B304","v":0},2,1.7743550250288795,0,0.1944777911164467,0,1.0279631663428228,0,0,0,0,0,0,0]
[2840,0,{"$f":"$D$4*'SBUH Model'!B305","v":0},2,1.7743550250288795,0,0.1944777911164467,0,1.0279631663428228,0,0,0,0,0,0,0]
[2850,0,{"$f":"$D$4*'SBUH Model'!B306","v":0},2,1.7743550250288795,0,0.1944777911164467,0,1.0279631663428228,0,0,0,0,0,0,0]
[2860,0,{"$f":"$D$4*'SBUH Model'!B307","v":0},2,1.7743550250288795,0,0.1944777911164467,0,1.0279631663428228,0,0,0,0,0,0,0]
[2870,0,{"$f":"$D$4*'SBUH Model'!B308","v":0},2,1.7743550250288795,0,0.1944777911164467,0,1.0279631663428228,0,0,0,0,0,0,0]
[2880,0,{"$f":"$D$4*'SBUH Model'!B309","v":0},2,1.7743550250288795,0,0.1944777911164467,0,1.0279631663428228,0,0,0,0,0,0,0]
[2890,0,{"$f":"$D$4*'SBUH Model'!B310","v":0},2,1.7743550250288795,0,0.1944777911164467,0,1.0279631663428228,0,0,0,0,0,0,0]
[2900,0,{"$f":"$D$4*'SBUH Model'!B311","v":0},2,1.7743550250288795,0,0.1944777911164467,0,1.0279631663428228,0,0,0,0,0,0,0]
[2910,0,{"$f":"$D$4*'SBUH Model'!B312","v":0},2,1.7743550250288795,0,0.1944777911164467,0,1.0279631663428228,0,0,0,0,0,0,0]
[2920,0,{"$f":"$D$4*'SBUH Model'!B313","v":0},2,1.7743550250288795,0,0.1944777911164467,0,1.0279631663428228,0,0,0,0,0,0,0]
[2930,0,{"$f":"$D$4*'SBUH Model'!B314","v":0},2,1.7743550250288795,0,0.1944777911164467,0,1.0279631663428228,0,0,0,0,0,0,0]
[2940,0,{"$f":"$D$4*'SBUH Model'!B315","v":0},2,1.7743550250288795,0,0.1944777911164467,0,1.0279631663428228,0,0,0,0,0,0,0]
[2950,0,{"$f":"$D$4*'SBUH Model'!B316","v":0},2,1.7743550250288795,0,0.1944777911164467,0,1.0279631663428228,0,0,0,0,0,0,0]
[2960,0,{"$f":"$D$4*'SBUH Model'!B317","v":0},2,1.7743550250288795,0,0.1944777911164467,0,1.0279631663428228,0,0,0,0,0,0,0]
[2970,0,{"$f":"$D$4*'SBUH Model'!B318","v":0},2,1.7743550250288795,0,0.1944777911164467,0,1.0279631663428228,0,0,0,0,0,0,0]
[2980,0,{"$f":"$D$4*'SBUH Model'!B319","v":0},2,1.7743550250288795,0,0.1944777911164467,0,1.0279631663428228,0,0,0,0,0,0,0]
[2990,0,{"$f":"$D$4*'SBUH Model'!B320","v":0},2,1.7743550250288795,0,0.1944777911164467,0,1.0279631663428228,0,0,0,0,0,0,0]
[3000,0,{"$f":"$D$4*'SBUH Model'!B321","v":0},2,1.7743550250288795,0,0.1944777911164467,0,1.0279631663428228,0,0,0,0,0,0,0]
[3010,0,{"$f":"$D$4*'SBUH Model'!B322","v":0},2,1.7743550250288795,0,0.1944777911164467,0,1.0279631663428228,0,0,0,0,0,0,0]
[3020,0,{"$f":"$D$4*'SBUH Model'!B323","v":0},2,1.7743550250288795,0,0.1944777911164467,0,1.0279631663428228,0,0,0,0,0,0,0]
[3030,0,{"$f":"$D$4*'SBUH Model'!B324","v":0},2,1.7743550250288795,0,0.1944777911164467,0,1.0279631663428228,0,0,0,0,0,0,0]
[3040,0,{"$f":"$D$4*'SBUH Model'!B325","v":0},2,1.7743550250288795,0,0.1944777911164467,0,1.0279631663428228,0,0,0,0,0,0,0]
[3050,0,{"$f":"$D$4*'SBUH Model'!B326","v":0},2,1.7743550250288795,0,0.1944777911164467,0,1.0279631663428228,0,0,0,0,0,0,0]
[3060,0,{"$f":"$D$4*'SBUH Model'!B327","v":0},2,1.7743550250288795,0,0.1944777911164467,0,1.0279631663428228,0,0,0,0,0,0,0]
[3070,0,{"$f":"$D$4*'SBUH Model'!B328","v":0},2,1.7743550250288795,0,0.1944777911164467,0,1.0279631663428228,0,0,0,0,0,0,0]
[3080,0,{"$f":"$D$4*'SBUH Model'!B329","v":0},2,1.7743550250288795,0,0.1944777911164467,0,1.0279631663428228,0,0,0,0,0,0,0]
[3090,0,{"$f":"$D$4*'SBUH Model'!B330","v":0},2,1.7743550250288795,0,0.1944777911164467,0,1.0279631663428228,0,0,0,0,0,0,0]
[3100,0,{"$f":"$D$4*'SBUH Model'!B331","v":0},2,1.7743550250288795,0,0.1944777911164467,0,1.0279631663428228,0,0,0,0,0,0,0]
[3110,0,{"$f":"$D$4*'SBUH Model'!B332","v":0},2,1.7743550250288795,0,0.1944777911164467,0,1.0279631663428228,0,0,0,0,0,0,0]
[3120,0,{"$f":"$D$4*'SBUH Model'!B333","v":0},2,1.7743550250288795,0,0.1944777911164467,0,1.0279631663428228,0,0,0,0,0,0,0]
[3130,0,{"$f":"$D$4*'SBUH Model'!B334","v":0},2,1.7743550250288795,0,0.1944777911164467,0,1.0279631663428228,0,0,0,0,0,0,0]
[3140,0,{"$f":"$D$4*'SBUH Model'!B335","v":0},2,1.7743550250288795,0,0.1944777911164467,0,1.0279631663428228,0,0,0,0,0,0,0]
[3150,0,{"$f":"$D$4*'SBUH Model'!B336","v":0},2,1.7743550250288795,0,0.1944777911164467,0,1.0279631663428228,0,0,0,0,0,0,0]
[3160,0,{"$f":"$D$4*'SBUH Model'!B337","v":0},2,1.7743550250288795,0,0.1944777911164467,0,1.0279631663428228,0,0,0,0,0,0,0]
[3170,0,{"$f":"$D$4*'SBUH Model'!B338","v":0},2,1.7743550250288795,0,0.1944777911164467,0,1.0279631663428228,0,0,0,0,0,0,0]
[3180,0,{"$f":"$D$4*'SBUH Model'!B339","v":0},2,1.7743550250288795,0,0.1944777911164467,0,1.0279631663428228,0,0,0,0,0,0,0]
[3190,0,{"$f":"$D$4*'SBUH Model'!B340","v":0},2,1.7743550250288795,0,0.1944777911164467,0,1.0279631663428228,0,0,0,0,0,0,0]
[3200,0,{"$f":"$D$4*'SBUH Model'!B341","v":0},2,1.7743550250288795,0,0.1944777911164467,0,1.0279631663428228,0,0,0,{"$f":"L341*($D$5*60)","v":0},{"$f":"(C341/12)*O$4","v":0},0,0]
[3210,0,{"$f":"$D$4*'SBUH Model'!B342","v":0},{"$f":"C342+D341","v":2},{"$f":"IF(D342<0.2*F$8,0,(D342-0.2*F$8)^2/(D342+0.8*F$8))","v":1.7743550250288795},0,{"$f":"IF(D342<0.2*F$11,0,(D342-0.2*F$11)^2/(D342+0.8*F$11))","v":0.1944777911164467},0,{"$f":"IF(D342<0.2*F$12,0,(D342-0.2*F$12)^2/(D342+0.8*F$12))","v":1.0279631663428228},0,{"$f":"((F342/12)*SUMPRODUCT(D$8:D$10,G$8:G$10)+(H342/12)*D$11+(J342/12)*D$12)/($D$5*60)","v":0},{"$f":"MAX(0,L341+(D$5/(2*$D$16+D$5))*(K341+K342-2*L341))","v":0},0,0,{"$f":"-MIN(O$9*D$5*60,SUM(M342,N342,P341))","v":0},0]
[3220,0,{"$f":"$D$4*'SBUH Model'!B343","v":0},2,1.7743550250288795,{"$f":"MAX(0,E343-E342)","v":0},0.1944777911164467,0,1.0279631663428228,0,0,0,0,0,0,{"$f":"P342+SUM(M343:O343)","v":0}]
[3230,0,{"$f":"$D$4*'SBUH Model'!B344","v":0},2,1.7743550250288795,0,0.1944777911164467,0,1.0279631663428228,0,0,0,0,0,0,0]
[3240,0,{"$f":"$D$4*'SBUH Model'!B345","v":0},2,1.7743550250288795,0,0.1944777911164467,0,1.0279631663428228,0,0,0,0,0,0,0]
[3250,0,{"$f":"$D$4*'SBUH Model'!B346","v":0},2,1.7743550250288795,0,0.1944777911164467,0,1.0279631663428228,0,0,0,0,0,0,0]
[3260,0,{"$f":"$D$4*'SBUH Model'!B347","v":0},2,1.7743550250288795,0,0.1944777911164467,0,1.0279631663428228,0,0,0,0,0,0,0]
[3270,0,{"$f":"$D$4*'SBUH Model'!B348","v":0},2,1.7743550250288795,0,0.1944777911164467,0,1.0279631663428228,0,0,0,0,0,0,0]
[3280,0,{"$f":"$D$4*'SBUH Model'!B349","v":0},2,1.7743550250288795,0,0.1944777911164467,0,1.0279631663428228,0,0,0,0,0,0,0]
[3290,0,{"$f":"$D$4*'SBUH Model'!B350","v":0},2,1.7743550250288795,0,0.1944777911164467,0,1.0279631663428228,0,0,0,0,0,0,0]
[3300,0,{"$f":"$D$4*'SBUH Model'!B351","v":0},2,1.7743550250288795,0,0.1944777911164467,0,1.0279631663428228,0,0,0,0,0,0,0]
[3310,0,{"$f":"$D$4*'SBUH Model'!B352","v":0},2,1.7743550250288795,0,0.1944777911164467,0,1.0279631663428228,0,0,0,0,0,0,0]
[3320,0,{"$f":"$D$4*'SBUH Model'!B353","v":0},2,1.7743550250288795,0,0.1944777911164467,0,1.0279631663428228,0,0,0,0,0,0,0]
[3330,0,{"$f":"$D$4*'SBUH Model'!B354","v":0},2,1.7743550250288795,0,0.1944777911164467,0,1.0279631663428228,0,0,0,0,0,0,0]
[3340,0,{"$f":"$D$4*'SBUH Model'!B355","v":0},2,1.7743550250288795,0,0.1944777911164467,0,1.0279631663428228,0,0,0,0,0,0,0]
[3350,0,{"$f":"$D$4*'SBUH Model'!B356","v":0},2,1.7743550250288795,0,0.1944777911164467,0,1.0279631663428228,0,0,0,0,0,0,0]
[3360,0,{"$f":"$D$4*'SBUH Model'!B357","v":0},2,1.7743550250288795,0,0.1944777911164467,0,1.0279631663428228,0,0,0,0,0,0,0]
[3370,0,{"$f":"$D$4*'SBUH Model'!B358","v":0},2,1.7743550250288795,0,0.1944777911164467,0,1.0279631663428228,0,0,0,0,0,0,0]
[3380,0,{"$f":"$D$4*'SBUH Model'!B359","v":0},2,1.7743550250288795,0,0.1944777911164467,0,1.0279631663428228,0,0,0,0,0,0,0]
[3390,0,{"$f":"$D$4*'SBUH Model'!B360","v":0},2,1.7743550250288795,0,0.1944777911164467,0,1.0279631663428228,0,0,0,0,0,0,0]
[3400,0,{"$f":"$D$4*'SBUH Model'!B361","v":0},2,1.7743550250288795,0,0.1944777911164467,0,1.0279631663428228,0,0,0,0,0,0,0]
[{"$f":"A361+10","v":3410},0,{"$f":"$D$4*'SBUH Model'!B362","v":0},2,1.7743550250288795,0,0.1944777911164467,0,1.0279631663428228,0,0,0,0,0,0,0]
[3420,0,{"$f":"$D$4*'SBUH Model'!B363","v":0},2,1.7743550250288795,0,0.1944777911164467,0,1.0279631663428228,0,0,0,0,0,0,0]
[3430,0,{"$f":"$D$4*'SBUH Model'!B364","v":0},2,1.7743550250288795,0,0.1944777911164467,0,1.0279631663428228,0,0,0,0,0,0,0]
[3440,0,{"$f":"$D$4*'SBUH Model'!B365","v":0},2,1.7743550250288795,0,0.1944777911164467,0,1.0279631663428228,0,0,0,0,0,0,0]
[3450,0,{"$f":"$D$4*'SBUH Model'!B366","v":0},2,1.7743550250288795,0,0.1944777911164467,0,1.0279631663428228,0,0,0,0,0,0,0]
[3460,0,{"$f":"$D$4*'SBUH Model'!B367","v":0},2,1.7743550250288795,0,0.1944777911164467,0,1.0279631663428228,0,0,0,0,0,0,0]
[3470,0,{"$f":"$D$4*'SBUH Model'!B368","v":0},2,1.7743550250288795,0,0.1944777911164467,0,1.0279631663428228,0,0,0,0,0,0,0]
[3480,0,{"$f":"$D$4*'SBUH Model'!B369","v":0},2,1.7743550250288795,0,0.1944777911164467,0,1.0279631663428228,0,0,0,0,0,0,0]
[3490,0,{"$f":"$D$4*'SBUH Model'!B370","v":0},2,1.7743550250288795,0,0.1944777911164467,0,1.0279631663428228,0,0,0,0,0,0,0]
[3500,0,{"$f":"$D$4*'SBUH Model'!B371","v":0},2,1.7743550250288795,0,0.1944777911164467,0,1.0279631663428228,0,0,0,0,0,0,0]
[3510,0,{"$f":"$D$4*'SBUH Model'!B372","v":0},2,1.7743550250288795,0,0.1944777911164467,0,1.0279631663428228,0,0,0,0,0,0,0]
[3520,0,{"$f":"$D$4*'SBUH Model'!B373","v":0},2,1.7743550250288795,0,0.1944777911164467,0,1.0279631663428228,0,0,0,0,0,0,0]
[3530,0,{"$f":"$D$4*'SBUH Model'!B374","v":0},2,1.7743550250288795,0,0.1944777911164467,0,1.0279631663428228,0,0,0,0,0,0,0]
[3540,0,{"$f":"$D$4*'SBUH Model'!B375","v":0},2,1.7743550250288795,0,0.1944777911164467,0,1.0279631663428228,0,0,0,0,0,0,0]
[3550,0,{"$f":"$D$4*'SBUH Model'!B376","v":0},2,1.7743550250288795,0,0.1944777911164467,0,1.0279631663428228,0,0,0,0,0,0,0]
[3560,0,{"$f":"$D$4*'SBUH Model'!B377","v":0},2,1.7743550250288795,0,0.1944777911164467,0,1.0279631663428228,0,0,0,0,0,0,0]
[3570,0,{"$f":"$D$4*'SBUH Model'!B378","v":0},2,1.7743550250288795,0,0.1944777911164467,0,1.0279631663428228,0,0,0,0,0,0,0]
[3580,0,{"$f":"$D$4*'SBUH Model'!B379","v":0},2,1.7743550250288795,0,0.1944777911164467,0,1.0279631663428228,0,0,0,0,0,0,0]
[3590,0,{"$f":"$D$4*'SBUH Model'!B380","v":0},2,1.7743550250288795,0,0.1944777911164467,0,1.0279631663428228,0,0,0,0,0,0,0]
[3600,0,{"$f":"$D$4*'SBUH Model'!B381","v":0},2,1.7743550250288795,0,0.1944777911164467,0,1.0279631663428228,0,0,0,0,0,0,0]
[3610,0,{"$f":"$D$4*'SBUH Model'!B382","v":0},2,1.7743550250288795,0,0.1944777911164467,0,1.0279631663428228,0,0,0,0,0,0,0]
[3620,0,{"$f":"$D$4*'SBUH Model'!B383","v":0},2,1.7743550250288795,0,0.1944777911164467,0,1.0279631663428228,0,0,0,0,0,0,0]
[3630,0,{"$f":"$D$4*'SBUH Model'!B384","v":0},2,1.7743550250288795,0,0.1944777911164467,0,1.0279631663428228,0,0,0,0,0,0,0]
[3640,0,{"$f":"$D$4*'SBUH Model'!B385","v":0},2,1.7743550250288795,0,0.1944777911164467,0,1.0279631663428228,0,0,0,0,0,0,0]
[3650,0,{"$f":"$D$4*'SBUH Model'!B386","v":0},2,1.7743550250288795,0,0.1944777911164467,0,1.0279631663428228,0,0,0,0,0,0,0]
[3660,0,{"$f":"$D$4*'SBUH Model'!B387","v":0},2,1.7743550250288795,0,0.1944777911164467,0,1.0279631663428228,0,0,0,0,0,0,0]
[3670,0,{"$f":"$D$4*'SBUH Model'!B388","v":0},2,1.7743550250288795,0,0.1944777911164467,0,1.0279631663428228,0,0,0,0,0,0,0]
[3680,0,{"$f":"$D$4*'SBUH Model'!B389","v":0},2,1.7743550250288795,0,0.1944777911164467,0,1.0279631663428228,0,0,0,0,0,0,0]
[3690,0,{"$f":"$D$4*'SBUH Model'!B390","v":0},2,1.7743550250288795,0,0.1944777911164467,0,1.0279631663428228,0,0,0,0,0,0,0]
[3700,0,{"$f":"$D$4*'SBUH Model'!B391","v":0},2,1.7743550250288795,0,0.1944777911164467,0,1.0279631663428228,0,0,0,0,0,0,0]
[3710,0,{"$f":"$D$4*'SBUH Model'!B392","v":0},2,1.7743550250288795,0,0.1944777911164467,0,1.0279631663428228,0,0,0,0,0,0,0]
[3720,0,{"$f":"$D$4*'SBUH Model'!B393","v":0},2,1.7743550250288795,0,0.1944777911164467,0,1.0279631663428228,0,0,0,0,0,0,0]
[3730,0,{"$f":"$D$4*'SBUH Model'!B394","v":0},2,1.7743550250288795,0,0.1944777911164467,0,1.0279631663428228,0,0,0,0,0,0,0]
[3740,0,{"$f":"$D$4*'SBUH Model'!B395","v":0},2,1.7743550250288795,0,0.1944777911164467,0,1.0279631663428228,0,0,0,0,0,0,0]
[3750,0,{"$f":"$D$4*'SBUH Model'!B396","v":0},2,1.7743550250288795,0,0.1944777911164467,0,1.0279631663428228,0,0,0,0,0,0,0]
[3760,0,{"$f":"$D$4*'SBUH Model'!B397","v":0},2,1.7743550250288795,0,0.1944777911164467,0,1.0279631663428228,0,0,0,0,0,0,0]
[3770,0,{"$f":"$D$4*'SBUH Model'!B398","v":0},2,1.7743550250288795,0,0.1944777911164467,0,1.0279631663428228,0,0,0,0,0,0,0]
[3780,0,{"$f":"$D$4*'SBUH Model'!B399","v":0},2,1.7743550250288795,0,0.1944777911164467,0,1.0279631663428228,0,0,0,0,0,0,0]
[3790,0,{"$f":"$D$4*'SBUH Model'!B400","v":0},2,1.7743550250288795,0,0.1944777911164467,0,1.0279631663428228,0,0,0,0,0,0,0]
[3800,0,{"$f":"$D$4*'SBUH Model'!B401","v":0},2,1.7743550250288795,0,0.1944777911164467,0,1.0279631663428228,0,0,0,0,0,0,0]
[3810,0,{"$f":"$D$4*'SBUH Model'!B402","v":0},2,1.7743550250288795,0,0.1944777911164467,0,1.0279631663428228,0,0,0,0,0,0,0]
[3820,0,{"$f":"$D$4*'SBUH Model'!B403","v":0},2,1.7743550250288795,0,0.1944777911164467,0,1.0279631663428228,0,0,0,0,0,0,0]
[3830,0,{"$f":"$D$4*'SBUH Model'!B404","v":0},2,1.7743550250288795,0,0.1944777911164467,0,1.0279631663428228,0,0,0,0,0,0,0]
[3840,0,{"$f":"$D$4*'SBUH Model'!B405","v":0},2,1.7743550250288795,0,0.1944777911164467,0,1.0279631663428228,0,0,0,{"$f":"L405*($D$5*60)","v":0},{"$f":"(C405/12)*O$4","v":0},0,0]
[3850,0,{"$f":"$D$4*'SBUH Model'!B406","v":0},{"$f":"C406+D405","v":2},{"$f":"IF(D406<0.2*F$8,0,(D406-0.2*F$8)^2/(D406+0.8*F$8))","v":1.7743550250288795},0,{"$f":"IF(D406<0.2*F$11,0,(D406-0.2*F$11)^2/(D406+0.8*F$11))","v":0.1944777911164467},0,{"$f":"IF(D406<0.2*F$12,0,(D406-0.2*F$12)^2/(D406+0.8*F$12))","v":1.0279631663428228},0,{"$f":"((F406/12)*SUMPRODUCT(D$8:D$10,G$8:G$10)+(H406/12)*D$11+(J406/12)*D$12)/($D$5*60)","v":0},{"$f":"MAX(0,L405+(D$5/(2*$D$16+D$5))*(K405+K406-2*L405))","v":0},0,0,{"$f":"-MIN(O$9*D$5*60,SUM(M406,N406,P405))","v":0},0]
[3860,0,{"$f":"$D$4*'SBUH Model'!B407","v":0},2,1.7743550250288795,{"$f":"MAX(0,E407-E406)","v":0},0.1944777911164467,0,1.0279631663428228,0,0,0,0,0,0,{"$f":"P406+SUM(M407:O407)","v":0}]
[3870,0,{"$f":"$D$4*'SBUH Model'!B408","v":0},2,1.7743550250288795,0,0.1944777911164467,0,1.0279631663428228,0,0,0,0,0,0,0]
[3880,0,{"$f":"$D$4*'SBUH Model'!B409","v":0},2,1.7743550250288795,0,0.1944777911164467,0,1.0279631663428228,0,0,0,0,0,0,0]
[3890,0,{"$f":"$D$4*'SBUH Model'!B410","v":0},2,1.7743550250288795,0,0.1944777911164467,0,1.0279631663428228,0,0,0,0,0,0,0]
[3900,0,{"$f":"$D$4*'SBUH Model'!B411","v":0},2,1.7743550250288795,0,0.1944777911164467,0,1.0279631663428228,0,0,0,0,0,0,0]
[3910,0,{"$f":"$D$4*'SBUH Model'!B412","v":0},2,1.7743550250288795,0,0.1944777911164467,0,1.0279631663428228,0,0,0,0,0,0,0]
[3920,0,{"$f":"$D$4*'SBUH Model'!B413","v":0},2,1.7743550250288795,0,0.1944777911164467,0,1.0279631663428228,0,0,0,0,0,0,0]
[3930,0,{"$f":"$D$4*'SBUH Model'!B414","v":0},2,1.7743550250288795,0,0.1944777911164467,0,1.0279631663428228,0,0,0,0,0,0,0]
[3940,0,{"$f":"$D$4*'SBUH Model'!B415","v":0},2,1.7743550250288795,0,0.1944777911164467,0,1.0279631663428228,0,0,0,0,0,0,0]
[3950,0,{"$f":"$D$4*'SBUH Model'!B416","v":0},2,1.7743550250288795,0,0.1944777911164467,0,1.0279631663428228,0,0,0,0,0,0,0]
[3960,0,{"$f":"$D$4*'SBUH Model'!B417","v":0},2,1.7743550250288795,0,0.1944777911164467,0,1.0279631663428228,0,0,0,0,0,0,0]
[3970,0,{"$f":"$D$4*'SBUH Model'!B418","v":0},2,1.7743550250288795,0,0.1944777911164467,0,1.0279631663428228,0,0,0,0,0,0,0]
[3980,0,{"$f":"$D$4*'SBUH Model'!B419","v":0},2,1.7743550250288795,0,0.1944777911164467,0,1.0279631663428228,0,0,0,0,0,0,0]
[3990,0,{"$f":"$D$4*'SBUH Model'!B420","v":0},2,1.7743550250288795,0,0.1944777911164467,0,1.0279631663428228,0,0,0,0,0,0,0]
[4000,0,{"$f":"$D$4*'SBUH Model'!B421","v":0},2,1.7743550250288795,0,0.1944777911164467,0,1.0279631663428228,0,0,0,0,0,0,0]
[4010,0,{"$f":"$D$4*'SBUH Model'!B422","v":0},2,1.7743550250288795,0,0.1944777911164467,0,1.0279631663428228,0,0,0,0,0,0,0]
[4020,0,{"$f":"$D$4*'SBUH Model'!B423","v":0},2,1.7743550250288795,0,0.1944777911164467,0,1.0279631663428228,0,0,0,0,0,0,0]
[4030,0,{"$f":"$D$4*'SBUH Model'!B424","v":0},2,1.7743550250288795,0,0.1944777911164467,0,1.0279631663428228,0,0,0,0,0,0,0]
[4040,0,{"$f":"$D$4*'SBUH Model'!B425","v":0},2,1.7743550250288795,0,0.1944777911164467,0,1.0279631663428228,0,0,0,0,0,0,0]
[{"$f":"A425+10","v":4050},0,{"$f":"$D$4*'SBUH Model'!B426","v":0},2,1.7743550250288795,0,0.1944777911164467,0,1.0279631663428228,0,0,0,0,0,0,0]
[4060,0,{"$f":"$D$4*'SBUH Model'!B427","v":0},2,1.7743550250288795,0,0.1944777911164467,0,1.0279631663428228,0,0,0,0,0,0,0]
[4070,0,{"$f":"$D$4*'SBUH Model'!B428","v":0},2,1.7743550250288795,0,0.1944777911164467,0,1.0279631663428228,0,0,0,0,0,0,0]
[4080,0,{"$f":"$D$4*'SBUH Model'!B429","v":0},2,1.7743550250288795,0,0.1944777911164467,0,1.0279631663428228,0,0,0,0,0,0,0]
[4090,0,{"$f":"$D$4*'SBUH Model'!B430","v":0},2,1.7743550250288795,0,0.1944777911164467,0,1.0279631663428228,0,0,0,0,0,0,0]
[4100,0,{"$f":"$D$4*'SBUH Model'!B431","v":0},2,1.7743550250288795,0,0.1944777911164467,0,1.0279631663428228,0,0,0,0,0,0,0]
[4110,0,{"$f":"$D$4*'SBUH Model'!B432","v":0},2,1.7743550250288795,0,0.1944777911164467,0,1.0279631663428228,0,0,0,0,0,0,0]
[4120,0,{"$f":"$D$4*'SBUH Model'!B433","v":0},2,1.7743550250288795,0,0.1944777911164467,0,1.0279631663428228,0,0,0,0,0,0,0]
[4130,0,{"$f":"$D$4*'SBUH Model'!B434","v":0},2,1.7743550250288795,0,0.1944777911164467,0,1.0279631663428228,0,0,0,0,0,0,0]
[4140,0,{"$f":"$D$4*'SBUH Model'!B435","v":0},2,1.7743550250288795,0,0.1944777911164467,0,1.0279631663428228,0,0,0,0,0,0,0]
[4150,0,{"$f":"$D$4*'SBUH Model'!B436","v":0},2,1.7743550250288795,0,0.1944777911164467,0,1.0279631663428228,0,0,0,0,0,0,0]
[4160,0,{"$f":"$D$4*'SBUH Model'!B437","v":0},2,1.7743550250288795,0,0.1944777911164467,0,1.0279631663428228,0,0,0,0,0,0,0]
[4170,0,{"$f":"$D$4*'SBUH Model'!B438","v":0},2,1.7743550250288795,0,0.1944777911164467,0,1.0279631663428228,0,0,0,0,0,0,0]
[4180,0,{"$f":"$D$4*'SBUH Model'!B439","v":0},2,1.7743550250288795,0,0.1944777911164467,0,1.0279631663428228,0,0,0,0,0,0,0]
[4190,0,{"$f":"$D$4*'SBUH Model'!B440","v":0},2,1.7743550250288795,0,0.1944777911164467,0,1.0279631663428228,0,0,0,0,0,0,0]
[4200,0,{"$f":"$D$4*'SBUH Model'!B441","v":0},2,1.7743550250288795,0,0.1944777911164467,0,1.0279631663428228,0,0,0,0,0,0,0]
[4210,0,{"$f":"$D$4*'SBUH Model'!B442","v":0},2,1.7743550250288795,0,0.1944777911164467,0,1.0279631663428228,0,0,0,0,0,0,0]
[4220,0,{"$f":"$D$4*'SBUH Model'!B443","v":0},2,1.7743550250288795,0,0.1944777911164467,0,1.0279631663428228,0,0,0,0,0,0,0]
[4230,0,{"$f":"$D$4*'SBUH Model'!B444","v":0},2,1.7743550250288795,0,0.1944777911164467,0,1.0279631663428228,0,0,0,0,0,0,0]
[4240,0,{"$f":"$D$4*'SBUH Model'!B445","v":0},2,1.7743550250288795,0,0.1944777911164467,0,1.0279631663428228,0,0,0,0,0,0,0]
[4250,0,{"$f":"$D$4*'SBUH Model'!B446","v":0},2,1.7743550250288795,0,0.1944777911164467,0,1.0279631663428228,0,0,0,0,0,0,0]
[4260,0,{"$f":"$D$4*'SBUH Model'!B447","v":0},2,1.7743550250288795,0,0.1944777911164467,0,1.0279631663428228,0,0,0,0,0,0,0]
[4270,0,{"$f":"$D$4*'SBUH Model'!B448","v":0},2,1.7743550250288795,0,0.1944777911164467,0,1.0279631663428228,0,0,0,0,0,0,0]
[4280,0,{"$f":"$D$4*'SBUH Model'!B449","v":0},2,1.7743550250288795,0,0.1944777911164467,0,1.0279631663428228,0,0,0,0,0,0,0]
[4290,0,{"$f":"$D$4*'SBUH Model'!B450","v":0},2,1.7743550250288795,0,0.1944777911164467,0,1.0279631663428228,0,0,0,0,0,0,0]
[4300,0,{"$f":"$D$4*'SBUH Model'!B451","v":0},2,1.7743550250288795,0,0.1944777911164467,0,1.0279631663428228,0,0,0,0,0,0,0]
[4310,0,{"$f":"$D$4*'SBUH Model'!B452","v":0},2,1.7743550250288795,0,0.1944777911164467,0,1.0279631663428228,0,0,0,0,0,0,0]
[4320,0,{"$f":"$D$4*'SBUH Model'!B453","v":0},2,1.7743550250288795,0,0.1944777911164467,0,1.0279631663428228,0,0,0,0,0,0,0]
[4330,0,{"$f":"$D$4*'SBUH Model'!B454","v":0},2,1.7743550250288795,0,0.1944777911164467,0,1.0279631663428228,0,0,0,0,0,0,0]
[4340,0,{"$f":"$D$4*'SBUH Model'!B455","v":0},2,1.7743550250288795,0,0.1944777911164467,0,1.0279631663428228,0,0,0,0,0,0,0]
[4350,0,{"$f":"$D$4*'SBUH Model'!B456","v":0},2,1.7743550250288795,0,0.1944777911164467,0,1.0279631663428228,0,0,0,0,0,0,0]
[4360,0,{"$f":"$D$4*'SBUH Model'!B457","v":0},2,1.7743550250288795,0,0.1944777911164467,0,1.0279631663428228,0,0,0,0,0,0,0]
[4370,0,{"$f":"$D$4*'SBUH Model'!B458","v":0},2,1.7743550250288795,0,0.1944777911164467,0,1.0279631663428228,0,0,0,0,0,0,0]
[4380,0,{"$f":"$D$4*'SBUH Model'!B459","v":0},2,1.7743550250288795,0,0.1944777911164467,0,1.0279631663428228,0,0,0,0,0,0,0]
[4390,0,{"$f":"$D$4*'SBUH Model'!B460","v":0},2,1.7743550250288795,0,0.1944777911164467,0,1.0279631663428228,0,0,0,0,0,0,0]
[4400,0,{"$f":"$D$4*'SBUH Model'!B461","v":0},2,1.7743550250288795,0,0.1944777911164467,0,1.0279631663428228,0,0,0,0,0,0,0]
[4410,0,{"$f":"$D$4*'SBUH Model'!B462","v":0},2,1.7743550250288795,0,0.1944777911164467,0,1.0279631663428228,0,0,0,0,0,0,0]
[4420,0,{"$f":"$D$4*'SBUH Model'!B463","v":0},2,1.7743550250288795,0,0.1944777911164467,0,1.0279631663428228,0,0,0,0,0,0,0]
[4430,0,{"$f":"$D$4*'SBUH Model'!B464","v":0},2,1.7743550250288795,0,0.1944777911164467,0,1.0279631663428228,0,0,0,0,0,0,0]
[4440,0,{"$f":"$D$4*'SBUH Model'!B465","v":0},2,1.7743550250288795,0,0.1944777911164467,0,1.0279631663428228,0,0,0,0,0,0,0]
[4450,0,{"$f":"$D$4*'SBUH Model'!B466","v":0},2,1.7743550250288795,0,0.1944777911164467,0,1.0279631663428228,0,0,0,0,0,0,0]
[4460,0,{"$f":"$D$4*'SBUH Model'!B467","v":0},2,1.7743550250288795,0,0.1944777911164467,0,1.0279631663428228,0,0,0,0,0,0,0]
[4470,0,{"$f":"$D$4*'SBUH Model'!B468","v":0},2,1.7743550250288795,0,0.1944777911164467,0,1.0279631663428228,0,0,0,0,0,0,0]
[4480,0,{"$f":"$D$4*'SBUH Model'!B469","v":0},2,1.7743550250288795,0,0.1944777911164467,0,1.0279631663428228,0,0,0,{"$f":"L469*($D$5*60)","v":0},{"$f":"(C469/12)*O$4","v":0},0,0]
[4490,0,{"$f":"$D$4*'SBUH Model'!B470","v":0},{"$f":"C470+D469","v":2},{"$f":"IF(D470<0.2*F$8,0,(D470-0.2*F$8)^2/(D470+0.8*F$8))","v":1.7743550250288795},0,{"$f":"IF(D470<0.2*F$11,0,(D470-0.2*F$11)^2/(D470+0.8*F$11))","v":0.1944777911164467},0,{"$f":"IF(D470<0.2*F$12,0,(D470-0.2*F$12)^2/(D470+0.8*F$12))","v":1.0279631663428228},0,{"$f":"((F470/12)*SUMPRODUCT(D$8:D$10,G$8:G$10)+(H470/12)*D$11+(J470/12)*D$12)/($D$5*60)","v":0},{"$f":"MAX(0,L469+(D$5/(2*$D$16+D$5))*(K469+K470-2*L469))","v":0},0,0,{"$f":"-MIN(O$9*D$5*60,SUM(M470,N470,P469))","v":0},0]
[4500,0,{"$f":"$D$4*'SBUH Model'!B471","v":0},2,1.7743550250288795,{"$f":"MAX(0,E471-E470)","v":0},0.1944777911164467,0,1.0279631663428228,0,0,0,0,0,0,{"$f":"P470+SUM(M471:O471)","v":0}]
[4510,0,{"$f":"$D$4*'SBUH Model'!B472","v":0},2,1.7743550250288795,0,0.1944777911164467,0,1.0279631663428228,0,0,0,0,0,0,0]
[4520,0,{"$f":"$D$4*'SBUH Model'!B473","v":0},2,1.7743550250288795,0,0.1944777911164467,0,1.0279631663428228,0,0,0,0,0,0,0]
[4530,0,{"$f":"$D$4*'SBUH Model'!B474","v":0},2,1.7743550250288795,0,0.1944777911164467,0,1.0279631663428228,0,0,0,0,0,0,0]
[4540,0,{"$f":"$D$4*'SBUH Model'!B475","v":0},2,1.7743550250288795,0,0.1944777911164467,0,1.0279631663428228,0,0,0,0,0,0,0]
[4550,0,{"$f":"$D$4*'SBUH Model'!B476","v":0},2,1.7743550250288795,0,0.1944777911164467,0,1.0279631663428228,0,0,0,0,0,0,0]
[4560,0,{"$f":"$D$4*'SBUH Model'!B477","v":0},2,1.7743550250288795,0,0.1944777911164467,0,1.0279631663428228,0,0,0,0,0,0,0]
[4570,0,{"$f":"$D$4*'SBUH Model'!B478","v":0},2,1.7743550250288795,0,0.1944777911164467,0,1.0279631663428228,0,0,0,0,0,0,0]
[4580,0,{"$f":"$D$4*'SBUH Model'!B479","v":0},2,1.7743550250288795,0,0.1944777911164467,0,1.0279631663428228,0,0,0,0,0,0,0]
[4590,0,{"$f":"$D$4*'SBUH Model'!B480","v":0},2,1.7743550250288795,0,0.1944777911164467,0,1.0279631663428228,0,0,0,0,0,0,0]
[4600,0,{"$f":"$D$4*'SBUH Model'!B481","v":0},2,1.7743550250288795,0,0.1944777911164467,0,1.0279631663428228,0,0,0,0,0,0,0]
[4610,0,{"$f":"$D$4*'SBUH Model'!B482","v":0},2,1.7743550250288795,0,0.1944777911164467,0,1.0279631663428228,0,0,0,0,0,0,0]
[4620,0,{"$f":"$D$4*'SBUH Model'!B483","v":0},2,1.7743550250288795,0,0.1944777911164467,0,1.0279631663428228,0,0,0,0,0,0,0]
[4630,0,{"$f":"$D$4*'SBUH Model'!B484","v":0},2,1.7743550250288795,0,0.1944777911164467,0,1.0279631663428228,0,0,0,0,0,0,0]
[4640,0,{"$f":"$D$4*'SBUH Model'!B485","v":0},2,1.7743550250288795,0,0.1944777911164467,0,1.0279631663428228,0,0,0,0,0,0,0]
[4650,0,{"$f":"$D$4*'SBUH Model'!B486","v":0},2,1.7743550250288795,0,0.1944777911164467,0,1.0279631663428228,0,0,0,0,0,0,0]
[4660,0,{"$f":"$D$4*'SBUH Model'!B487","v":0},2,1.7743550250288795,0,0.1944777911164467,0,1.0279631663428228,0,0,0,0,0,0,0]
[4670,0,{"$f":"$D$4*'SBUH Model'!B488","v":0},2,1.7743550250288795,0,0.1944777911164467,0,1.0279631663428228,0,0,0,0,0,0,0]
[4680,0,{"$f":"$D$4*'SBUH Model'!B489","v":0},2,1.7743550250288795,0,0.1944777911164467,0,1.0279631663428228,0,0,0,0,0,0,0]
[{"$f":"A489+10","v":4690},0,{"$f":"$D$4*'SBUH Model'!B490","v":0},2,1.7743550250288795,0,0.1944777911164467,0,1.0279631663428228,0,0,0,0,0,0,0]
[4700,0,{"$f":"$D$4*'SBUH Model'!B491","v":0},2,1.7743550250288795,0,0.1944777911164467,0,1.0279631663428228,0,0,0,0,0,0,0]
[4710,0,{"$f":"$D$4*'SBUH Model'!B492","v":0},2,1.7743550250288795,0,0.1944777911164467,0,1.0279631663428228,0,0,0,0,0,0,0]
[4720,0,{"$f":"$D$4*'SBUH Model'!B493","v":0},2,1.7743550250288795,0,0.1944777911164467,0,1.0279631663428228,0,0,0,0,0,0,0]
[4730,0,{"$f":"$D$4*'SBUH Model'!B494","v":0},2,1.7743550250288795,0,0.1944777911164467,0,1.0279631663428228,0,0,0,0,0,0,0]
[4740,0,{"$f":"$D$4*'SBUH Model'!B495","v":0},2,1.7743550250288795,0,0.1944777911164467,0,1.0279631663428228,0,0,0,0,0,0,0]
[4750,0,{"$f":"$D$4*'SBUH Model'!B496","v":0},2,1.7743550250288795,0,0.1944777911164467,0,1.0279631663428228,0,0,0,0,0,0,0]
[4760,0,{"$f":"$D$4*'SBUH Model'!B497","v":0},2,1.7743550250288795,0,0.1944777911164467,0,1.0279631663428228,0,0,0,0,0,0,0]
[4770,0,{"$f":"$D$4*'SBUH Model'!B498","v":0},2,1.7743550250288795,0,0.1944777911164467,0,1.0279631663428228,0,0,0,0,0,0,0]
[4780,0,{"$f":"$D$4*'SBUH Model'!B499","v":0},2,1.7743550250288795,0,0.1944777911164467,0,1.0279631663428228,0,0,0,0,0,0,0]
[4790,0,{"$f":"$D$4*'SBUH Model'!B500","v":0},2,1.7743550250288795,0,0.1944777911164467,0,1.0279631663428228,0,0,0,0,0,0,0]
[4800,0,{"$f":"$D$4*'SBUH Model'!B501","v":0},2,1.7743550250288795,0,0.1944777911164467,0,1.0279631663428228,0,0,0,0,0,0,0]
[4810,0,{"$f":"$D$4*'SBUH Model'!B502","v":0},2,1.7743550250288795,0,0.1944777911164467,0,1.0279631663428228,0,0,0,0,0,0,0]
[4820,0,{"$f":"$D$4*'SBUH Model'!B503","v":0},2,1.7743550250288795,0,0.1944777911164467,0,1.0279631663428228,0,0,0,0,0,0,0]
[4830,0,{"$f":"$D$4*'SBUH Model'!B504","v":0},2,1.7743550250288795,0,0.1944777911164467,0,1.0279631663428228,0,0,0,0,0,0,0]
[4840,0,{"$f":"$D$4*'SBUH Model'!B505","v":0},2,1.7743550250288795,0,0.1944777911164467,0,1.0279631663428228,0,0,0,0,0,0,0]
[4850,0,{"$f":"$D$4*'SBUH Model'!B506","v":0},2,1.7743550250288795,0,0.1944777911164467,0,1.0279631663428228,0,0,0,0,0,0,0]
[4860,0,{"$f":"$D$4*'SBUH Model'!B507","v":0},2,1.7743550250288795,0,0.1944777911164467,0,1.0279631663428228,0,0,0,0,0,0,0]
[4870,0,{"$f":"$D$4*'SBUH Model'!B508","v":0},2,1.7743550250288795,0,0.1944777911164467,0,1.0279631663428228,0,0,0,0,0,0,0]
[4880,0,{"$f":"$D$4*'SBUH Model'!B509","v":0},2,1.7743550250288795,0,0.1944777911164467,0,1.0279631663428228,0,0,0,0,0,0,0]
[4890,0,{"$f":"$D$4*'SBUH Model'!B510","v":0},2,1.7743550250288795,0,0.1944777911164467,0,1.0279631663428228,0,0,0,0,0,0,0]
[4900,0,{"$f":"$D$4*'SBUH Model'!B511","v":0},2,1.7743550250288795,0,0.1944777911164467,0,1.0279631663428228,0,0,0,0,0,0,0]
[4910,0,{"$f":"$D$4*'SBUH Model'!B512","v":0},2,1.7743550250288795,0,0.1944777911164467,0,1.0279631663428228,0,0,0,0,0,0,0]
[4920,0,{"$f":"$D$4*'SBUH Model'!B513","v":0},2,1.7743550250288795,0,0.1944777911164467,0,1.0279631663428228,0,0,0,0,0,0,0]
[4930,0,{"$f":"$D$4*'SBUH Model'!B514","v":0},2,1.7743550250288795,0,0.1944777911164467,0,1.0279631663428228,0,0,0,0,0,0,0]
[4940,0,{"$f":"$D$4*'SBUH Model'!B515","v":0},2,1.7743550250288795,0,0.1944777911164467,0,1.0279631663428228,0,0,0,0,0,0,0]
[4950,0,{"$f":"$D$4*'SBUH Model'!B516","v":0},2,1.7743550250288795,0,0.1944777911164467,0,1.0279631663428228,0,0,0,0,0,0,0]
[4960,0,{"$f":"$D$4*'SBUH Model'!B517","v":0},2,1.7743550250288795,0,0.1944777911164467,0,1.0279631663428228,0,0,0,0,0,0,0]
[4970,0,{"$f":"$D$4*'SBUH Model'!B518","v":0},2,1.7743550250288795,0,0.1944777911164467,0,1.0279631663428228,0,0,0,0,0,0,0]
[4980,0,{"$f":"$D$4*'SBUH Model'!B519","v":0},2,1.7743550250288795,0,0.1944777911164467,0,1.0279631663428228,0,0,0,0,0,0,0]
[4990,0,{"$f":"$D$4*'SBUH Model'!B520","v":0},2,1.7743550250288795,0,0.1944777911164467,0,1.0279631663428228,0,0,0,0,0,0,0]
[5000,0,{"$f":"$D$4*'SBUH Model'!B521","v":0},2,1.7743550250288795,0,0.1944777911164467,0,1.0279631663428228,0,0,0,0,0,0,0]
[5010,0,{"$f":"$D$4*'SBUH Model'!B522","v":0},2,1.7743550250288795,0,0.1944777911164467,0,1.0279631663428228,0,0,0,0,0,0,0]
[5020,0,{"$f":"$D$4*'SBUH Model'!B523","v":0},2,1.7743550250288795,0,0.1944777911164467,0,1.0279631663428228,0,0,0,0,0,0,0]
[5030,0,{"$f":"$D$4*'SBUH Model'!B524","v":0},2,1.7743550250288795,0,0.1944777911164467,0,1.0279631663428228,0,0,0,0,0,0,0]
[5040,0,{"$f":"$D$4*'SBUH Model'!B525","v":0},2,1.7743550250288795,0,0.1944777911164467,0,1.0279631663428228,0,0,0,0,0,0,0]
[5050,0,{"$f":"$D$4*'SBUH Model'!B526","v":0},2,1.7743550250288795,0,0.1944777911164467,0,1.0279631663428228,0,0,0,0,0,0,0]
[5060,0,{"$f":"$D$4*'SBUH Model'!B527","v":0},2,1.7743550250288795,0,0.1944777911164467,0,1.0279631663428228,0,0,0,0,0,0,0]
[5070,0,{"$f":"$D$4*'SBUH Model'!B528","v":0},2,1.7743550250288795,0,0.1944777911164467,0,1.0279631663428228,0,0,0,0,0,0,0]
[5080,0,{"$f":"$D$4*'SBUH Model'!B529","v":0},2,1.7743550250288795,0,0.1944777911164467,0,1.0279631663428228,0,0,0,0,0,0,0]
[5090,0,{"$f":"$D$4*'SBUH Model'!B530","v":0},2,1.7743550250288795,0,0.1944777911164467,0,1.0279631663428228,0,0,0,0,0,0,0]
[5100,0,{"$f":"$D$4*'SBUH Model'!B531","v":0},2,1.7743550250288795,0,0.1944777911164467,0,1.0279631663428228,0,0,0,0,0,0,0]
[5110,0,{"$f":"$D$4*'SBUH Model'!B532","v":0},2,1.7743550250288795,0,0.1944777911164467,0,1.0279631663428228,0,0,0,0,0,0,0]
[5120,0,{"$f":"$D$4*'SBUH Model'!B533","v":0},2,1.7743550250288795,0,0.1944777911164467,0,1.0279631663428228,0,0,0,{"$f":"L533*($D$5*60)","v":0},{"$f":"(C533/12)*O$4","v":0},0,0]
[5130,0,{"$f":"$D$4*'SBUH Model'!B534","v":0},{"$f":"C534+D533","v":2},{"$f":"IF(D534<0.2*F$8,0,(D534-0.2*F$8)^2/(D534+0.8*F$8))","v":1.7743550250288795},0,{"$f":"IF(D534<0.2*F$11,0,(D534-0.2*F$11)^2/(D534+0.8*F$11))","v":0.1944777911164467},0,{"$f":"IF(D534<0.2*F$12,0,(D534-0.2*F$12)^2/(D534+0.8*F$12))","v":1.0279631663428228},0,{"$f":"((F534/12)*SUMPRODUCT(D$8:D$10,G$8:G$10)+(H534/12)*D$11+(J534/12)*D$12)/($D$5*60)","v":0},{"$f":"MAX(0,L533+(D$5/(2*$D$16+D$5))*(K533+K534-2*L533))","v":0},0,0,{"$f":"-MIN(O$9*D$5*60,SUM(M534,N534,P533))","v":0},0]
[5140,0,{"$f":"$D$4*'SBUH Model'!B535","v":0},2,1.7743550250288795,{"$f":"MAX(0,E535-E534)","v":0},0.1944777911164467,0,1.0279631663428228,0,0,0,0,0,0,{"$f":"P534+SUM(M535:O535)","v":0}]
[5150,0,{"$f":"$D$4*'SBUH Model'!B536","v":0},2,1.7743550250288795,0,0.1944777911164467,0,1.0279631663428228,0,0,0,0,0,0,0]
[5160,0,{"$f":"$D$4*'SBUH Model'!B537","v":0},2,1.7743550250288795,0,0.1944777911164467,0,1.0279631663428228,0,0,0,0,0,0,0]
[5170,0,{"$f":"$D$4*'SBUH Model'!B538","v":0},2,1.7743550250288795,0,0.1944777911164467,0,1.0279631663428228,0,0,0,0,0,0,0]
[5180,0,{"$f":"$D$4*'SBUH Model'!B539","v":0},2,1.7743550250288795,0,0.1944777911164467,0,1.0279631663428228,0,0,0,0,0,0,0]
[5190,0,{"$f":"$D$4*'SBUH Model'!B540","v":0},2,1.7743550250288795,0,0.1944777911164467,0,1.0279631663428228,0,0,0,0,0,0,0]
[5200,0,{"$f":"$D$4*'SBUH Model'!B541","v":0},2,1.7743550250288795,0,0.1944777911164467,0,1.0279631663428228,0,0,0,0,0,0,0]
[5210,0,{"$f":"$D$4*'SBUH Model'!B542","v":0},2,1.7743550250288795,0,0.1944777911164467,0,1.0279631663428228,0,0,0,0,0,0,0]
[5220,0,{"$f":"$D$4*'SBUH Model'!B543","v":0},2,1.7743550250288795,0,0.1944777911164467,0,1.0279631663428228,0,0,0,0,0,0,0]
[5230,0,{"$f":"$D$4*'SBUH Model'!B544","v":0},2,1.7743550250288795,0,0.1944777911164467,0,1.0279631663428228,0,0,0,0,0,0,0]
[5240,0,{"$f":"$D$4*'SBUH Model'!B545","v":0},2,1.7743550250288795,0,0.1944777911164467,0,1.0279631663428228,0,0,0,0,0,0,0]
[5250,0,{"$f":"$D$4*'SBUH Model'!B546","v":0},2,1.7743550250288795,0,0.1944777911164467,0,1.0279631663428228,0,0,0,0,0,0,0]
[5260,0,{"$f":"$D$4*'SBUH Model'!B547","v":0},2,1.7743550250288795,0,0.1944777911164467,0,1.0279631663428228,0,0,0,0,0,0,0]
[5270,0,{"$f":"$D$4*'SBUH Model'!B548","v":0},2,1.7743550250288795,0,0.1944777911164467,0,1.0279631663428228,0,0,0,0,0,0,0]
[5280,0,{"$f":"$D$4*'SBUH Model'!B549","v":0},2,1.7743550250288795,0,0.1944777911164467,0,1.0279631663428228,0,0,0,0,0,0,0]
[5290,0,{"$f":"$D$4*'SBUH Model'!B550","v":0},2,1.7743550250288795,0,0.1944777911164467,0,1.0279631663428228,0,0,0,0,0,0,0]
[5300,0,{"$f":"$D$4*'SBUH Model'!B551","v":0},2,1.7743550250288795,0,0.1944777911164467,0,1.0279631663428228,0,0,0,0,0,0,0]
[5310,0,{"$f":"$D$4*'SBUH Model'!B552","v":0},2,1.7743550250288795,0,0.1944777911164467,0,1.0279631663428228,0,0,0,0,0,0,0]
[5320,0,{"$f":"$D$4*'SBUH Model'!B553","v":0},2,1.7743550250288795,0,0.1944777911164467,0,1.0279631663428228,0,0,0,0,0,0,0]
[{"$f":"A553+10","v":5330},0,{"$f":"$D$4*'SBUH Model'!B554","v":0},2,1.7743550250288795,0,0.1944777911164467,0,1.0279631663428228,0,0,0,0,0,0,0]
[5340,0,{"$f":"$D$4*'SBUH Model'!B555","v":0},2,1.7743550250288795,0,0.1944777911164467,0,1.0279631663428228,0,0,0,0,0,0,0]
[5350,0,{"$f":"$D$4*'SBUH Model'!B556","v":0},2,1.7743550250288795,0,0.1944777911164467,0,1.0279631663428228,0,0,0,0,0,0,0]
[5360,0,{"$f":"$D$4*'SBUH Model'!B557","v":0},2,1.7743550250288795,0,0.1944777911164467,0,1.0279631663428228,0,0,0,0,0,0,0]
[5370,0,{"$f":"$D$4*'SBUH Model'!B558","v":0},2,1.7743550250288795,0,0.1944777911164467,0,1.0279631663428228,0,0,0,0,0,0,0]
[5380,0,{"$f":"$D$4*'SBUH Model'!B559","v":0},2,1.7743550250288795,0,0.1944777911164467,0,1.0279631663428228,0,0,0,0,0,0,0]
[5390,0,{"$f":"$D$4*'SBUH Model'!B560","v":0},2,1.7743550250288795,0,0.1944777911164467,0,1.0279631663428228,0,0,0,0,0,0,0]
[5400,0,{"$f":"$D$4*'SBUH Model'!B561","v":0},2,1.7743550250288795,0,0.1944777911164467,0,1.0279631663428228,0,0,0,0,0,0,0]
[5410,0,{"$f":"$D$4*'SBUH Model'!B562","v":0},2,1.7743550250288795,0,0.1944777911164467,0,1.0279631663428228,0,0,0,0,0,0,0]
[5420,0,{"$f":"$D$4*'SBUH Model'!B563","v":0},2,1.7743550250288795,0,0.1944777911164467,0,1.0279631663428228,0,0,0,0,0,0,0]
[5430,0,{"$f":"$D$4*'SBUH Model'!B564","v":0},2,1.7743550250288795,0,0.1944777911164467,0,1.0279631663428228,0,0,0,0,0,0,0]
[5440,0,{"$f":"$D$4*'SBUH Model'!B565","v":0},2,1.7743550250288795,0,0.1944777911164467,0,1.0279631663428228,0,0,0,0,0,0,0]
[5450,0,{"$f":"$D$4*'SBUH Model'!B566","v":0},2,1.7743550250288795,0,0.1944777911164467,0,1.0279631663428228,0,0,0,0,0,0,0]
[5460,0,{"$f":"$D$4*'SBUH Model'!B567","v":0},2,1.7743550250288795,0,0.1944777911164467,0,1.0279631663428228,0,0,0,0,0,0,0]
[5470,0,{"$f":"$D$4*'SBUH Model'!B568","v":0},2,1.7743550250288795,0,0.1944777911164467,0,1.0279631663428228,0,0,0,0,0,0,0]
[5480,0,{"$f":"$D$4*'SBUH Model'!B569","v":0},2,1.7743550250288795,0,0.1944777911164467,0,1.0279631663428228,0,0,0,0,0,0,0]
[5490,0,{"$f":"$D$4*'SBUH Model'!B570","v":0},2,1.7743550250288795,0,0.1944777911164467,0,1.0279631663428228,0,0,0,0,0,0,0]
[5500,0,{"$f":"$D$4*'SBUH Model'!B571","v":0},2,1.7743550250288795,0,0.1944777911164467,0,1.0279631663428228,0,0,0,0,0,0,0]
[5510,0,{"$f":"$D$4*'SBUH Model'!B572","v":0},2,1.7743550250288795,0,0.1944777911164467,0,1.0279631663428228,0,0,0,0,0,0,0]
[5520,0,{"$f":"$D$4*'SBUH Model'!B573","v":0},2,1.7743550250288795,0,0.1944777911164467,0,1.0279631663428228,0,0,0,0,0,0,0]
[5530,0,{"$f":"$D$4*'SBUH Model'!B574","v":0},2,1.7743550250288795,0,0.1944777911164467,0,1.0279631663428228,0,0,0,0,0,0,0]
[5540,0,{"$f":"$D$4*'SBUH Model'!B575","v":0},2,1.7743550250288795,0,0.1944777911164467,0,1.0279631663428228,0,0,0,0,0,0,0]
[5550,0,{"$f":"$D$4*'SBUH Model'!B576","v":0},2,1.7743550250288795,0,0.1944777911164467,0,1.0279631663428228,0,0,0,0,0,0,0]
[5560,0,{"$f":"$D$4*'SBUH Model'!B577","v":0},2,1.7743550250288795,0,0.1944777911164467,0,1.0279631663428228,0,0,0,0,0,0,0]
[5570,0,{"$f":"$D$4*'SBUH Model'!B578","v":0},2,1.7743550250288795,0,0.1944777911164467,0,1.0279631663428228,0,0,0,0,0,0,0]
[5580,0,{"$f":"$D$4*'SBUH Model'!B579","v":0},2,1.7743550250288795,0,0.1944777911164467,0,1.0279631663428228,0,0,0,0,0,0,0]
[5590,0,{"$f":"$D$4*'SBUH Model'!B580","v":0},2,1.7743550250288795,0,0.1944777911164467,0,1.0279631663428228,0,0,0,0,0,0,0]
[5600,0,{"$f":"$D$4*'SBUH Model'!B581","v":0},2,1.7743550250288795,0,0.1944777911164467,0,1.0279631663428228,0,0,0,0,0,0,0]
[5610,0,{"$f":"$D$4*'SBUH Model'!B582","v":0},2,1.7743550250288795,0,0.1944777911164467,0,1.0279631663428228,0,0,0,0,0,0,0]
[5620,0,{"$f":"$D$4*'SBUH Model'!B583","v":0},2,1.7743550250288795,0,0.1944777911164467,0,1.0279631663428228,0,0,0,0,0,0,0]
[5630,0,{"$f":"$D$4*'SBUH Model'!B584","v":0},2,1.7743550250288795,0,0.1944777911164467,0,1.0279631663428228,0,0,0,0,0,0,0]
[5640,0,{"$f":"$D$4*'SBUH Model'!B585","v":0},2,1.7743550250288795,0,0.1944777911164467,0,1.0279631663428228,0,0,0,0,0,0,0]
[5650,0,{"$f":"$D$4*'SBUH Model'!B586","v":0},2,1.7743550250288795,0,0.1944777911164467,0,1.0279631663428228,0,0,0,0,0,0,0]
[5660,0,{"$f":"$D$4*'SBUH Model'!B587","v":0},2,1.7743550250288795,0,0.1944777911164467,0,1.0279631663428228,0,0,0,0,0,0,0]
[5670,0,{"$f":"$D$4*'SBUH Model'!B588","v":0},2,1.7743550250288795,0,0.1944777911164467,0,1.0279631663428228,0,0,0,0,0,0,0]
[5680,0,{"$f":"$D$4*'SBUH Model'!B589","v":0},2,1.7743550250288795,0,0.1944777911164467,0,1.0279631663428228,0,0,0,0,0,0,0]
[5690,0,{"$f":"$D$4*'SBUH Model'!B590","v":0},2,1.7743550250288795,0,0.1944777911164467,0,1.0279631663428228,0,0,0,0,0,0,0]
[5700,0,{"$f":"$D$4*'SBUH Model'!B591","v":0},2,1.7743550250288795,0,0.1944777911164467,0,1.0279631663428228,0,0,0,0,0,0,0]
[5710,0,{"$f":"$D$4*'SBUH Model'!B592","v":0},2,1.7743550250288795,0,0.1944777911164467,0,1.0279631663428228,0,0,0,0,0,0,0]
[5720,0,{"$f":"$D$4*'SBUH Model'!B593","v":0},2,1.7743550250288795,0,0.1944777911164467,0,1.0279631663428228,0,0,0,0,0,0,0]
[5730,0,{"$f":"$D$4*'SBUH Model'!B594","v":0},2,1.7743550250288795,0,0.1944777911164467,0,1.0279631663428228,0,0,0,0,0,0,0]
[5740,0,{"$f":"$D$4*'SBUH Model'!B595","v":0},2,1.7743550250288795,0,0.1944777911164467,0,1.0279631663428228,0,0,0,0,0,0,0]
[5750,0,{"$f":"$D$4*'SBUH Model'!B596","v":0},2,1.7743550250288795,0,0.1944777911164467,0,1.0279631663428228,0,0,0,0,0,0,0]
[5760,0,{"$f":"$D$4*'SBUH Model'!B597","v":0},2,1.7743550250288795,0,0.1944777911164467,0,1.0279631663428228,0,0,0,{"$f":"L597*($D$5*60)","v":0},{"$f":"(C597/12)*O$4","v":0},0,0]
[5770,0,{"$f":"$D$4*'SBUH Model'!B598","v":0},{"$f":"C598+D597","v":2},{"$f":"IF(D598<0.2*F$8,0,(D598-0.2*F$8)^2/(D598+0.8*F$8))","v":1.7743550250288795},0,{"$f":"IF(D598<0.2*F$11,0,(D598-0.2*F$11)^2/(D598+0.8*F$11))","v":0.1944777911164467},0,{"$f":"IF(D598<0.2*F$12,0,(D598-0.2*F$12)^2/(D598+0.8*F$12))","v":1.0279631663428228},0,{"$f":"((F598/12)*SUMPRODUCT(D$8:D$10,G$8:G$10)+(H598/12)*D$11+(J598/12)*D$12)/($D$5*60)","v":0},{"$f":"MAX(0,L597+(D$5/(2*$D$16+D$5))*(K597+K598-2*L597))","v":0},0,0,{"$f":"-MIN(O$9*D$5*60,SUM(M598,N598,P597))","v":0},0]
[5780,0,{"$f":"$D$4*'SBUH Model'!B599","v":0},2,1.7743550250288795,{"$f":"MAX(0,E599-E598)","v":0},0.1944777911164467,0,1.0279631663428228,0,0,0,0,0,0,{"$f":"P598+SUM(M599:O599)","v":0}]
[5790,0,{"$f":"$D$4*'SBUH Model'!B600","v":0},2,1.7743550250288795,0,0.1944777911164467,0,1.0279631663428228,0,0,0,0,0,0,0]
[5800,0,{"$f":"$D$4*'SBUH Model'!B601","v":0},2,1.7743550250288795,0,0.1944777911164467,0,1.0279631663428228,0,0,0,0,0,0,0]
[5810,0,{"$f":"$D$4*'SBUH Model'!B602","v":0},2,1.7743550250288795,0,0.1944777911164467,0,1.0279631663428228,0,0,0,0,0,0,0]
[5820,0,{"$f":"$D$4*'SBUH Model'!B603","v":0},2,1.7743550250288795,0,0.1944777911164467,0,1.0279631663428228,0,0,0,0,0,0,0]
[5830,0,{"$f":"$D$4*'SBUH Model'!B604","v":0},2,1.7743550250288795,0,0.1944777911164467,0,1.0279631663428228,0,0,0,0,0,0,0]
[5840,0,{"$f":"$D$4*'SBUH Model'!B605","v":0},2,1.7743550250288795,0,0.1944777911164467,0,1.0279631663428228,0,0,0,0,0,0,0]
[5850,0,{"$f":"$D$4*'SBUH Model'!B606","v":0},2,1.7743550250288795,0,0.1944777911164467,0,1.0279631663428228,0,0,0,0,0,0,0]
[5860,0,{"$f":"$D$4*'SBUH Model'!B607","v":0},2,1.7743550250288795,0,0.1944777911164467,0,1.0279631663428228,0,0,0,0,0,0,0]
[5870,0,{"$f":"$D$4*'SBUH Model'!B608","v":0},2,1.7743550250288795,0,0.1944777911164467,0,1.0279631663428228,0,0,0,0,0,0,0]
[5880,0,{"$f":"$D$4*'SBUH Model'!B609","v":0},2,1.7743550250288795,0,0.1944777911164467,0,1.0279631663428228,0,0,0,0,0,0,0]
[5890,0,{"$f":"$D$4*'SBUH Model'!B610","v":0},2,1.7743550250288795,0,0.1944777911164467,0,1.0279631663428228,0,0,0,0,0,0,0]
[5900,0,{"$f":"$D$4*'SBUH Model'!B611","v":0},2,1.7743550250288795,0,0.1944777911164467,0,1.0279631663428228,0,0,0,0,0,0,0]
[5910,0,{"$f":"$D$4*'SBUH Model'!B612","v":0},2,1.7743550250288795,0,0.1944777911164467,0,1.0279631663428228,0,0,0,0,0,0,0]
[5920,0,{"$f":"$D$4*'SBUH Model'!B613","v":0},2,1.7743550250288795,0,0.1944777911164467,0,1.0279631663428228,0,0,0,0,0,0,0]
[5930,0,{"$f":"$D$4*'SBUH Model'!B614","v":0},2,1.7743550250288795,0,0.1944777911164467,0,1.0279631663428228,0,0,0,0,0,0,0]
[5940,0,{"$f":"$D$4*'SBUH Model'!B615","v":0},2,1.7743550250288795,0,0.1944777911164467,0,1.0279631663428228,0,0,0,0,0,0,0]
[5950,0,{"$f":"$D$4*'SBUH Model'!B616","v":0},2,1.7743550250288795,0,0.1944777911164467,0,1.0279631663428228,0,0,0,0,0,0,0]
[5960,0,{"$f":"$D$4*'SBUH Model'!B617","v":0},2,1.7743550250288795,0,0.1944777911164467,0,1.0279631663428228,0,0,0,0,0,0,0]
[{"$f":"A617+10","v":5970},0,{"$f":"$D$4*'SBUH Model'!B618","v":0},2,1.7743550250288795,0,0.1944777911164467,0,1.0279631663428228,0,0,0,0,0,0,0]
[5980,0,{"$f":"$D$4*'SBUH Model'!B619","v":0},2,1.7743550250288795,0,0.1944777911164467,0,1.0279631663428228,0,0,0,0,0,0,0]
[5990,0,{"$f":"$D$4*'SBUH Model'!B620","v":0},2,1.7743550250288795,0,0.1944777911164467,0,1.0279631663428228,0,0,0,0,0,0,0]
[6000,0,{"$f":"$D$4*'SBUH Model'!B621","v":0},2,1.7743550250288795,0,0.1944777911164467,0,1.0279631663428228,0,0,0,0,0,0,0]
[6010,0,{"$f":"$D$4*'SBUH Model'!B622","v":0},2,1.7743550250288795,0,0.1944777911164467,0,1.0279631663428228,0,0,0,0,0,0,0]
[6020,0,{"$f":"$D$4*'SBUH Model'!B623","v":0},2,1.7743550250288795,0,0.1944777911164467,0,1.0279631663428228,0,0,0,0,0,0,0]
[6030,0,{"$f":"$D$4*'SBUH Model'!B624","v":0},2,1.7743550250288795,0,0.1944777911164467,0,1.0279631663428228,0,0,0,0,0,0,0]
[6040,0,{"$f":"$D$4*'SBUH Model'!B625","v":0},2,1.7743550250288795,0,0.1944777911164467,0,1.0279631663428228,0,0,0,0,0,0,0]
[6050,0,{"$f":"$D$4*'SBUH Model'!B626","v":0},2,1.7743550250288795,0,0.1944777911164467,0,1.0279631663428228,0,0,0,0,0,0,0]
[6060,0,{"$f":"$D$4*'SBUH Model'!B627","v":0},2,1.7743550250288795,0,0.1944777911164467,0,1.0279631663428228,0,0,0,0,0,0,0]
[6070,0,{"$f":"$D$4*'SBUH Model'!B628","v":0},2,1.7743550250288795,0,0.1944777911164467,0,1.0279631663428228,0,0,0,0,0,0,0]
[6080,0,{"$f":"$D$4*'SBUH Model'!B629","v":0},2,1.7743550250288795,0,0.1944777911164467,0,1.0279631663428228,0,0,0,0,0,0,0]
[6090,0,{"$f":"$D$4*'SBUH Model'!B630","v":0},2,1.7743550250288795,0,0.1944777911164467,0,1.0279631663428228,0,0,0,0,0,0,0]
[6100,0,{"$f":"$D$4*'SBUH Model'!B631","v":0},2,1.7743550250288795,0,0.1944777911164467,0,1.0279631663428228,0,0,0,0,0,0,0]
[6110,0,{"$f":"$D$4*'SBUH Model'!B632","v":0},2,1.7743550250288795,0,0.1944777911164467,0,1.0279631663428228,0,0,0,0,0,0,0]
[6120,0,{"$f":"$D$4*'SBUH Model'!B633","v":0},2,1.7743550250288795,0,0.1944777911164467,0,1.0279631663428228,0,0,0,0,0,0,0]
[6130,0,{"$f":"$D$4*'SBUH Model'!B634","v":0},2,1.7743550250288795,0,0.1944777911164467,0,1.0279631663428228,0,0,0,0,0,0,0]
[6140,0,{"$f":"$D$4*'SBUH Model'!B635","v":0},2,1.7743550250288795,0,0.1944777911164467,0,1.0279631663428228,0,0,0,0,0,0,0]
[6150,0,{"$f":"$D$4*'SBUH Model'!B636","v":0},2,1.7743550250288795,0,0.1944777911164467,0,1.0279631663428228,0,0,0,0,0,0,0]
[6160,0,{"$f":"$D$4*'SBUH Model'!B637","v":0},2,1.7743550250288795,0,0.1944777911164467,0,1.0279631663428228,0,0,0,0,0,0,0]
[6170,0,{"$f":"$D$4*'SBUH Model'!B638","v":0},2,1.7743550250288795,0,0.1944777911164467,0,1.0279631663428228,0,0,0,0,0,0,0]
[6180,0,{"$f":"$D$4*'SBUH Model'!B639","v":0},2,1.7743550250288795,0,0.1944777911164467,0,1.0279631663428228,0,0,0,0,0,0,0]
[6190,0,{"$f":"$D$4*'SBUH Model'!B640","v":0},2,1.7743550250288795,0,0.1944777911164467,0,1.0279631663428228,0,0,0,0,0,0,0]
[6200,0,{"$f":"$D$4*'SBUH Model'!B641","v":0},2,1.7743550250288795,0,0.1944777911164467,0,1.0279631663428228,0,0,0,0,0,0,0]
[6210,0,{"$f":"$D$4*'SBUH Model'!B642","v":0},2,1.7743550250288795,0,0.1944777911164467,0,1.0279631663428228,0,0,0,0,0,0,0]
[6220,0,{"$f":"$D$4*'SBUH Model'!B643","v":0},2,1.7743550250288795,0,0.1944777911164467,0,1.0279631663428228,0,0,0,0,0,0,0]
[6230,0,{"$f":"$D$4*'SBUH Model'!B644","v":0},2,1.7743550250288795,0,0.1944777911164467,0,1.0279631663428228,0,0,0,0,0,0,0]
[6240,0,{"$f":"$D$4*'SBUH Model'!B645","v":0},2,1.7743550250288795,0,0.1944777911164467,0,1.0279631663428228,0,0,0,0,0,0,0]
[6250,0,{"$f":"$D$4*'SBUH Model'!B646","v":0},2,1.7743550250288795,0,0.1944777911164467,0,1.0279631663428228,0,0,0,0,0,0,0]
[6260,0,{"$f":"$D$4*'SBUH Model'!B647","v":0},2,1.7743550250288795,0,0.1944777911164467,0,1.0279631663428228,0,0,0,0,0,0,0]
[6270,0,{"$f":"$D$4*'SBUH Model'!B648","v":0},2,1.7743550250288795,0,0.1944777911164467,0,1.0279631663428228,0,0,0,0,0,0,0]
[6280,0,{"$f":"$D$4*'SBUH Model'!B649","v":0},2,1.7743550250288795,0,0.1944777911164467,0,1.0279631663428228,0,0,0,0,0,0,0]
[6290,0,{"$f":"$D$4*'SBUH Model'!B650","v":0},2,1.7743550250288795,0,0.1944777911164467,0,1.0279631663428228,0,0,0,0,0,0,0]
[6300,0,{"$f":"$D$4*'SBUH Model'!B651","v":0},2,1.7743550250288795,0,0.1944777911164467,0,1.0279631663428228,0,0,0,0,0,0,0]
[6310,0,{"$f":"$D$4*'SBUH Model'!B652","v":0},2,1.7743550250288795,0,0.1944777911164467,0,1.0279631663428228,0,0,0,0,0,0,0]
[6320,0,{"$f":"$D$4*'SBUH Model'!B653","v":0},2,1.7743550250288795,0,0.1944777911164467,0,1.0279631663428228,0,0,0,0,0,0,0]
[6330,0,{"$f":"$D$4*'SBUH Model'!B654","v":0},2,1.7743550250288795,0,0.1944777911164467,0,1.0279631663428228,0,0,0,0,0,0,0]
[6340,0,{"$f":"$D$4*'SBUH Model'!B655","v":0},2,1.7743550250288795,0,0.1944777911164467,0,1.0279631663428228,0,0,0,0,0,0,0]
[6350,0,{"$f":"$D$4*'SBUH Model'!B656","v":0},2,1.7743550250288795,0,0.1944777911164467,0,1.0279631663428228,0,0,0,0,0,0,0]
[6360,0,{"$f":"$D$4*'SBUH Model'!B657","v":0},2,1.7743550250288795,0,0.1944777911164467,0,1.0279631663428228,0,0,0,0,0,0,0]
[6370,0,{"$f":"$D$4*'SBUH Model'!B658","v":0},2,1.7743550250288795,0,0.1944777911164467,0,1.0279631663428228,0,0,0,0,0,0,0]
[6380,0,{"$f":"$D$4*'SBUH Model'!B659","v":0},2,1.7743550250288795,0,0.1944777911164467,0,1.0279631663428228,0,0,0,0,0,0,0]
[6390,0,{"$f":"$D$4*'SBUH Model'!B660","v":0},2,1.7743550250288795,0,0.1944777911164467,0,1.0279631663428228,0,0,0,0,0,0,0]
[6400,0,{"$f":"$D$4*'SBUH Model'!B661","v":0},2,1.7743550250288795,0,0.1944777911164467,0,1.0279631663428228,0,0,0,{"$f":"L661*($D$5*60)","v":0},{"$f":"(C661/12)*O$4","v":0},0,0]
[6410,0,{"$f":"$D$4*'SBUH Model'!B662","v":0},{"$f":"C662+D661","v":2},{"$f":"IF(D662<0.2*F$8,0,(D662-0.2*F$8)^2/(D662+0.8*F$8))","v":1.7743550250288795},0,{"$f":"IF(D662<0.2*F$11,0,(D662-0.2*F$11)^2/(D662+0.8*F$11))","v":0.1944777911164467},0,{"$f":"IF(D662<0.2*F$12,0,(D662-0.2*F$12)^2/(D662+0.8*F$12))","v":1.0279631663428228},0,{"$f":"((F662/12)*SUMPRODUCT(D$8:D$10,G$8:G$10)+(H662/12)*D$11+(J662/12)*D$12)/($D$5*60)","v":0},{"$f":"MAX(0,L661+(D$5/(2*$D$16+D$5))*(K661+K662-2*L661))","v":0},0,0,{"$f":"-MIN(O$9*D$5*60,SUM(M662,N662,P661))","v":0},0]
[6420,0,{"$f":"$D$4*'SBUH Model'!B663","v":0},2,1.7743550250288795,{"$f":"MAX(0,E663-E662)","v":0},0.1944777911164467,0,1.0279631663428228,0,0,0,0,0,0,{"$f":"P662+SUM(M663:O663)","v":0}]
[6430,0,{"$f":"$D$4*'SBUH Model'!B664","v":0},2,1.7743550250288795,0,0.1944777911164467,0,1.0279631663428228,0,0,0,0,0,0,0]
[6440,0,{"$f":"$D$4*'SBUH Model'!B665","v":0},2,1.7743550250288795,0,0.1944777911164467,0,1.0279631663428228,0,0,0,0,0,0,0]
[6450,0,{"$f":"$D$4*'SBUH Model'!B666","v":0},2,1.7743550250288795,0,0.1944777911164467,0,1.0279631663428228,0,0,0,0,0,0,0]
[6460,0,{"$f":"$D$4*'SBUH Model'!B667","v":0},2,1.7743550250288795,0,0.1944777911164467,0,1.0279631663428228,0,0,0,0,0,0,0]
[6470,0,{"$f":"$D$4*'SBUH Model'!B668","v":0},2,1.7743550250288795,0,0.1944777911164467,0,1.0279631663428228,0,0,0,0,0,0,0]
[6480,0,{"$f":"$D$4*'SBUH Model'!B669","v":0},2,1.7743550250288795,0,0.1944777911164467,0,1.0279631663428228,0,0,0,0,0,0,0]
[6490,0,{"$f":"$D$4*'SBUH Model'!B670","v":0},2,1.7743550250288795,0,0.1944777911164467,0,1.0279631663428228,0,0,0,0,0,0,0]
[6500,0,{"$f":"$D$4*'SBUH Model'!B671","v":0},2,1.7743550250288795,0,0.1944777911164467,0,1.0279631663428228,0,0,0,0,0,0,0]
[6510,0,{"$f":"$D$4*'SBUH Model'!B672","v":0},2,1.7743550250288795,0,0.1944777911164467,0,1.0279631663428228,0,0,0,0,0,0,0]
[6520,0,{"$f":"$D$4*'SBUH Model'!B673","v":0},2,1.7743550250288795,0,0.1944777911164467,0,1.0279631663428228,0,0,0,0,0,0,0]
[6530,0,{"$f":"$D$4*'SBUH Model'!B674","v":0},2,1.7743550250288795,0,0.1944777911164467,0,1.0279631663428228,0,0,0,0,0,0,0]
[6540,0,{"$f":"$D$4*'SBUH Model'!B675","v":0},2,1.7743550250288795,0,0.1944777911164467,0,1.0279631663428228,0,0,0,0,0,0,0]
[6550,0,{"$f":"$D$4*'SBUH Model'!B676","v":0},2,1.7743550250288795,0,0.1944777911164467,0,1.0279631663428228,0,0,0,0,0,0,0]
[6560,0,{"$f":"$D$4*'SBUH Model'!B677","v":0},2,1.7743550250288795,0,0.1944777911164467,0,1.0279631663428228,0,0,0,0,0,0,0]
[6570,0,{"$f":"$D$4*'SBUH Model'!B678","v":0},2,1.7743550250288795,0,0.1944777911164467,0,1.0279631663428228,0,0,0,0,0,0,0]
[6580,0,{"$f":"$D$4*'SBUH Model'!B679","v":0},2,1.7743550250288795,0,0.1944777911164467,0,1.0279631663428228,0,0,0,0,0,0,0]
[6590,0,{"$f":"$D$4*'SBUH Model'!B680","v":0},2,1.7743550250288795,0,0.1944777911164467,0,1.0279631663428228,0,0,0,0,0,0,0]
[6600,0,{"$f":"$D$4*'SBUH Model'!B681","v":0},2,1.7743550250288795,0,0.1944777911164467,0,1.0279631663428228,0,0,0,0,0,0,0]
[{"$f":"A681+10","v":6610},0,{"$f":"$D$4*'SBUH Model'!B682","v":0},2,1.7743550250288795,0,0.1944777911164467,0,1.0279631663428228,0,0,0,0,0,0,0]
[6620,0,{"$f":"$D$4*'SBUH Model'!B683","v":0},2,1.7743550250288795,0,0.1944777911164467,0,1.0279631663428228,0,0,0,0,0,0,0]
[6630,0,{"$f":"$D$4*'SBUH Model'!B684","v":0},2,1.7743550250288795,0,0.1944777911164467,0,1.0279631663428228,0,0,0,0,0,0,0]
[6640,0,{"$f":"$D$4*'SBUH Model'!B685","v":0},2,1.7743550250288795,0,0.1944777911164467,0,1.0279631663428228,0,0,0,0,0,0,0]
[6650,0,{"$f":"$D$4*'SBUH Model'!B686","v":0},2,1.7743550250288795,0,0.1944777911164467,0,1.0279631663428228,0,0,0,0,0,0,0]
[6660,0,{"$f":"$D$4*'SBUH Model'!B687","v":0},2,1.7743550250288795,0,0.1944777911164467,0,1.0279631663428228,0,0,0,0,0,0,0]
[6670,0,{"$f":"$D$4*'SBUH Model'!B688","v":0},2,1.7743550250288795,0,0.1944777911164467,0,1.0279631663428228,0,0,0,0,0,0,0]
[6680,0,{"$f":"$D$4*'SBUH Model'!B689","v":0},2,1.7743550250288795,0,0.1944777911164467,0,1.0279631663428228,0,0,0,0,0,0,0]
[6690,0,{"$f":"$D$4*'SBUH Model'!B690","v":0},2,1.7743550250288795,0,0.1944777911164467,0,1.0279631663428228,0,0,0,0,0,0,0]
[6700,0,{"$f":"$D$4*'SBUH Model'!B691","v":0},2,1.7743550250288795,0,0.1944777911164467,0,1.0279631663428228,0,0,0,0,0,0,0]
[6710,0,{"$f":"$D$4*'SBUH Model'!B692","v":0},2,1.7743550250288795,0,0.1944777911164467,0,1.0279631663428228,0,0,0,0,0,0,0]
[6720,0,{"$f":"$D$4*'SBUH Model'!B693","v":0},2,1.7743550250288795,0,0.1944777911164467,0,1.0279631663428228,0,0,0,0,0,0,0]
[6730,0,{"$f":"$D$4*'SBUH Model'!B694","v":0},2,1.7743550250288795,0,0.1944777911164467,0,1.0279631663428228,0,0,0,0,0,0,0]
[6740,0,{"$f":"$D$4*'SBUH Model'!B695","v":0},2,1.7743550250288795,0,0.1944777911164467,0,1.0279631663428228,0,0,0,0,0,0,0]
[6750,0,{"$f":"$D$4*'SBUH Model'!B696","v":0},2,1.7743550250288795,0,0.1944777911164467,0,1.0279631663428228,0,0,0,0,0,0,0]
[6760,0,{"$f":"$D$4*'SBUH Model'!B697","v":0},2,1.7743550250288795,0,0.1944777911164467,0,1.0279631663428228,0,0,0,0,0,0,0]
[6770,0,{"$f":"$D$4*'SBUH Model'!B698","v":0},2,1.7743550250288795,0,0.1944777911164467,0,1.0279631663428228,0,0,0,0,0,0,0]
[6780,0,{"$f":"$D$4*'SBUH Model'!B699","v":0},2,1.7743550250288795,0,0.1944777911164467,0,1.0279631663428228,0,0,0,0,0,0,0]
[6790,0,{"$f":"$D$4*'SBUH Model'!B700","v":0},2,1.7743550250288795,0,0.1944777911164467,0,1.0279631663428228,0,0,0,0,0,0,0]
[6800,0,{"$f":"$D$4*'SBUH Model'!B701","v":0},2,1.7743550250288795,0,0.1944777911164467,0,1.0279631663428228,0,0,0,0,0,0,0]
[6810,0,{"$f":"$D$4*'SBUH Model'!B702","v":0},2,1.7743550250288795,0,0.1944777911164467,0,1.0279631663428228,0,0,0,0,0,0,0]
[6820,0,{"$f":"$D$4*'SBUH Model'!B703","v":0},2,1.7743550250288795,0,0.1944777911164467,0,1.0279631663428228,0,0,0,0,0,0,0]
[6830,0,{"$f":"$D$4*'SBUH Model'!B704","v":0},2,1.7743550250288795,0,0.1944777911164467,0,1.0279631663428228,0,0,0,0,0,0,0]
[6840,0,{"$f":"$D$4*'SBUH Model'!B705","v":0},2,1.7743550250288795,0,0.1944777911164467,0,1.0279631663428228,0,0,0,0,0,0,0]
[6850,0,{"$f":"$D$4*'SBUH Model'!B706","v":0},2,1.7743550250288795,0,0.1944777911164467,0,1.0279631663428228,0,0,0,0,0,0,0]
[6860,0,{"$f":"$D$4*'SBUH Model'!B707","v":0},2,1.7743550250288795,0,0.1944777911164467,0,1.0279631663428228,0,0,0,0,0,0,0]
[6870,0,{"$f":"$D$4*'SBUH Model'!B708","v":0},2,1.7743550250288795,0,0.1944777911164467,0,1.0279631663428228,0,0,0,0,0,0,0]
[6880,0,{"$f":"$D$4*'SBUH Model'!B709","v":0},2,1.7743550250288795,0,0.1944777911164467,0,1.0279631663428228,0,0,0,0,0,0,0]
[6890,0,{"$f":"$D$4*'SBUH Model'!B710","v":0},2,1.7743550250288795,0,0.1944777911164467,0,1.0279631663428228,0,0,0,0,0,0,0]
[6900,0,{"$f":"$D$4*'SBUH Model'!B711","v":0},2,1.7743550250288795,0,0.1944777911164467,0,1.0279631663428228,0,0,0,0,0,0,0]
[6910,0,{"$f":"$D$4*'SBUH Model'!B712","v":0},2,1.7743550250288795,0,0.1944777911164467,0,1.0279631663428228,0,0,0,0,0,0,0]
[6920,0,{"$f":"$D$4*'SBUH Model'!B713","v":0},2,1.7743550250288795,0,0.1944777911164467,0,1.0279631663428228,0,0,0,0,0,0,0]
[6930,0,{"$f":"$D$4*'SBUH Model'!B714","v":0},2,1.7743550250288795,0,0.1944777911164467,0,1.0279631663428228,0,0,0,0,0,0,0]
[6940,0,{"$f":"$D$4*'SBUH Model'!B715","v":0},2,1.7743550250288795,0,0.1944777911164467,0,1.0279631663428228,0,0,0,0,0,0,0]
[6950,0,{"$f":"$D$4*'SBUH Model'!B716","v":0},2,1.7743550250288795,0,0.1944777911164467,0,1.0279631663428228,0,0,0,0,0,0,0]
[6960,0,{"$f":"$D$4*'SBUH Model'!B717","v":0},2,1.7743550250288795,0,0.1944777911164467,0,1.0279631663428228,0,0,0,0,0,0,0]
[6970,0,{"$f":"$D$4*'SBUH Model'!B718","v":0},2,1.7743550250288795,0,0.1944777911164467,0,1.0279631663428228,0,0,0,0,0,0,0]
[6980,0,{"$f":"$D$4*'SBUH Model'!B719","v":0},2,1.7743550250288795,0,0.1944777911164467,0,1.0279631663428228,0,0,0,0,0,0,0]
[6990,0,{"$f":"$D$4*'SBUH Model'!B720","v":0},2,1.7743550250288795,0,0.1944777911164467,0,1.0279631663428228,0,0,0,0,0,0,0]
[7000,0,{"$f":"$D$4*'SBUH Model'!B721","v":0},2,1.7743550250288795,0,0.1944777911164467,0,1.0279631663428228,0,0,0,0,0,0,0]
[7010,0,{"$f":"$D$4*'SBUH Model'!B722","v":0},2,1.7743550250288795,0,0.1944777911164467,0,1.0279631663428228,0,0,0,0,0,0,0]
[7020,0,{"$f":"$D$4*'SBUH Model'!B723","v":0},2,1.7743550250288795,0,0.1944777911164467,0,1.0279631663428228,0,0,0,0,0,0,0]
[7030,0,{"$f":"$D$4*'SBUH Model'!B724","v":0},2,1.7743550250288795,0,0.1944777911164467,0,1.0279631663428228,0,0,0,0,0,0,0]
[7040,0,{"$f":"$D$4*'SBUH Model'!B725","v":0},2,1.7743550250288795,0,0.1944777911164467,0,1.0279631663428228,0,0,0,{"$f":"L725*($D$5*60)","v":0},{"$f":"(C725/12)*O$4","v":0},0,0]
[7050,0,{"$f":"$D$4*'SBUH Model'!B726","v":0},{"$f":"C726+D725","v":2},{"$f":"IF(D726<0.2*F$8,0,(D726-0.2*F$8)^2/(D726+0.8*F$8))","v":1.7743550250288795},0,{"$f":"IF(D726<0.2*F$11,0,(D726-0.2*F$11)^2/(D726+0.8*F$11))","v":0.1944777911164467},0,{"$f":"IF(D726<0.2*F$12,0,(D726-0.2*F$12)^2/(D726+0.8*F$12))","v":1.0279631663428228},0,{"$f":"((F726/12)*SUMPRODUCT(D$8:D$10,G$8:G$10)+(H726/12)*D$11+(J726/12)*D$12)/($D$5*60)","v":0},{"$f":"MAX(0,L725+(D$5/(2*$D$16+D$5))*(K725+K726-2*L725))","v":0},0,0,{"$f":"-MIN(O$9*D$5*60,SUM(M726,N726,P725))","v":0},0]
[7060,0,{"$f":"$D$4*'SBUH Model'!B727","v":0},2,1.7743550250288795,{"$f":"MAX(0,E727-E726)","v":0},0.1944777911164467,0,1.0279631663428228,0,0,0,0,0,0,{"$f":"P726+SUM(M727:O727)","v":0}]
[7070,0,{"$f":"$D$4*'SBUH Model'!B728","v":0},2,1.7743550250288795,0,0.1944777911164467,0,1.0279631663428228,0,0,0,0,0,0,0]
[7080,0,{"$f":"$D$4*'SBUH Model'!B729","v":0},2,1.7743550250288795,0,0.1944777911164467,0,1.0279631663428228,0,0,0,0,0,0,0]
[7090,0,{"$f":"$D$4*'SBUH Model'!B730","v":0},2,1.7743550250288795,0,0.1944777911164467,0,1.0279631663428228,0,0,0,0,0,0,0]
[7100,0,{"$f":"$D$4*'SBUH Model'!B731","v":0},2,1.7743550250288795,0,0.1944777911164467,0,1.0279631663428228,0,0,0,0,0,0,0]
[7110,0,{"$f":"$D$4*'SBUH Model'!B732","v":0},2,1.7743550250288795,0,0.1944777911164467,0,1.0279631663428228,0,0,0,0,0,0,0]
[7120,0,{"$f":"$D$4*'SBUH Model'!B733","v":0},2,1.7743550250288795,0,0.1944777911164467,0,1.0279631663428228,0,0,0,0,0,0,0]
[7130,0,{"$f":"$D$4*'SBUH Model'!B734","v":0},2,1.7743550250288795,0,0.1944777911164467,0,1.0279631663428228,0,0,0,0,0,0,0]
[7140,0,{"$f":"$D$4*'SBUH Model'!B735","v":0},2,1.7743550250288795,0,0.1944777911164467,0,1.0279631663428228,0,0,0,0,0,0,0]
[7150,0,{"$f":"$D$4*'SBUH Model'!B736","v":0},2,1.7743550250288795,0,0.1944777911164467,0,1.0279631663428228,0,0,0,0,0,0,0]
[7160,0,{"$f":"$D$4*'SBUH Model'!B737","v":0},2,1.7743550250288795,0,0.1944777911164467,0,1.0279631663428228,0,0,0,0,0,0,0]
[7170,0,{"$f":"$D$4*'SBUH Model'!B738","v":0},2,1.7743550250288795,0,0.1944777911164467,0,1.0279631663428228,0,0,0,0,0,0,0]
[7180,0,{"$f":"$D$4*'SBUH Model'!B739","v":0},2,1.7743550250288795,0,0.1944777911164467,0,1.0279631663428228,0,0,0,0,0,0,0]
[7190,0,{"$f":"$D$4*'SBUH Model'!B740","v":0},2,1.7743550250288795,0,0.1944777911164467,0,1.0279631663428228,0,0,0,0,0,0,0]
[7200,0,{"$f":"$D$4*'SBUH Model'!B741","v":0},2,1.7743550250288795,0,0.1944777911164467,0,1.0279631663428228,0,0,0,0,0,0,0]

{"sheet":"SCS,SBUH Equations","index":2,"n_rows":724,"n_cols":16,"rows_kept":724,"cut":false,"hidden":false,"merged":[]}
["SCS Type I Distribution (10-min)",null,null,null,null,"SCS Type I Distribution (2-min)",null,null,null,null,"Stormwater Runoff and Routing Equations: "]
[]
["Step","Minute","Cummulative Distribution","Incremental Distribution",null,"Step","Minute","Cummulative Distribution","Incremental Distribution"]
[0,0,0,0,null,0,0,0,0,null,"Computing Runoff (SCS and SBUH are the same): "]
[1,10,2.7000000000000001E-3,{"$f":"C5-C4","v":2.7000000000000001E-3},null,1,2,5.0000000000000001E-4,{"$f":"H5-H4","v":5.0000000000000001E-4}]
[2,20,5.3E-3,{"$f":"C6-C5","v":2.5999999999999999E-3},null,2,4,1.1000000000000001E-3,{"$f":"H6-H5","v":6.0000000000000006E-4}]
[3,30,8.0000000000000002E-3,2.7000000000000001E-3,null,3,6,1.6000000000000001E-3,5.0000000000000001E-4,null,null,null,null,"where: "]
[4,40,1.0999999999999999E-2,2.9999999999999992E-3,null,4,8,2.0999999999999999E-3,4.9999999999999979E-4,null,null,null,null,"R = runoff (in)"]
[5,50,1.4E-2,3.0000000000000009E-3,null,5,10,2.7000000000000001E-3,6.0000000000000027E-4,null,null,null,null,"P = rainfall (in)"]
[6,60,1.7000000000000001E-2,3.0000000000000009E-3,null,6,12,3.2000000000000002E-3,5.0000000000000001E-4,null,null,null,null,"Ia = initial abstraction (in)"]
[7,70,0.02,2.9999999999999992E-3,null,7,14,3.7000000000000002E-3,5.0000000000000001E-4,null,null,null,null,"S = potential maximum soil moisture retention after runoff begins (in)"]
[8,80,2.3E-2,2.9999999999999992E-3,null,8,16,4.3E-3,5.9999999999999984E-4,null,null,null,null,"CN = runoff curve number"]
[9,90,2.5999999999999999E-2,2.9999999999999992E-3,null,9,18,4.7999999999999996E-3,4.9999999999999958E-4]
[10,100,2.9000000000000001E-2,3.0000000000000027E-3,null,10,20,5.3E-3,5.0000000000000044E-4]
[11,110,3.2000000000000001E-2,2.9999999999999992E-3,null,11,22,5.8999999999999999E-3,5.9999999999999984E-4]
[12,120,3.5000000000000003E-2,3.0000000000000027E-3,null,12,24,6.4000000000000003E-3,5.0000000000000044E-4]
[13,130,3.8300000000000001E-2,3.2999999999999974E-3,null,13,26,6.8999999999999999E-3,4.9999999999999958E-4]
[14,140,4.1700000000000001E-2,3.4000000000000002E-3,null,14,28,7.4999999999999997E-3,5.9999999999999984E-4,null,"SBUH Runoff Routing: "]
[15,150,4.4999999999999998E-2,3.2999999999999974E-3,null,15,30,8.0000000000000002E-3,5.0000000000000044E-4]
[16,160,4.8300000000000003E-2,3.3000000000000043E-3,null,16,32,8.6E-3,5.9999999999999984E-4,null,null,null,null,null,null,"where: "]
[17,170,5.1700000000000003E-2,3.4000000000000002E-3,null,17,34,9.1999999999999998E-3,5.9999999999999984E-4,null,null,null,null,null,null,"It = instantaneous hydrograph (cfs)"]
[18,180,5.5E-2,3.2999999999999974E-3,null,18,36,9.7999999999999997E-3,5.9999999999999984E-4,null,null,null,null,null,null,"Rt = runoff for current time step (in)"]
[19,190,5.8299999999999998E-2,3.2999999999999974E-3,null,19,38,1.04E-2,5.9999999999999984E-4,null,null,null,null,null,null,"A = contributing area (ft)"]
[20,200,6.1699999999999998E-2,3.4000000000000002E-3,null,20,40,1.0999999999999999E-2,5.9999999999999984E-4,null,null,null,null,null,null,"dt = calculation time step (min)"]
[21,210,6.5000000000000002E-2,3.3000000000000043E-3,null,21,42,1.1599999999999999E-2,5.9999999999999984E-4]
[22,220,6.8699999999999997E-2,3.699999999999995E-3,null,22,44,1.2200000000000001E-2,6.0000000000000157E-4,null,null,null,null,null,null,"Qt = routed stormwater flow"]
[23,230,7.2300000000000003E-2,3.600000000000006E-3,null,23,46,1.2800000000000001E-2,5.9999999999999984E-4,null,null,null,null,null,null,"w = routing function"]
[24,240,7.5999999999999998E-2,3.699999999999995E-3,null,24,48,1.34E-2,5.9999999999999984E-4,null,null,null,null,null,null,"Tc = time of concentration"]
[25,250,7.9699999999999993E-2,3.699999999999995E-3,null,25,50,1.4E-2,5.9999999999999984E-4]
[26,260,8.3299999999999999E-2,3.600000000000006E-3,null,26,52,1.46E-2,5.9999999999999984E-4,null,null,null,null,null,null,"n = Manning's roughness (0.011 for pavement)"]
[27,270,8.6999999999999994E-2,3.699999999999995E-3,null,27,54,1.52E-2,5.9999999999999984E-4,null,null,null,null,null,null,"L = flow lenth (ft; computed from tributary area)"]
[28,280,9.0999999999999998E-2,4.0000000000000036E-3,null,28,56,1.5800000000000002E-2,6.0000000000000157E-4,null,null,null,null,null,null,"P2 = 2-year, 24-hour rainfall (in)"]
[29,290,9.5000000000000001E-2,4.0000000000000036E-3,null,29,58,1.6400000000000001E-2,5.9999999999999984E-4,null,null,null,null,null,null,"s = 0.005 (ft/ft; assumed value)"]
[30,300,9.9000000000000005E-2,4.0000000000000036E-3,null,30,60,1.7000000000000001E-2,5.9999999999999984E-4,null,null,null,null,null,null,"Note: set minimum Tc = 5 minutes (Portland BES recommendation)"]
[31,310,0.1033,4.2999999999999983E-3,null,31,62,1.7600000000000001E-2,5.9999999999999984E-4]
[32,320,0.1077,4.4000000000000011E-3,null,32,64,1.8200000000000001E-2,5.9999999999999984E-4]
[33,330,0.112,4.2999999999999983E-3,null,33,66,1.8800000000000001E-2,5.9999999999999984E-4,null,"from TR-55 user manual… "]
[34,340,0.1163,4.2999999999999983E-3,null,34,68,1.9400000000000001E-2,5.9999999999999984E-4]
[35,350,0.1207,4.4000000000000011E-3,null,35,70,0.02,5.9999999999999984E-4]
[36,360,0.125,4.2999999999999983E-3,null,36,72,2.06E-2,5.9999999999999984E-4]
[37,370,0.13,5.0000000000000044E-3,null,37,74,2.12E-2,5.9999999999999984E-4]
[38,380,0.13500000000000001,5.0000000000000044E-3,null,38,76,2.18E-2,5.9999999999999984E-4]
[39,390,0.14000000000000001,5.0000000000000044E-3,null,39,78,2.24E-2,5.9999999999999984E-4]
[40,400,0.14530000000000001,5.2999999999999992E-3,null,40,80,2.3E-2,5.9999999999999984E-4]
[41,410,0.1507,5.3999999999999881E-3,null,41,82,2.3599999999999999E-2,5.9999999999999984E-4]
[42,420,0.156,5.2999999999999992E-3,null,42,84,2.4199999999999999E-2,5.9999999999999984E-4]
[43,430,0.16200000000000001,6.0000000000000053E-3,null,43,86,2.4799999999999999E-2,5.9999999999999984E-4]
[44,440,0.16800000000000001,6.0000000000000053E-3,null,44,88,2.5399999999999999E-2,5.9999999999999984E-4]
[45,450,0.17399999999999999,5.9999999999999776E-3,null,45,90,2.5999999999999999E-2,5.9999999999999984E-4]
[46,460,0.1807,6.7000000000000115E-3,null,46,92,2.6599999999999999E-2,5.9999999999999984E-4]
[47,470,0.18729999999999999,6.5999999999999948E-3,null,47,94,2.7199999999999998E-2,5.9999999999999984E-4]
[48,480,0.19400000000000001,6.7000000000000115E-3,null,48,96,2.7799999999999998E-2,5.9999999999999984E-4]
[49,490,0.20230000000000001,8.3000000000000018E-3,null,49,98,2.8400000000000002E-2,6.0000000000000331E-4]
[50,500,0.2107,8.3999999999999908E-3,null,50,100,2.9000000000000001E-2,5.9999999999999984E-4]
[51,510,0.219,8.3000000000000018E-3,null,51,102,2.9600000000000001E-2,5.9999999999999984E-4]
[52,520,0.23069999999999999,1.1699999999999988E-2,null,52,104,3.0200000000000001E-2,5.9999999999999984E-4]
[53,530,0.24229999999999999,1.1599999999999999E-2,null,53,106,3.0800000000000001E-2,5.9999999999999984E-4]
[54,540,0.254,1.1700000000000016E-2,null,54,108,3.1399999999999997E-2,5.9999999999999637E-4]
[55,550,0.27029999999999998,1.6299999999999981E-2,null,55,110,3.2000000000000001E-2,6.0000000000000331E-4]
[56,560,0.28670000000000001,1.6400000000000026E-2,null,56,112,3.2599999999999997E-2,5.9999999999999637E-4]
[57,570,0.30299999999999999,1.6299999999999981E-2,null,57,114,3.32E-2,6.0000000000000331E-4]
[58,580,0.37369999999999998,7.0699999999999985E-2,null,58,116,3.3799999999999997E-2,5.9999999999999637E-4]
[59,590,0.44429999999999997,7.0599999999999996E-2,null,59,118,3.44E-2,6.0000000000000331E-4]
[60,600,0.51500000000000001,7.0700000000000041E-2,null,60,120,3.5000000000000003E-2,6.0000000000000331E-4]
[61,610,0.53769999999999996,2.2699999999999942E-2,null,61,122,3.5700000000000003E-2,6.9999999999999923E-4]
[62,620,0.56030000000000002,2.2600000000000064E-2,null,62,124,3.6299999999999999E-2,5.9999999999999637E-4]
[63,630,0.58299999999999996,2.2699999999999942E-2,null,63,126,3.6999999999999998E-2,6.9999999999999923E-4]
[64,640,0.59670000000000001,1.3700000000000045E-2,null,64,128,3.7699999999999997E-2,6.9999999999999923E-4]
[65,650,0.61029999999999995,1.3599999999999945E-2,null,65,130,3.8300000000000001E-2,6.0000000000000331E-4]
[66,660,0.624,{"$f":"C70-C69","v":1.3700000000000045E-2},null,66,132,3.9E-2,{"$f":"H70-H69","v":6.9999999999999923E-4}]
[67,670,0.63400000000000001,1.0000000000000009E-2,null,67,134,3.9699999999999999E-2,6.9999999999999923E-4]
[68,680,0.64400000000000002,1.0000000000000009E-2,null,68,136,4.0300000000000002E-2,6.0000000000000331E-4]
[69,690,0.65400000000000003,1.0000000000000009E-2,null,69,138,4.1000000000000002E-2,6.9999999999999923E-4]
[70,700,0.6633,9.299999999999975E-3,null,70,140,4.1700000000000001E-2,6.9999999999999923E-4]
[71,710,0.67269999999999996,9.3999999999999639E-3,null,71,142,4.2299999999999997E-2,5.9999999999999637E-4]
[72,720,0.68200000000000005,9.300000000000086E-3,null,72,144,4.2999999999999997E-2,6.9999999999999923E-4]
[73,730,0.69,7.9999999999998961E-3,null,73,146,4.3700000000000003E-2,7.0000000000000617E-4]
[74,740,0.69799999999999995,8.0000000000000071E-3,null,74,148,4.4299999999999999E-2,5.9999999999999637E-4]
[75,750,0.70599999999999996,8.0000000000000071E-3,null,75,150,4.4999999999999998E-2,6.9999999999999923E-4]
[76,760,0.71330000000000005,7.3000000000000842E-3,null,76,152,4.5699999999999998E-2,6.9999999999999923E-4]
[77,770,0.72070000000000001,7.3999999999999622E-3,null,77,154,4.6300000000000001E-2,6.0000000000000331E-4]
[78,780,0.72799999999999998,7.2999999999999732E-3,null,78,156,4.7E-2,6.9999999999999923E-4]
[79,790,0.73470000000000002,6.7000000000000393E-3,null,79,158,4.7699999999999999E-2,6.9999999999999923E-4]
[80,800,0.74129999999999996,6.5999999999999392E-3,null,80,160,4.8300000000000003E-2,6.0000000000000331E-4]
[81,810,0.748,6.7000000000000393E-3,null,81,162,4.9000000000000002E-2,6.9999999999999923E-4]
[82,820,0.754,6.0000000000000053E-3,null,82,164,4.9700000000000001E-2,6.9999999999999923E-4]
[83,830,0.76,6.0000000000000053E-3,null,83,166,5.0299999999999997E-2,5.9999999999999637E-4]
[84,840,0.76600000000000001,6.0000000000000053E-3,null,84,168,5.0999999999999997E-2,6.9999999999999923E-4]
[85,850,0.77170000000000005,5.7000000000000384E-3,null,85,170,5.1700000000000003E-2,7.0000000000000617E-4]
[86,860,0.77729999999999999,5.5999999999999384E-3,null,86,172,5.2299999999999999E-2,5.9999999999999637E-4]
[87,870,0.78300000000000003,5.7000000000000384E-3,null,87,174,5.2999999999999999E-2,6.9999999999999923E-4]
[88,880,0.7883,5.2999999999999714E-3,null,88,176,5.3699999999999998E-2,6.9999999999999923E-4]
[89,890,0.79369999999999996,5.3999999999999604E-3,null,89,178,5.4300000000000001E-2,6.0000000000000331E-4]
[90,900,0.79900000000000004,5.3000000000000824E-3,null,90,180,5.5E-2,6.9999999999999923E-4]
[91,910,0.80430000000000001,5.2999999999999714E-3,null,91,182,5.57E-2,6.9999999999999923E-4]
[92,920,0.80969999999999998,5.3999999999999604E-3,null,92,184,5.6300000000000003E-2,6.0000000000000331E-4]
[93,930,0.81499999999999995,5.2999999999999714E-3,null,93,186,5.7000000000000002E-2,6.9999999999999923E-4]
[94,940,0.82,5.0000000000000044E-3,null,94,188,5.7700000000000001E-2,6.9999999999999923E-4]
[95,950,0.82499999999999996,5.0000000000000044E-3,null,95,190,5.8299999999999998E-2,5.9999999999999637E-4]
[96,960,0.83,5.0000000000000044E-3,null,96,192,5.8999999999999997E-2,6.9999999999999923E-4]
[97,970,0.8347,4.7000000000000375E-3,null,97,194,5.9700000000000003E-2,7.0000000000000617E-4]
[98,980,0.83930000000000005,4.6000000000000485E-3,null,98,196,6.0299999999999999E-2,5.9999999999999637E-4]
[99,990,0.84399999999999997,4.6999999999999265E-3,null,99,198,6.0999999999999999E-2,6.9999999999999923E-4]
[100,1000,0.84830000000000005,4.3000000000000815E-3,null,100,200,6.1699999999999998E-2,6.9999999999999923E-4]
[101,1010,0.85270000000000001,4.3999999999999595E-3,null,101,202,6.2300000000000001E-2,6.0000000000000331E-4]
[102,1020,0.85699999999999998,4.2999999999999705E-3,null,102,204,6.3E-2,6.9999999999999923E-4]
[103,1030,0.86129999999999995,4.2999999999999705E-3,null,103,206,6.3700000000000007E-2,7.0000000000000617E-4]
[104,1040,0.86570000000000003,4.4000000000000705E-3,null,104,208,6.4299999999999996E-2,5.9999999999998943E-4]
[105,1050,0.87,4.2999999999999705E-3,null,105,210,6.5000000000000002E-2,7.0000000000000617E-4]
[106,1060,0.874,4.0000000000000036E-3,null,106,212,6.5699999999999995E-2,6.999999999999923E-4]
[107,1070,0.878,4.0000000000000036E-3,null,107,214,6.6500000000000004E-2,8.0000000000000904E-4]
[108,1080,0.88200000000000001,4.0000000000000036E-3,null,108,216,6.7199999999999996E-2,6.999999999999923E-4]
[109,1090,0.88570000000000004,3.7000000000000366E-3,null,109,218,6.7900000000000002E-2,7.0000000000000617E-4]
[110,1100,0.88929999999999998,3.5999999999999366E-3,null,110,220,6.8699999999999997E-2,7.9999999999999516E-4]
[111,1110,0.89300000000000002,3.7000000000000366E-3,null,111,222,6.9400000000000003E-2,7.0000000000000617E-4]
[112,1120,0.89700000000000002,4.0000000000000036E-3,null,112,224,7.0099999999999996E-2,6.999999999999923E-4]
[113,1130,0.90100000000000002,4.0000000000000036E-3,null,113,226,7.0900000000000005E-2,8.0000000000000904E-4]
[114,1140,0.90500000000000003,4.0000000000000036E-3,null,114,228,7.1599999999999997E-2,6.999999999999923E-4]
[115,1150,0.90869999999999995,3.6999999999999256E-3,null,115,230,7.2300000000000003E-2,7.0000000000000617E-4]
[116,1160,0.9123,3.6000000000000476E-3,null,116,232,7.3099999999999998E-2,7.9999999999999516E-4]
[117,1170,0.91600000000000004,3.7000000000000366E-3,null,117,234,7.3800000000000004E-2,7.0000000000000617E-4]
[118,1180,0.91930000000000001,3.2999999999999696E-3,null,118,236,7.4499999999999997E-2,6.999999999999923E-4]
[119,1190,0.92269999999999996,3.3999999999999586E-3,null,119,238,7.5300000000000006E-2,8.0000000000000904E-4]
[120,1200,0.92600000000000005,3.3000000000000806E-3,null,120,240,7.5999999999999998E-2,6.999999999999923E-4]
[121,1210,0.92930000000000001,3.2999999999999696E-3,null,121,242,7.6700000000000004E-2,7.0000000000000617E-4]
[122,1220,0.93269999999999997,3.3999999999999586E-3,null,122,244,7.7499999999999999E-2,7.9999999999999516E-4]
[123,1230,0.93600000000000005,3.3000000000000806E-3,null,123,246,7.8200000000000006E-2,7.0000000000000617E-4]
[124,1240,0.93930000000000002,3.2999999999999696E-3,null,124,248,7.8899999999999998E-2,6.999999999999923E-4]
[125,1250,0.94269999999999998,3.3999999999999586E-3,null,125,250,7.9699999999999993E-2,7.9999999999999516E-4]
[126,1260,0.94599999999999995,3.2999999999999696E-3,null,126,252,8.0399999999999999E-2,7.0000000000000617E-4]
[127,1270,0.94930000000000003,3.3000000000000806E-3,null,127,254,8.1100000000000005E-2,7.0000000000000617E-4]
[128,1280,0.95269999999999999,3.3999999999999586E-3,null,128,256,8.1900000000000001E-2,7.9999999999999516E-4]
[129,1290,0.95599999999999996,3.2999999999999696E-3,null,129,258,8.2600000000000007E-2,7.0000000000000617E-4]
[130,1300,0.95899999999999996,{"$f":"C134-C133","v":3.0000000000000027E-3},null,130,260,8.3299999999999999E-2,{"$f":"H134-H133","v":6.999999999999923E-4}]
[131,1310,0.96199999999999997,3.0000000000000027E-3,null,131,262,8.4099999999999994E-2,7.9999999999999516E-4]
[132,1320,0.96499999999999997,3.0000000000000027E-3,null,132,264,8.48E-2,7.0000000000000617E-4]
[133,1330,0.96799999999999997,3.0000000000000027E-3,null,133,266,8.5500000000000007E-2,7.0000000000000617E-4]
[134,1340,0.97099999999999997,3.0000000000000027E-3,null,134,268,8.6300000000000002E-2,7.9999999999999516E-4]
[135,1350,0.97399999999999998,3.0000000000000027E-3,null,135,270,8.6999999999999994E-2,6.999999999999923E-4]
[136,1360,0.97699999999999998,3.0000000000000027E-3,null,136,272,8.7800000000000003E-2,8.0000000000000904E-4]
[137,1370,0.98,3.0000000000000027E-3,null,137,274,8.8599999999999998E-2,7.9999999999999516E-4]
[138,1380,0.98299999999999998,3.0000000000000027E-3,null,138,276,8.9399999999999993E-2,7.9999999999999516E-4]
[139,1390,0.98599999999999999,3.0000000000000027E-3,null,139,278,9.0200000000000002E-2,8.0000000000000904E-4]
[140,1400,0.98899999999999999,3.0000000000000027E-3,null,140,280,9.0999999999999998E-2,7.9999999999999516E-4]
[141,1410,0.99199999999999999,3.0000000000000027E-3,null,141,282,9.1800000000000007E-2,8.0000000000000904E-4]
[142,1420,0.99470000000000003,2.7000000000000357E-3,null,142,284,9.2600000000000002E-2,7.9999999999999516E-4]
[143,1430,0.99729999999999996,2.5999999999999357E-3,null,143,286,9.3399999999999997E-2,7.9999999999999516E-4]
[144,1440,1,2.7000000000000357E-3,null,144,288,9.4200000000000006E-2,8.0000000000000904E-4]
[null,null,null,null,null,145,290,9.5000000000000001E-2,7.9999999999999516E-4]
[null,null,null,null,null,146,292,9.5799999999999996E-2,7.9999999999999516E-4]
[null,null,null,null,null,147,294,9.6600000000000005E-2,8.0000000000000904E-4]
[null,null,null,null,null,148,296,9.74E-2,7.9999999999999516E-4]
[null,null,null,null,null,149,298,9.8199999999999996E-2,7.9999999999999516E-4]
[null,null,null,null,null,150,300,9.9000000000000005E-2,8.0000000000000904E-4]
[null,null,null,null,null,151,302,9.9900000000000003E-2,8.9999999999999802E-4]
[null,null,null,null,null,152,304,0.1007,7.9999999999999516E-4]
[null,null,null,null,null,153,306,0.1016,8.9999999999999802E-4]
[null,null,null,null,null,154,308,0.10249999999999999,8.9999999999999802E-4]
[null,null,null,null,null,155,310,0.1033,8.0000000000000904E-4]
[null,null,null,null,null,156,312,0.1042,8.9999999999999802E-4]
[null,null,null,null,null,157,314,0.1051,8.9999999999999802E-4]
[null,null,null,null,null,158,316,0.10589999999999999,7.9999999999999516E-4]
[null,null,null,null,null,159,318,0.10680000000000001,9.000000000000119E-4]
[null,null,null,null,null,160,320,0.1077,8.9999999999999802E-4]
[null,null,null,null,null,161,322,0.1085,7.9999999999999516E-4]
[null,null,null,null,null,162,324,0.1094,8.9999999999999802E-4]
[null,null,null,null,null,163,326,0.1103,8.9999999999999802E-4]
[null,null,null,null,null,164,328,0.1111,8.0000000000000904E-4]
[null,null,null,null,null,165,330,0.112,8.9999999999999802E-4]
[null,null,null,null,null,166,332,0.1129,8.9999999999999802E-4]
[null,null,null,null,null,167,334,0.1137,7.9999999999999516E-4]
[null,null,null,null,null,168,336,0.11459999999999999,8.9999999999999802E-4]
[null,null,null,null,null,169,338,0.11550000000000001,9.000000000000119E-4]
[null,null,null,null,null,170,340,0.1163,7.9999999999999516E-4]
[null,null,null,null,null,171,342,0.1172,8.9999999999999802E-4]
[null,null,null,null,null,172,344,0.1181,8.9999999999999802E-4]
[null,null,null,null,null,173,346,0.11890000000000001,8.0000000000000904E-4]
[null,null,null,null,null,174,348,0.1198,8.9999999999999802E-4]
[null,null,null,null,null,175,350,0.1207,8.9999999999999802E-4]
[null,null,null,null,null,176,352,0.1215,7.9999999999999516E-4]
[null,null,null,null,null,177,354,0.12239999999999999,8.9999999999999802E-4]
[null,null,null,null,null,178,356,0.12330000000000001,9.000000000000119E-4]
[null,null,null,null,null,179,358,0.1241,7.9999999999999516E-4]
[null,null,null,null,null,180,360,0.125,8.9999999999999802E-4]
[null,null,null,null,null,181,362,0.126,1.0000000000000009E-3]
[null,null,null,null,null,182,364,0.127,1.0000000000000009E-3]
[null,null,null,null,null,183,366,0.128,1.0000000000000009E-3]
[null,null,null,null,null,184,368,0.129,1.0000000000000009E-3]
[null,null,null,null,null,185,370,0.13,1.0000000000000009E-3]
[null,null,null,null,null,186,372,0.13100000000000001,1.0000000000000009E-3]
[null,null,null,null,null,187,374,0.13200000000000001,1.0000000000000009E-3]
[null,null,null,null,null,188,376,0.13300000000000001,1.0000000000000009E-3]
[null,null,null,null,null,189,378,0.13400000000000001,1.0000000000000009E-3]
[null,null,null,null,null,190,380,0.13500000000000001,1.0000000000000009E-3]
[null,null,null,null,null,191,382,0.13600000000000001,1.0000000000000009E-3]
[null,null,null,null,null,192,384,0.13700000000000001,1.0000000000000009E-3]
[null,null,null,null,null,193,386,0.13800000000000001,1.0000000000000009E-3]
[null,null,null,null,null,194,388,0.13900000000000001,{"$f":"H198-H197","v":1.0000000000000009E-3}]
[null,null,null,null,null,195,390,0.14000000000000001,1.0000000000000009E-3]
[null,null,null,null,null,196,392,0.1411,1.0999999999999899E-3]
[null,null,null,null,null,197,394,0.1421,1.0000000000000009E-3]
[null,null,null,null,null,198,396,0.14319999999999999,1.0999999999999899E-3]
[null,null,null,null,null,199,398,0.14430000000000001,1.1000000000000176E-3]
[null,null,null,null,null,200,400,0.14530000000000001,1.0000000000000009E-3]
[null,null,null,null,null,201,402,0.1464,1.0999999999999899E-3]
[null,null,null,null,null,202,404,0.14749999999999999,1.0999999999999899E-3]
[null,null,null,null,null,203,406,0.14849999999999999,1.0000000000000009E-3]
[null,null,null,null,null,204,408,0.14960000000000001,1.1000000000000176E-3]
[null,null,null,null,null,205,410,0.1507,1.0999999999999899E-3]
[null,null,null,null,null,206,412,0.1517,1.0000000000000009E-3]
[null,null,null,null,null,207,414,0.15279999999999999,1.0999999999999899E-3]
[null,null,null,null,null,208,416,0.15390000000000001,1.1000000000000176E-3]
[null,null,null,null,null,209,418,0.15490000000000001,1.0000000000000009E-3]
[null,null,null,null,null,210,420,0.156,1.0999999999999899E-3]
[null,null,null,null,null,211,422,0.15720000000000001,1.2000000000000066E-3]
[null,null,null,null,null,212,424,0.15840000000000001,1.2000000000000066E-3]
[null,null,null,null,null,213,426,0.15959999999999999,1.1999999999999789E-3]
[null,null,null,null,null,214,428,0.1608,1.2000000000000066E-3]
[null,null,null,null,null,215,430,0.16200000000000001,1.2000000000000066E-3]
[null,null,null,null,null,216,432,0.16320000000000001,1.2000000000000066E-3]
[null,null,null,null,null,217,434,0.16439999999999999,1.1999999999999789E-3]
[null,null,null,null,null,218,436,0.1656,1.2000000000000066E-3]
[null,null,null,null,null,219,438,0.1668,1.2000000000000066E-3]
[null,null,null,null,null,220,440,0.16800000000000001,1.2000000000000066E-3]
[null,null,null,null,null,221,442,0.16919999999999999,1.1999999999999789E-3]
[null,null,null,null,null,222,444,0.1704,1.2000000000000066E-3]
[null,null,null,null,null,223,446,0.1716,1.2000000000000066E-3]
[null,null,null,null,null,224,448,0.17280000000000001,1.2000000000000066E-3]
[null,null,null,null,null,225,450,0.17399999999999999,1.1999999999999789E-3]
[null,null,null,null,null,226,452,0.17530000000000001,1.3000000000000234E-3]
[null,null,null,null,null,227,454,0.1767,1.3999999999999846E-3]
[null,null,null,null,null,228,456,0.17799999999999999,1.2999999999999956E-3]
[null,null,null,null,null,229,458,0.17929999999999999,1.2999999999999956E-3]
[null,null,null,null,null,230,460,0.1807,1.4000000000000123E-3]
[null,null,null,null,null,231,462,0.182,1.2999999999999956E-3]
[null,null,null,null,null,232,464,0.18329999999999999,1.2999999999999956E-3]
[null,null,null,null,null,233,466,0.1847,1.4000000000000123E-3]
[null,null,null,null,null,234,468,0.186,1.2999999999999956E-3]
[null,null,null,null,null,235,470,0.18729999999999999,1.2999999999999956E-3]
[null,null,null,null,null,236,472,0.18870000000000001,1.4000000000000123E-3]
[null,null,null,null,null,237,474,0.19,1.2999999999999956E-3]
[null,null,null,null,null,238,476,0.1913,1.2999999999999956E-3]
[null,null,null,null,null,239,478,0.19270000000000001,1.4000000000000123E-3]
[null,null,null,null,null,240,480,0.19400000000000001,1.2999999999999956E-3]
[null,null,null,null,null,241,482,0.19570000000000001,1.7000000000000071E-3]
[null,null,null,null,null,242,484,0.1973,1.5999999999999903E-3]
[null,null,null,null,null,243,486,0.19900000000000001,1.7000000000000071E-3]
[null,null,null,null,null,244,488,0.20069999999999999,1.6999999999999793E-3]
[null,null,null,null,null,245,490,0.20230000000000001,1.6000000000000181E-3]
[null,null,null,null,null,246,492,0.20399999999999999,1.6999999999999793E-3]
[null,null,null,null,null,247,494,0.20569999999999999,1.7000000000000071E-3]
[null,null,null,null,null,248,496,0.20730000000000001,1.6000000000000181E-3]
[null,null,null,null,null,249,498,0.20899999999999999,1.6999999999999793E-3]
[null,null,null,null,null,250,500,0.2107,1.7000000000000071E-3]
[null,null,null,null,null,251,502,0.21229999999999999,1.5999999999999903E-3]
[null,null,null,null,null,252,504,0.214,1.7000000000000071E-3]
[null,null,null,null,null,253,506,0.2157,1.7000000000000071E-3]
[null,null,null,null,null,254,508,0.21729999999999999,1.5999999999999903E-3]
[null,null,null,null,null,255,510,0.219,1.7000000000000071E-3]
[null,null,null,null,null,256,512,0.2213,2.2999999999999965E-3]
[null,null,null,null,null,257,514,0.22370000000000001,2.4000000000000132E-3]
[null,null,null,null,null,258,516,0.22600000000000001,{"$f":"H262-H261","v":2.2999999999999965E-3}]
[null,null,null,null,null,259,518,0.2283,2.2999999999999965E-3]
[null,null,null,null,null,260,520,0.23069999999999999,2.3999999999999855E-3]
[null,null,null,null,null,261,522,0.23300000000000001,2.3000000000000242E-3]
[null,null,null,null,null,262,524,0.23530000000000001,2.2999999999999965E-3]
[null,null,null,null,null,263,526,0.23769999999999999,2.3999999999999855E-3]
[null,null,null,null,null,264,528,0.24,2.2999999999999965E-3]
[null,null,null,null,null,265,530,0.24229999999999999,2.2999999999999965E-3]
[null,null,null,null,null,266,532,0.2447,2.4000000000000132E-3]
[null,null,null,null,null,267,534,0.247,2.2999999999999965E-3]
[null,null,null,null,null,268,536,0.24929999999999999,2.2999999999999965E-3]
[null,null,null,null,null,269,538,0.25169999999999998,2.3999999999999855E-3]
[null,null,null,null,null,270,540,0.254,2.3000000000000242E-3]
[null,null,null,null,null,271,542,0.25729999999999997,3.2999999999999696E-3]
[null,null,null,null,null,272,544,0.26050000000000001,3.2000000000000361E-3]
[null,null,null,null,null,273,546,0.26379999999999998,3.2999999999999696E-3]
[null,null,null,null,null,274,548,0.2671,3.3000000000000251E-3]
[null,null,null,null,null,275,550,0.27029999999999998,3.1999999999999806E-3]
[null,null,null,null,null,276,552,0.27360000000000001,3.3000000000000251E-3]
[null,null,null,null,null,277,554,0.27689999999999998,3.2999999999999696E-3]
[null,null,null,null,null,278,556,0.28010000000000002,3.2000000000000361E-3]
[null,null,null,null,null,279,558,0.28339999999999999,3.2999999999999696E-3]
[null,null,null,null,null,280,560,0.28670000000000001,3.3000000000000251E-3]
[null,null,null,null,null,281,562,0.28989999999999999,3.1999999999999806E-3]
[null,null,null,null,null,282,564,0.29320000000000002,3.3000000000000251E-3]
[null,null,null,null,null,283,566,0.29649999999999999,3.2999999999999696E-3]
[null,null,null,null,null,284,568,0.29970000000000002,3.2000000000000361E-3]
[null,null,null,null,null,285,570,0.30299999999999999,3.2999999999999696E-3]
[null,null,null,null,null,286,572,0.31709999999999999,1.4100000000000001E-2]
[null,null,null,null,null,287,574,0.33129999999999998,1.419999999999999E-2]
[null,null,null,null,null,288,576,0.34539999999999998,1.4100000000000001E-2]
[null,null,null,null,null,289,578,0.35949999999999999,1.4100000000000001E-2]
[null,null,null,null,null,290,580,0.37369999999999998,1.419999999999999E-2]
[null,null,null,null,null,291,582,0.38779999999999998,1.4100000000000001E-2]
[null,null,null,null,null,292,584,0.40189999999999998,1.4100000000000001E-2]
[null,null,null,null,null,293,586,0.41610000000000003,1.4200000000000046E-2]
[null,null,null,null,null,294,588,0.43020000000000003,1.4100000000000001E-2]
[null,null,null,null,null,295,590,0.44429999999999997,1.4099999999999946E-2]
[null,null,null,null,null,296,592,0.45850000000000002,1.4200000000000046E-2]
[null,null,null,null,null,297,594,0.47260000000000002,1.4100000000000001E-2]
[null,null,null,null,null,298,596,0.48670000000000002,1.4100000000000001E-2]
[null,null,null,null,null,299,598,0.50090000000000001,1.419999999999999E-2]
[null,null,null,null,null,300,600,0.51500000000000001,1.4100000000000001E-2]
[null,null,null,null,null,301,602,0.51949999999999996,4.4999999999999485E-3]
[null,null,null,null,null,302,604,0.52410000000000001,4.6000000000000485E-3]
[null,null,null,null,null,303,606,0.52859999999999996,4.4999999999999485E-3]
[null,null,null,null,null,304,608,0.53310000000000002,4.5000000000000595E-3]
[null,null,null,null,null,305,610,0.53769999999999996,4.5999999999999375E-3]
[null,null,null,null,null,306,612,0.54220000000000002,4.5000000000000595E-3]
[null,null,null,null,null,307,614,0.54669999999999996,4.4999999999999485E-3]
[null,null,null,null,null,308,616,0.55130000000000001,4.6000000000000485E-3]
[null,null,null,null,null,309,618,0.55579999999999996,4.4999999999999485E-3]
[null,null,null,null,null,310,620,0.56030000000000002,4.5000000000000595E-3]
[null,null,null,null,null,311,622,0.56489999999999996,4.5999999999999375E-3]
[null,null,null,null,null,312,624,0.56940000000000002,4.5000000000000595E-3]
[null,null,null,null,null,313,626,0.57389999999999997,4.4999999999999485E-3]
[null,null,null,null,null,314,628,0.57850000000000001,4.6000000000000485E-3]
[null,null,null,null,null,315,630,0.58299999999999996,4.4999999999999485E-3]
[null,null,null,null,null,316,632,0.5857,2.7000000000000357E-3]
[null,null,null,null,null,317,634,0.58850000000000002,2.8000000000000247E-3]
[null,null,null,null,null,318,636,0.59119999999999995,2.6999999999999247E-3]
[null,null,null,null,null,319,638,0.59389999999999998,2.7000000000000357E-3]
[null,null,null,null,null,320,640,0.59670000000000001,2.8000000000000247E-3]
[null,null,null,null,null,321,642,0.59940000000000004,2.7000000000000357E-3]
[null,null,null,null,null,322,644,0.60209999999999997,{"$f":"H326-H325","v":2.6999999999999247E-3}]
[null,null,null,null,null,323,646,0.60489999999999999,2.8000000000000247E-3]
[null,null,null,null,null,324,648,0.60760000000000003,2.7000000000000357E-3]
[null,null,null,null,null,325,650,0.61029999999999995,2.6999999999999247E-3]
[null,null,null,null,null,326,652,0.61309999999999998,2.8000000000000247E-3]
[null,null,null,null,null,327,654,0.61580000000000001,2.7000000000000357E-3]
[null,null,null,null,null,328,656,0.61850000000000005,2.7000000000000357E-3]
[null,null,null,null,null,329,658,0.62129999999999996,2.7999999999999137E-3]
[null,null,null,null,null,330,660,0.624,2.7000000000000357E-3]
[null,null,null,null,null,331,662,0.626,2.0000000000000018E-3]
[null,null,null,null,null,332,664,0.628,2.0000000000000018E-3]
[null,null,null,null,null,333,666,0.63,2.0000000000000018E-3]
[null,null,null,null,null,334,668,0.63200000000000001,2.0000000000000018E-3]
[null,null,null,null,null,335,670,0.63400000000000001,2.0000000000000018E-3]
[null,null,null,null,null,336,672,0.63600000000000001,2.0000000000000018E-3]
[null,null,null,null,null,337,674,0.63800000000000001,2.0000000000000018E-3]
[null,null,null,null,null,338,676,0.64,2.0000000000000018E-3]
[null,null,null,null,null,339,678,0.64200000000000002,2.0000000000000018E-3]
[null,null,null,null,null,340,680,0.64400000000000002,2.0000000000000018E-3]
[null,null,null,null,null,341,682,0.64600000000000002,2.0000000000000018E-3]
[null,null,null,null,null,342,684,0.64800000000000002,2.0000000000000018E-3]
[null,null,null,null,null,343,686,0.65,2.0000000000000018E-3]
[null,null,null,null,null,344,688,0.65200000000000002,2.0000000000000018E-3]
[null,null,null,null,null,345,690,0.65400000000000003,2.0000000000000018E-3]
[null,null,null,null,null,346,692,0.65590000000000004,1.9000000000000128E-3]
[null,null,null,null,null,347,694,0.65769999999999995,1.7999999999999128E-3]
[null,null,null,null,null,348,696,0.65959999999999996,1.9000000000000128E-3]
[null,null,null,null,null,349,698,0.66149999999999998,1.9000000000000128E-3]
[null,null,null,null,null,350,700,0.6633,1.8000000000000238E-3]
[null,null,null,null,null,351,702,0.66520000000000001,1.9000000000000128E-3]
[null,null,null,null,null,352,704,0.66710000000000003,1.9000000000000128E-3]
[null,null,null,null,null,353,706,0.66890000000000005,1.8000000000000238E-3]
[null,null,null,null,null,354,708,0.67079999999999995,1.8999999999999018E-3]
[null,null,null,null,null,355,710,0.67269999999999996,1.9000000000000128E-3]
[null,null,null,null,null,356,712,0.67449999999999999,1.8000000000000238E-3]
[null,null,null,null,null,357,714,0.6764,1.9000000000000128E-3]
[null,null,null,null,null,358,716,0.67830000000000001,1.9000000000000128E-3]
[null,null,null,null,null,359,718,0.68010000000000004,1.8000000000000238E-3]
[null,null,null,null,null,360,720,0.68200000000000005,1.9000000000000128E-3]
[null,null,null,null,null,361,722,0.68359999999999999,1.5999999999999348E-3]
[null,null,null,null,null,362,724,0.68520000000000003,1.6000000000000458E-3]
[null,null,null,null,null,363,726,0.68679999999999997,1.5999999999999348E-3]
[null,null,null,null,null,364,728,0.68840000000000001,1.6000000000000458E-3]
[null,null,null,null,null,365,730,0.69,1.5999999999999348E-3]
[null,null,null,null,null,366,732,0.69159999999999999,1.6000000000000458E-3]
[null,null,null,null,null,367,734,0.69320000000000004,1.6000000000000458E-3]
[null,null,null,null,null,368,736,0.69479999999999997,1.5999999999999348E-3]
[null,null,null,null,null,369,738,0.69640000000000002,1.6000000000000458E-3]
[null,null,null,null,null,370,740,0.69799999999999995,1.5999999999999348E-3]
[null,null,null,null,null,371,742,0.6996,1.6000000000000458E-3]
[null,null,null,null,null,372,744,0.70120000000000005,1.6000000000000458E-3]
[null,null,null,null,null,373,746,0.70279999999999998,1.5999999999999348E-3]
[null,null,null,null,null,374,748,0.70440000000000003,1.6000000000000458E-3]
[null,null,null,null,null,375,750,0.70599999999999996,1.5999999999999348E-3]
[null,null,null,null,null,376,752,0.70750000000000002,1.5000000000000568E-3]
[null,null,null,null,null,377,754,0.70889999999999997,1.3999999999999568E-3]
[null,null,null,null,null,378,756,0.71040000000000003,1.5000000000000568E-3]
[null,null,null,null,null,379,758,0.71189999999999998,1.4999999999999458E-3]
[null,null,null,null,null,380,760,0.71330000000000005,1.4000000000000679E-3]
[null,null,null,null,null,381,762,0.71479999999999999,1.4999999999999458E-3]
[null,null,null,null,null,382,764,0.71630000000000005,1.5000000000000568E-3]
[null,null,null,null,null,383,766,0.7177,1.3999999999999568E-3]
[null,null,null,null,null,384,768,0.71919999999999995,1.4999999999999458E-3]
[null,null,null,null,null,385,770,0.72070000000000001,1.5000000000000568E-3]
[null,null,null,null,null,386,772,0.72209999999999996,{"$f":"H390-H389","v":1.3999999999999568E-3}]
[null,null,null,null,null,387,774,0.72360000000000002,1.5000000000000568E-3]
[null,null,null,null,null,388,776,0.72509999999999997,1.4999999999999458E-3]
[null,null,null,null,null,389,778,0.72650000000000003,1.4000000000000679E-3]
[null,null,null,null,null,390,780,0.72799999999999998,1.4999999999999458E-3]
[null,null,null,null,null,391,782,0.72929999999999995,1.2999999999999678E-3]
[null,null,null,null,null,392,784,0.73070000000000002,1.4000000000000679E-3]
[null,null,null,null,null,393,786,0.73199999999999998,1.2999999999999678E-3]
[null,null,null,null,null,394,788,0.73329999999999995,1.2999999999999678E-3]
[null,null,null,null,null,395,790,0.73470000000000002,1.4000000000000679E-3]
[null,null,null,null,null,396,792,0.73599999999999999,1.2999999999999678E-3]
[null,null,null,null,null,397,794,0.73729999999999996,1.2999999999999678E-3]
[null,null,null,null,null,398,796,0.73870000000000002,1.4000000000000679E-3]
[null,null,null,null,null,399,798,0.74,1.2999999999999678E-3]
[null,null,null,null,null,400,800,0.74129999999999996,1.2999999999999678E-3]
[null,null,null,null,null,401,802,0.74270000000000003,1.4000000000000679E-3]
[null,null,null,null,null,402,804,0.74399999999999999,1.2999999999999678E-3]
[null,null,null,null,null,403,806,0.74529999999999996,1.2999999999999678E-3]
[null,null,null,null,null,404,808,0.74670000000000003,1.4000000000000679E-3]
[null,null,null,null,null,405,810,0.748,1.2999999999999678E-3]
[null,null,null,null,null,406,812,0.74919999999999998,1.1999999999999789E-3]
[null,null,null,null,null,407,814,0.75039999999999996,1.1999999999999789E-3]
[null,null,null,null,null,408,816,0.75160000000000005,1.2000000000000899E-3]
[null,null,null,null,null,409,818,0.75280000000000002,1.1999999999999789E-3]
[null,null,null,null,null,410,820,0.754,1.1999999999999789E-3]
[null,null,null,null,null,411,822,0.75519999999999998,1.1999999999999789E-3]
[null,null,null,null,null,412,824,0.75639999999999996,1.1999999999999789E-3]
[null,null,null,null,null,413,826,0.75760000000000005,1.2000000000000899E-3]
[null,null,null,null,null,414,828,0.75880000000000003,1.1999999999999789E-3]
[null,null,null,null,null,415,830,0.76,1.1999999999999789E-3]
[null,null,null,null,null,416,832,0.76119999999999999,1.1999999999999789E-3]
[null,null,null,null,null,417,834,0.76239999999999997,1.1999999999999789E-3]
[null,null,null,null,null,418,836,0.76359999999999995,1.1999999999999789E-3]
[null,null,null,null,null,419,838,0.76480000000000004,1.2000000000000899E-3]
[null,null,null,null,null,420,840,0.76600000000000001,1.1999999999999789E-3]
[null,null,null,null,null,421,842,0.7671,1.0999999999999899E-3]
[null,null,null,null,null,422,844,0.76829999999999998,1.1999999999999789E-3]
[null,null,null,null,null,423,846,0.76939999999999997,1.0999999999999899E-3]
[null,null,null,null,null,424,848,0.77049999999999996,1.0999999999999899E-3]
[null,null,null,null,null,425,850,0.77170000000000005,1.2000000000000899E-3]
[null,null,null,null,null,426,852,0.77280000000000004,1.0999999999999899E-3]
[null,null,null,null,null,427,854,0.77390000000000003,1.0999999999999899E-3]
[null,null,null,null,null,428,856,0.77510000000000001,1.1999999999999789E-3]
[null,null,null,null,null,429,858,0.7762,1.0999999999999899E-3]
[null,null,null,null,null,430,860,0.77729999999999999,1.0999999999999899E-3]
[null,null,null,null,null,431,862,0.77849999999999997,1.1999999999999789E-3]
[null,null,null,null,null,432,864,0.77959999999999996,1.0999999999999899E-3]
[null,null,null,null,null,433,866,0.78069999999999995,1.0999999999999899E-3]
[null,null,null,null,null,434,868,0.78190000000000004,1.2000000000000899E-3]
[null,null,null,null,null,435,870,0.78300000000000003,1.0999999999999899E-3]
[null,null,null,null,null,436,872,0.78410000000000002,1.0999999999999899E-3]
[null,null,null,null,null,437,874,0.78510000000000002,1.0000000000000009E-3]
[null,null,null,null,null,438,876,0.78620000000000001,1.0999999999999899E-3]
[null,null,null,null,null,439,878,0.7873,1.0999999999999899E-3]
[null,null,null,null,null,440,880,0.7883,1.0000000000000009E-3]
[null,null,null,null,null,441,882,0.78939999999999999,1.0999999999999899E-3]
[null,null,null,null,null,442,884,0.79049999999999998,1.0999999999999899E-3]
[null,null,null,null,null,443,886,0.79149999999999998,1.0000000000000009E-3]
[null,null,null,null,null,444,888,0.79259999999999997,1.0999999999999899E-3]
[null,null,null,null,null,445,890,0.79369999999999996,1.0999999999999899E-3]
[null,null,null,null,null,446,892,0.79469999999999996,1.0000000000000009E-3]
[null,null,null,null,null,447,894,0.79579999999999995,1.0999999999999899E-3]
[null,null,null,null,null,448,896,0.79690000000000005,1.1000000000001009E-3]
[null,null,null,null,null,449,898,0.79790000000000005,1.0000000000000009E-3]
[null,null,null,null,null,450,900,0.79900000000000004,{"$f":"H454-H453","v":1.0999999999999899E-3}]
[null,null,null,null,null,451,902,0.80010000000000003,1.0999999999999899E-3]
[null,null,null,null,null,452,904,0.80110000000000003,1.0000000000000009E-3]
[null,null,null,null,null,453,906,0.80220000000000002,1.0999999999999899E-3]
[null,null,null,null,null,454,908,0.80330000000000001,1.0999999999999899E-3]
[null,null,null,null,null,455,910,0.80430000000000001,1.0000000000000009E-3]
[null,null,null,null,null,456,912,0.8054,1.0999999999999899E-3]
[null,null,null,null,null,457,914,0.80649999999999999,1.0999999999999899E-3]
[null,null,null,null,null,458,916,0.8075,1.0000000000000009E-3]
[null,null,null,null,null,459,918,0.80859999999999999,1.0999999999999899E-3]
[null,null,null,null,null,460,920,0.80969999999999998,1.0999999999999899E-3]
[null,null,null,null,null,461,922,0.81069999999999998,1.0000000000000009E-3]
[null,null,null,null,null,462,924,0.81179999999999997,1.0999999999999899E-3]
[null,null,null,null,null,463,926,0.81289999999999996,1.0999999999999899E-3]
[null,null,null,null,null,464,928,0.81389999999999996,1.0000000000000009E-3]
[null,null,null,null,null,465,930,0.81499999999999995,1.0999999999999899E-3]
[null,null,null,null,null,466,932,0.81599999999999995,1.0000000000000009E-3]
[null,null,null,null,null,467,934,0.81699999999999995,1.0000000000000009E-3]
[null,null,null,null,null,468,936,0.81799999999999995,1.0000000000000009E-3]
[null,null,null,null,null,469,938,0.81899999999999995,1.0000000000000009E-3]
[null,null,null,null,null,470,940,0.82,1.0000000000000009E-3]
[null,null,null,null,null,471,942,0.82099999999999995,1.0000000000000009E-3]
[null,null,null,null,null,472,944,0.82199999999999995,1.0000000000000009E-3]
[null,null,null,null,null,473,946,0.82299999999999995,1.0000000000000009E-3]
[null,null,null,null,null,474,948,0.82399999999999995,1.0000000000000009E-3]
[null,null,null,null,null,475,950,0.82499999999999996,1.0000000000000009E-3]
[null,null,null,null,null,476,952,0.82599999999999996,1.0000000000000009E-3]
[null,null,null,null,null,477,954,0.82699999999999996,1.0000000000000009E-3]
[null,null,null,null,null,478,956,0.82799999999999996,1.0000000000000009E-3]
[null,null,null,null,null,479,958,0.82899999999999996,1.0000000000000009E-3]
[null,null,null,null,null,480,960,0.83,1.0000000000000009E-3]
[null,null,null,null,null,481,962,0.83089999999999997,9.000000000000119E-4]
[null,null,null,null,null,482,964,0.83189999999999997,1.0000000000000009E-3]
[null,null,null,null,null,483,966,0.83279999999999998,9.000000000000119E-4]
[null,null,null,null,null,484,968,0.8337,9.000000000000119E-4]
[null,null,null,null,null,485,970,0.8347,1.0000000000000009E-3]
[null,null,null,null,null,486,972,0.83560000000000001,9.000000000000119E-4]
[null,null,null,null,null,487,974,0.83650000000000002,9.000000000000119E-4]
[null,null,null,null,null,488,976,0.83750000000000002,1.0000000000000009E-3]
[null,null,null,null,null,489,978,0.83840000000000003,9.000000000000119E-4]
[null,null,null,null,null,490,980,0.83930000000000005,9.000000000000119E-4]
[null,null,null,null,null,491,982,0.84030000000000005,1.0000000000000009E-3]
[null,null,null,null,null,492,984,0.84119999999999995,8.9999999999990088E-4]
[null,null,null,null,null,493,986,0.84209999999999996,9.000000000000119E-4]
[null,null,null,null,null,494,988,0.84309999999999996,1.0000000000000009E-3]
[null,null,null,null,null,495,990,0.84399999999999997,9.000000000000119E-4]
[null,null,null,null,null,496,992,0.84489999999999998,9.000000000000119E-4]
[null,null,null,null,null,497,994,0.84570000000000001,8.0000000000002292E-4]
[null,null,null,null,null,498,996,0.84660000000000002,9.000000000000119E-4]
[null,null,null,null,null,499,998,0.84750000000000003,9.000000000000119E-4]
[null,null,null,null,null,500,1000,0.84830000000000005,8.0000000000002292E-4]
[null,null,null,null,null,501,1002,0.84919999999999995,8.9999999999990088E-4]
[null,null,null,null,null,502,1004,0.85009999999999997,9.000000000000119E-4]
[null,null,null,null,null,503,1006,0.85089999999999999,8.0000000000002292E-4]
[null,null,null,null,null,504,1008,0.8518,9.000000000000119E-4]
[null,null,null,null,null,505,1010,0.85270000000000001,9.000000000000119E-4]
[null,null,null,null,null,506,1012,0.85350000000000004,8.0000000000002292E-4]
[null,null,null,null,null,507,1014,0.85440000000000005,9.000000000000119E-4]
[null,null,null,null,null,508,1016,0.85529999999999995,8.9999999999990088E-4]
[null,null,null,null,null,509,1018,0.85609999999999997,8.0000000000002292E-4]
[null,null,null,null,null,510,1020,0.85699999999999998,9.000000000000119E-4]
[null,null,null,null,null,511,1022,0.8579,9.000000000000119E-4]
[null,null,null,null,null,512,1024,0.85870000000000002,8.0000000000002292E-4]
[null,null,null,null,null,513,1026,0.85960000000000003,9.000000000000119E-4]
[null,null,null,null,null,514,1028,0.86050000000000004,{"$f":"H518-H517","v":9.000000000000119E-4}]
[null,null,null,null,null,515,1030,0.86129999999999995,7.9999999999991189E-4]
[null,null,null,null,null,516,1032,0.86219999999999997,9.000000000000119E-4]
[null,null,null,null,null,517,1034,0.86309999999999998,9.000000000000119E-4]
[null,null,null,null,null,518,1036,0.8639,8.0000000000002292E-4]
[null,null,null,null,null,519,1038,0.86480000000000001,9.000000000000119E-4]
[null,null,null,null,null,520,1040,0.86570000000000003,9.000000000000119E-4]
[null,null,null,null,null,521,1042,0.86650000000000005,8.0000000000002292E-4]
[null,null,null,null,null,522,1044,0.86739999999999995,8.9999999999990088E-4]
[null,null,null,null,null,523,1046,0.86829999999999996,9.000000000000119E-4]
[null,null,null,null,null,524,1048,0.86909999999999998,8.0000000000002292E-4]
[null,null,null,null,null,525,1050,0.87,9.000000000000119E-4]
[null,null,null,null,null,526,1052,0.87080000000000002,8.0000000000002292E-4]
[null,null,null,null,null,527,1054,0.87160000000000004,8.0000000000002292E-4]
[null,null,null,null,null,528,1056,0.87239999999999995,7.9999999999991189E-4]
[null,null,null,null,null,529,1058,0.87319999999999998,8.0000000000002292E-4]
[null,null,null,null,null,530,1060,0.874,8.0000000000002292E-4]
[null,null,null,null,null,531,1062,0.87480000000000002,8.0000000000002292E-4]
[null,null,null,null,null,532,1064,0.87560000000000004,8.0000000000002292E-4]
[null,null,null,null,null,533,1066,0.87639999999999996,7.9999999999991189E-4]
[null,null,null,null,null,534,1068,0.87719999999999998,8.0000000000002292E-4]
[null,null,null,null,null,535,1070,0.878,8.0000000000002292E-4]
[null,null,null,null,null,536,1072,0.87880000000000003,8.0000000000002292E-4]
[null,null,null,null,null,537,1074,0.87960000000000005,8.0000000000002292E-4]
[null,null,null,null,null,538,1076,0.88039999999999996,7.9999999999991189E-4]
[null,null,null,null,null,539,1078,0.88119999999999998,8.0000000000002292E-4]
[null,null,null,null,null,540,1080,0.88200000000000001,8.0000000000002292E-4]
[null,null,null,null,null,541,1082,0.88270000000000004,7.0000000000003393E-4]
[null,null,null,null,null,542,1084,0.88349999999999995,7.9999999999991189E-4]
[null,null,null,null,null,543,1086,0.88419999999999999,7.0000000000003393E-4]
[null,null,null,null,null,544,1088,0.88490000000000002,7.0000000000003393E-4]
[null,null,null,null,null,545,1090,0.88570000000000004,8.0000000000002292E-4]
[null,null,null,null,null,546,1092,0.88639999999999997,6.9999999999992291E-4]
[null,null,null,null,null,547,1094,0.8871,7.0000000000003393E-4]
[null,null,null,null,null,548,1096,0.88790000000000002,8.0000000000002292E-4]
[null,null,null,null,null,549,1098,0.88859999999999995,6.9999999999992291E-4]
[null,null,null,null,null,550,1100,0.88929999999999998,7.0000000000003393E-4]
[null,null,null,null,null,551,1102,0.8901,8.0000000000002292E-4]
[null,null,null,null,null,552,1104,0.89080000000000004,7.0000000000003393E-4]
[null,null,null,null,null,553,1106,0.89149999999999996,6.9999999999992291E-4]
[null,null,null,null,null,554,1108,0.89229999999999998,8.0000000000002292E-4]
[null,null,null,null,null,555,1110,0.89300000000000002,7.0000000000003393E-4]
[null,null,null,null,null,556,1112,0.89380000000000004,8.0000000000002292E-4]
[null,null,null,null,null,557,1114,0.89459999999999995,7.9999999999991189E-4]
[null,null,null,null,null,558,1116,0.89539999999999997,8.0000000000002292E-4]
[null,null,null,null,null,559,1118,0.8962,8.0000000000002292E-4]
[null,null,null,null,null,560,1120,0.89700000000000002,8.0000000000002292E-4]
[null,null,null,null,null,561,1122,0.89780000000000004,8.0000000000002292E-4]
[null,null,null,null,null,562,1124,0.89859999999999995,7.9999999999991189E-4]
[null,null,null,null,null,563,1126,0.89939999999999998,8.0000000000002292E-4]
[null,null,null,null,null,564,1128,0.9002,8.0000000000002292E-4]
[null,null,null,null,null,565,1130,0.90100000000000002,8.0000000000002292E-4]
[null,null,null,null,null,566,1132,0.90180000000000005,8.0000000000002292E-4]
[null,null,null,null,null,567,1134,0.90259999999999996,7.9999999999991189E-4]
[null,null,null,null,null,568,1136,0.90339999999999998,8.0000000000002292E-4]
[null,null,null,null,null,569,1138,0.9042,8.0000000000002292E-4]
[null,null,null,null,null,570,1140,0.90500000000000003,8.0000000000002292E-4]
[null,null,null,null,null,571,1142,0.90569999999999995,6.9999999999992291E-4]
[null,null,null,null,null,572,1144,0.90649999999999997,8.0000000000002292E-4]
[null,null,null,null,null,573,1146,0.90720000000000001,7.0000000000003393E-4]
[null,null,null,null,null,574,1148,0.90790000000000004,7.0000000000003393E-4]
[null,null,null,null,null,575,1150,0.90869999999999995,7.9999999999991189E-4]
[null,null,null,null,null,576,1152,0.90939999999999999,7.0000000000003393E-4]
[null,null,null,null,null,577,1154,0.91010000000000002,7.0000000000003393E-4]
[null,null,null,null,null,578,1156,0.91090000000000004,{"$f":"H582-H581","v":8.0000000000002292E-4}]
[null,null,null,null,null,579,1158,0.91159999999999997,6.9999999999992291E-4]
[null,null,null,null,null,580,1160,0.9123,7.0000000000003393E-4]
[null,null,null,null,null,581,1162,0.91310000000000002,8.0000000000002292E-4]
[null,null,null,null,null,582,1164,0.91379999999999995,6.9999999999992291E-4]
[null,null,null,null,null,583,1166,0.91449999999999998,7.0000000000003393E-4]
[null,null,null,null,null,584,1168,0.9153,8.0000000000002292E-4]
[null,null,null,null,null,585,1170,0.91600000000000004,7.0000000000003393E-4]
[null,null,null,null,null,586,1172,0.91669999999999996,6.9999999999992291E-4]
[null,null,null,null,null,587,1174,0.9173,6.0000000000004494E-4]
[null,null,null,null,null,588,1176,0.91800000000000004,7.0000000000003393E-4]
[null,null,null,null,null,589,1178,0.91869999999999996,6.9999999999992291E-4]
[null,null,null,null,null,590,1180,0.91930000000000001,6.0000000000004494E-4]
[null,null,null,null,null,591,1182,0.92,7.0000000000003393E-4]
[null,null,null,null,null,592,1184,0.92069999999999996,6.9999999999992291E-4]
[null,null,null,null,null,593,1186,0.92130000000000001,6.0000000000004494E-4]
[null,null,null,null,null,594,1188,0.92200000000000004,7.0000000000003393E-4]
[null,null,null,null,null,595,1190,0.92269999999999996,6.9999999999992291E-4]
[null,null,null,null,null,596,1192,0.92330000000000001,6.0000000000004494E-4]
[null,null,null,null,null,597,1194,0.92400000000000004,7.0000000000003393E-4]
[null,null,null,null,null,598,1196,0.92469999999999997,6.9999999999992291E-4]
[null,null,null,null,null,599,1198,0.92530000000000001,6.0000000000004494E-4]
[null,null,null,null,null,600,1200,0.92600000000000005,7.0000000000003393E-4]
[null,null,null,null,null,601,1202,0.92669999999999997,6.9999999999992291E-4]
[null,null,null,null,null,602,1204,0.92730000000000001,6.0000000000004494E-4]
[null,null,null,null,null,603,1206,0.92800000000000005,7.0000000000003393E-4]
[null,null,null,null,null,604,1208,0.92869999999999997,6.9999999999992291E-4]
[null,null,null,null,null,605,1210,0.92930000000000001,6.0000000000004494E-4]
[null,null,null,null,null,606,1212,0.93,7.0000000000003393E-4]
[null,null,null,null,null,607,1214,0.93069999999999997,6.9999999999992291E-4]
[null,null,null,null,null,608,1216,0.93130000000000002,6.0000000000004494E-4]
[null,null,null,null,null,609,1218,0.93200000000000005,7.0000000000003393E-4]
[null,null,null,null,null,610,1220,0.93269999999999997,6.9999999999992291E-4]
[null,null,null,null,null,611,1222,0.93330000000000002,6.0000000000004494E-4]
[null,null,null,null,null,612,1224,0.93400000000000005,7.0000000000003393E-4]
[null,null,null,null,null,613,1226,0.93469999999999998,6.9999999999992291E-4]
[null,null,null,null,null,614,1228,0.93530000000000002,6.0000000000004494E-4]
[null,null,null,null,null,615,1230,0.93600000000000005,7.0000000000003393E-4]
[null,null,null,null,null,616,1232,0.93669999999999998,6.9999999999992291E-4]
[null,null,null,null,null,617,1234,0.93730000000000002,6.0000000000004494E-4]
[null,null,null,null,null,618,1236,0.93799999999999994,6.9999999999992291E-4]
[null,null,null,null,null,619,1238,0.93869999999999998,7.0000000000003393E-4]
[null,null,null,null,null,620,1240,0.93930000000000002,6.0000000000004494E-4]
[null,null,null,null,null,621,1242,0.94,6.9999999999992291E-4]
[null,null,null,null,null,622,1244,0.94069999999999998,7.0000000000003393E-4]
[null,null,null,null,null,623,1246,0.94130000000000003,6.0000000000004494E-4]
[null,null,null,null,null,624,1248,0.94199999999999995,6.9999999999992291E-4]
[null,null,null,null,null,625,1250,0.94269999999999998,7.0000000000003393E-4]
[null,null,null,null,null,626,1252,0.94330000000000003,6.0000000000004494E-4]
[null,null,null,null,null,627,1254,0.94399999999999995,6.9999999999992291E-4]
[null,null,null,null,null,628,1256,0.94469999999999998,7.0000000000003393E-4]
[null,null,null,null,null,629,1258,0.94530000000000003,6.0000000000004494E-4]
[null,null,null,null,null,630,1260,0.94599999999999995,6.9999999999992291E-4]
[null,null,null,null,null,631,1262,0.94669999999999999,7.0000000000003393E-4]
[null,null,null,null,null,632,1264,0.94730000000000003,6.0000000000004494E-4]
[null,null,null,null,null,633,1266,0.94799999999999995,6.9999999999992291E-4]
[null,null,null,null,null,634,1268,0.94869999999999999,7.0000000000003393E-4]
[null,null,null,null,null,635,1270,0.94930000000000003,6.0000000000004494E-4]
[null,null,null,null,null,636,1272,0.95,6.9999999999992291E-4]
[null,null,null,null,null,637,1274,0.95069999999999999,7.0000000000003393E-4]
[null,null,null,null,null,638,1276,0.95130000000000003,6.0000000000004494E-4]
[null,null,null,null,null,639,1278,0.95199999999999996,6.9999999999992291E-4]
[null,null,null,null,null,640,1280,0.95269999999999999,7.0000000000003393E-4]
[null,null,null,null,null,641,1282,0.95330000000000004,6.0000000000004494E-4]
[null,null,null,null,null,642,1284,0.95399999999999996,{"$f":"H646-H645","v":6.9999999999992291E-4}]
[null,null,null,null,null,643,1286,0.95469999999999999,7.0000000000003393E-4]
[null,null,null,null,null,644,1288,0.95530000000000004,6.0000000000004494E-4]
[null,null,null,null,null,645,1290,0.95599999999999996,6.9999999999992291E-4]
[null,null,null,null,null,646,1292,0.95660000000000001,6.0000000000004494E-4]
[null,null,null,null,null,647,1294,0.95720000000000005,6.0000000000004494E-4]
[null,null,null,null,null,648,1296,0.95779999999999998,5.9999999999993392E-4]
[null,null,null,null,null,649,1298,0.95840000000000003,6.0000000000004494E-4]
[null,null,null,null,null,650,1300,0.95899999999999996,5.9999999999993392E-4]
[null,null,null,null,null,651,1302,0.95960000000000001,6.0000000000004494E-4]
[null,null,null,null,null,652,1304,0.96020000000000005,6.0000000000004494E-4]
[null,null,null,null,null,653,1306,0.96079999999999999,5.9999999999993392E-4]
[null,null,null,null,null,654,1308,0.96140000000000003,6.0000000000004494E-4]
[null,null,null,null,null,655,1310,0.96199999999999997,5.9999999999993392E-4]
[null,null,null,null,null,656,1312,0.96260000000000001,6.0000000000004494E-4]
[null,null,null,null,null,657,1314,0.96319999999999995,5.9999999999993392E-4]
[null,null,null,null,null,658,1316,0.96379999999999999,6.0000000000004494E-4]
[null,null,null,null,null,659,1318,0.96440000000000003,6.0000000000004494E-4]
[null,null,null,null,null,660,1320,0.96499999999999997,5.9999999999993392E-4]
[null,null,null,null,null,661,1322,0.96560000000000001,6.0000000000004494E-4]
[null,null,null,null,null,662,1324,0.96619999999999995,5.9999999999993392E-4]
[null,null,null,null,null,663,1326,0.96679999999999999,6.0000000000004494E-4]
[null,null,null,null,null,664,1328,0.96740000000000004,6.0000000000004494E-4]
[null,null,null,null,null,665,1330,0.96799999999999997,5.9999999999993392E-4]
[null,null,null,null,null,666,1332,0.96860000000000002,6.0000000000004494E-4]
[null,null,null,null,null,667,1334,0.96919999999999995,5.9999999999993392E-4]
[null,null,null,null,null,668,1336,0.9698,6.0000000000004494E-4]
[null,null,null,null,null,669,1338,0.97040000000000004,6.0000000000004494E-4]
[null,null,null,null,null,670,1340,0.97099999999999997,5.9999999999993392E-4]
[null,null,null,null,null,671,1342,0.97160000000000002,6.0000000000004494E-4]
[null,null,null,null,null,672,1344,0.97219999999999995,5.9999999999993392E-4]
[null,null,null,null,null,673,1346,0.9728,6.0000000000004494E-4]
[null,null,null,null,null,674,1348,0.97340000000000004,6.0000000000004494E-4]
[null,null,null,null,null,675,1350,0.97399999999999998,5.9999999999993392E-4]
[null,null,null,null,null,676,1352,0.97460000000000002,6.0000000000004494E-4]
[null,null,null,null,null,677,1354,0.97519999999999996,5.9999999999993392E-4]
[null,null,null,null,null,678,1356,0.9758,6.0000000000004494E-4]
[null,null,null,null,null,679,1358,0.97640000000000005,6.0000000000004494E-4]
[null,null,null,null,null,680,1360,0.97699999999999998,5.9999999999993392E-4]
[null,null,null,null,null,681,1362,0.97760000000000002,6.0000000000004494E-4]
[null,null,null,null,null,682,1364,0.97819999999999996,5.9999999999993392E-4]
[null,null,null,null,null,683,1366,0.9788,6.0000000000004494E-4]
[null,null,null,null,null,684,1368,0.97940000000000005,6.0000000000004494E-4]
[null,null,null,null,null,685,1370,0.98,5.9999999999993392E-4]
[null,null,null,null,null,686,1372,0.98060000000000003,6.0000000000004494E-4]
[null,null,null,null,null,687,1374,0.98119999999999996,5.9999999999993392E-4]
[null,null,null,null,null,688,1376,0.98180000000000001,6.0000000000004494E-4]
[null,null,null,null,null,689,1378,0.98240000000000005,6.0000000000004494E-4]
[null,null,null,null,null,690,1380,0.98299999999999998,5.9999999999993392E-4]
[null,null,null,null,null,691,1382,0.98360000000000003,6.0000000000004494E-4]
[null,null,null,null,null,692,1384,0.98419999999999996,5.9999999999993392E-4]
[null,null,null,null,null,693,1386,0.98480000000000001,6.0000000000004494E-4]
[null,null,null,null,null,694,1388,0.98540000000000005,6.0000000000004494E-4]
[null,null,null,null,null,695,1390,0.98599999999999999,5.9999999999993392E-4]
[null,null,null,null,null,696,1392,0.98660000000000003,6.0000000000004494E-4]
[null,null,null,null,null,697,1394,0.98719999999999997,5.9999999999993392E-4]
[null,null,null,null,null,698,1396,0.98780000000000001,6.0000000000004494E-4]
[null,null,null,null,null,699,1398,0.98839999999999995,5.9999999999993392E-4]
[null,null,null,null,null,700,1400,0.98899999999999999,6.0000000000004494E-4]
[null,null,null,null,null,701,1402,0.98960000000000004,6.0000000000004494E-4]
[null,null,null,null,null,702,1404,0.99019999999999997,5.9999999999993392E-4]
[null,null,null,null,null,703,1406,0.99080000000000001,6.0000000000004494E-4]
[null,null,null,null,null,704,1408,0.99139999999999995,5.9999999999993392E-4]
[null,null,null,null,null,705,1410,0.99199999999999999,6.0000000000004494E-4]
[null,null,null,null,null,706,1412,0.99250000000000005,{"$f":"H710-H709","v":5.0000000000005596E-4}]
[null,null,null,null,null,707,1414,0.99309999999999998,5.9999999999993392E-4]
[null,null,null,null,null,708,1416,0.99360000000000004,5.0000000000005596E-4]
[null,null,null,null,null,709,1418,0.99409999999999998,4.9999999999994493E-4]
[null,null,null,null,null,710,1420,0.99470000000000003,6.0000000000004494E-4]
[null,null,null,null,null,711,1422,0.99519999999999997,4.9999999999994493E-4]
[null,null,null,null,null,712,1424,0.99570000000000003,5.0000000000005596E-4]
[null,null,null,null,null,713,1426,0.99629999999999996,5.9999999999993392E-4]
[null,null,null,null,null,714,1428,0.99680000000000002,5.0000000000005596E-4]
[null,null,null,null,null,715,1430,0.99729999999999996,4.9999999999994493E-4]
[null,null,null,null,null,716,1432,0.99790000000000001,6.0000000000004494E-4]
[null,null,null,null,null,717,1434,0.99839999999999995,4.9999999999994493E-4]
[null,null,null,null,null,718,1436,0.99890000000000001,5.0000000000005596E-4]
[null,null,null,null,null,719,1438,0.99950000000000006,6.0000000000004494E-4]
[null,null,null,null,null,720,1440,1,4.9999999999994493E-4]

{"sheet":"Lookups, Constants","index":3,"n_rows":45,"n_cols":6,"rows_kept":45,"cut":false,"hidden":false,"merged":[[0,3,0,5]]}
["Lookup Tables for Combo Boxes",null,null,"Hydraulic Constants"]
[]
["DMA Type","Code",null,null,"Gravel layer porosity: ",0.4]
["Self-Treating","STA"]
["Self-Retaining","SRA"]
["Drains to SCM","2SCM"]
["Drains to Self-Retaining","2SRA"]
[]
["SCM Type"]
["Bioretention"]
["Direct Infiltration"]
[]
["DMA Surface Types","Curve Number","Runoff Factor (WQ)"]
["Roof",98,0.9]
["Concrete or asphalt",98,0.9]
["Grouted unit pavers",98,0.9]
["Pervious concrete",null,0]
["Porous asphalt",null,0]
["Unit pavers set in sand",89,0.2]
["Open/porous pavers",null,0]
["Crushed aggregate",null,0]
["Turfblock",null,0]
["Landscape",68,0.1]
[]
["SCM Optimization"]
["Area"]
["Depth"]
[]
["USA Lookup"]
["Yes"]
["No"]
[]
["Compliance Approach"]
["Tier 2 - Treatment"]
["Tier 3 - Retention"]
[]
["Infiltration Rate"]
["HSG A/B"]
["HSG C/D"]
["Site-Specific"]
[]
["Impervious Type","Code"]
["New","NEW"]
["Replaced","RPL"]
["Replaced within a USA","RUSA"]